BEGIN:VCALENDAR
VERSION:2.0
PRODID:-//ArtsConnect Virginia - ECPv6.15.20//NONSGML v1.0//EN
CALSCALE:GREGORIAN
METHOD:PUBLISH
X-ORIGINAL-URL:https://artsconnectva.org
X-WR-CALDESC:Events for ArtsConnect Virginia
REFRESH-INTERVAL;VALUE=DURATION:PT1H
X-Robots-Tag:noindex
X-PUBLISHED-TTL:PT1H
BEGIN:VTIMEZONE
TZID:America/New_York
BEGIN:DAYLIGHT
TZOFFSETFROM:-0500
TZOFFSETTO:-0400
TZNAME:EDT
DTSTART:20240310T070000
END:DAYLIGHT
BEGIN:STANDARD
TZOFFSETFROM:-0400
TZOFFSETTO:-0500
TZNAME:EST
DTSTART:20241103T060000
END:STANDARD
BEGIN:DAYLIGHT
TZOFFSETFROM:-0500
TZOFFSETTO:-0400
TZNAME:EDT
DTSTART:20250309T070000
END:DAYLIGHT
BEGIN:STANDARD
TZOFFSETFROM:-0400
TZOFFSETTO:-0500
TZNAME:EST
DTSTART:20251102T060000
END:STANDARD
BEGIN:DAYLIGHT
TZOFFSETFROM:-0500
TZOFFSETTO:-0400
TZNAME:EDT
DTSTART:20260308T070000
END:DAYLIGHT
BEGIN:STANDARD
TZOFFSETFROM:-0400
TZOFFSETTO:-0500
TZNAME:EST
DTSTART:20261101T060000
END:STANDARD
END:VTIMEZONE
BEGIN:VEVENT
DTSTART;TZID=America/New_York:20250529T130000
DTEND;TZID=America/New_York:20250529T140000
DTSTAMP:20260420T015524
CREATED:20250508T172252Z
LAST-MODIFIED:20250508T172252Z
UID:14128-1748523600-1748527200@artsconnectva.org
SUMMARY:Singing & Smiling withe David Jones and Art Rowe
DESCRIPTION:David Jones is a guitar and singing artist and an outdoor enthusiast. He is an acoustic guitar player and singer who performs covers of various classic\, easy-listening rock and folk musicians from the 1960s-1990s\, incorporating traditional hymns at times. Art Rowe is also a guitar player and singer that performs a variety of songs from the 1950s on up. His goal is to put a smile on their face and to get people to join in and sing along.
URL:https://artsconnectva.org/event/singing-smiling-withe-david-jones-and-art-rowe/
LOCATION:VA
CATEGORIES:Outreach Program
END:VEVENT
BEGIN:VEVENT
DTSTART;TZID=America/New_York:20250529T130000
DTEND;TZID=America/New_York:20250529T140000
DTSTAMP:20260420T015524
CREATED:20250508T172538Z
LAST-MODIFIED:20250508T172538Z
UID:14130-1748523600-1748527200@artsconnectva.org
SUMMARY:Tape Painting with Heidi Ordaz
DESCRIPTION:Heidi has guided personal expression through art with a full range of ages and backgrounds. Having experienced the benefits of art herself\, Mrs. Ordaz enjoys interacting with others as they create\, to reveal their unique voice in the world.  Artists can immerse into an art experience by using traditional or experimental hands-on techniques including painting\, clay\, hand-press printmaking\, mixed media\, or crafts.
URL:https://artsconnectva.org/event/tape-painting-with-heidi-ordaz-2/
LOCATION:VA
CATEGORIES:Outreach Program
END:VEVENT
BEGIN:VEVENT
DTSTART;TZID=America/New_York:20250529T140000
DTEND;TZID=America/New_York:20250529T150000
DTSTAMP:20260420T015524
CREATED:20250508T172825Z
LAST-MODIFIED:20250508T172825Z
UID:14132-1748527200-1748530800@artsconnectva.org
SUMMARY:Keys to the Past with Christian Flores
DESCRIPTION:See Flyer
URL:https://artsconnectva.org/event/keys-to-the-past-with-christian-flores/
LOCATION:Hampton\, VA\, Hampton\, VA\, United States
CATEGORIES:Outreach Program
END:VEVENT
BEGIN:VEVENT
DTSTART;TZID=America/New_York:20250529T140000
DTEND;TZID=America/New_York:20250529T150000
DTSTAMP:20260420T015524
CREATED:20250508T173114Z
LAST-MODIFIED:20250508T173114Z
UID:14135-1748527200-1748530800@artsconnectva.org
SUMMARY:Resin Flower Suncatcher with Heather Queen
DESCRIPTION:See Flyer
URL:https://artsconnectva.org/event/resin-flower-suncatcher-with-heather-queen-2/
LOCATION:VA
CATEGORIES:Outreach Program
END:VEVENT
BEGIN:VEVENT
DTSTART;TZID=America/New_York:20250529T140000
DTEND;TZID=America/New_York:20250529T150000
DTSTAMP:20260420T015524
CREATED:20250508T173508Z
LAST-MODIFIED:20250508T173508Z
UID:14138-1748527200-1748530800@artsconnectva.org
SUMMARY:Violin Serenade with Alexandra Marlins
DESCRIPTION:Alex Marlins is a Virginia Beach native with a background in classical violin. She teaches orchestra and early strings courses and owns a private studio. Alex enjoys gigging at weddings\, holiday functions\, and as a member of Symphonicity orchestra.  Come relax and enjoy a violin serenade. Alex is trained in various styles including orchestral and holiday classics\, American and Celtic folk\, and jazz and pop favorites.
URL:https://artsconnectva.org/event/violin-serenade-with-alexandra-marlins/
LOCATION:VA
CATEGORIES:Outreach Program
END:VEVENT
BEGIN:VEVENT
DTSTART;TZID=America/New_York:20250529T150000
DTEND;TZID=America/New_York:20250529T160000
DTSTAMP:20260420T015524
CREATED:20250508T173802Z
LAST-MODIFIED:20250508T173802Z
UID:14140-1748530800-1748534400@artsconnectva.org
SUMMARY:Smooth Tunes with Art Rowe
DESCRIPTION:Art Rowe is a 25-year Navy Veteran who has been playing guitar for about five years. He performs at various local venues around the Tidewater/Hampton Roads area including many TAO partner locations.  Art plays acoustic guitar and sings and performs a variety of songs from the 1950s on up. His goal is to put a smile on their face and to get people to join in and sing along.
URL:https://artsconnectva.org/event/smooth-tunes-with-art-rowe/
LOCATION:VA
CATEGORIES:Outreach Program
END:VEVENT
BEGIN:VEVENT
DTSTART;TZID=America/New_York:20250529T153000
DTEND;TZID=America/New_York:20250529T163000
DTSTAMP:20260420T015524
CREATED:20250508T174044Z
LAST-MODIFIED:20250508T174044Z
UID:14142-1748532600-1748536200@artsconnectva.org
SUMMARY:Lady Face Pots with Rhona Dawson
DESCRIPTION:Rhona Dawson grew up an artist by both very creative parents. She feels that creativity lives inside everyone. She’s been an artist working out which programs work best for many years and find great pleasure and satisfaction in helping others through the arts.  Rhona instructs visual arts (painting\, etc.) and creative arts (crafting). Her objective is to design and instruct visual art projects and crafting projects that can be adapted for any level of ability.
URL:https://artsconnectva.org/event/lady-face-pots-with-rhona-dawson/
LOCATION:VA
CATEGORIES:Outreach Program
END:VEVENT
BEGIN:VEVENT
DTSTART;TZID=America/New_York:20250530T123000
DTEND;TZID=America/New_York:20250530T133000
DTSTAMP:20260420T015524
CREATED:20250508T174826Z
LAST-MODIFIED:20250508T174826Z
UID:14144-1748608200-1748611800@artsconnectva.org
SUMMARY:Timeless Tunes with The Elderly Brothers
DESCRIPTION:The Elderly Brothers were formed and registered with the Barbershop Harmony Society (BHS) in 2020. We have performed all over southeast Virginia from Richmond to Virginia Beach. A TAO artist since 2021\, we have over 170 years in BHS. A barbershop quartet singing barbershop harmony music with some examples explaining what that is. Frequently\, we have sing-a-longs with the audience and (clean) jokes as part of our entertainment.
URL:https://artsconnectva.org/event/timeless-tunes-with-the-elderly-brothers/
LOCATION:VA
CATEGORIES:Outreach Program
END:VEVENT
BEGIN:VEVENT
DTSTART;TZID=America/New_York:20250530T140000
DTEND;TZID=America/New_York:20250530T150000
DTSTAMP:20260420T015524
CREATED:20250508T175131Z
LAST-MODIFIED:20250508T175131Z
UID:14146-1748613600-1748617200@artsconnectva.org
SUMMARY:Tape Painting with Adrienne Searle
DESCRIPTION:Adrienne Searle is a virtual and musical artist. In her encore career\, Adrienne is forging a path I love by pairing my passion and talents for music and art with the needs and desires of the ever-aging population.  One music program is Sing-along to hits of the 50’s & 60’s the other music program is called Melody Memories. Visual arts programs include acrylic paints\, paint pens\, watercolors\, and more.
URL:https://artsconnectva.org/event/tape-painting-with-adrienne-searle/
LOCATION:VA
CATEGORIES:Outreach Program
END:VEVENT
BEGIN:VEVENT
DTSTART;TZID=America/New_York:20250530T140000
DTEND;TZID=America/New_York:20250530T150000
DTSTAMP:20260420T015524
CREATED:20250508T175805Z
LAST-MODIFIED:20250508T175805Z
UID:14148-1748613600-1748617200@artsconnectva.org
SUMMARY:Happy Hour with Ascension Melodies
DESCRIPTION:  \nAscension Melodies was created by Lisa Villa and Rebecca Antonio. They have played together for a variety of different programs serving as musicians in their church choir. They were looking to play more music together and serve the local community\, Tidewater Arts provided a great avenue to do just that. \n 
URL:https://artsconnectva.org/event/happy-hour-with-ascension-melodies/
LOCATION:Virginia Beach\, VA\, Virginia Beach\, VA\, United States
CATEGORIES:Outreach Program
END:VEVENT
BEGIN:VEVENT
DTSTART;TZID=America/New_York:20250530T150000
DTEND;TZID=America/New_York:20250530T160000
DTSTAMP:20260420T015524
CREATED:20250508T180348Z
LAST-MODIFIED:20250508T180348Z
UID:14151-1748617200-1748620800@artsconnectva.org
SUMMARY:Mix of Classic Hits with Christian Flores
DESCRIPTION:See Flyer
URL:https://artsconnectva.org/event/mix-of-classic-hits-with-christian-flores/
LOCATION:VA
CATEGORIES:Outreach Program
END:VEVENT
BEGIN:VEVENT
DTSTART;TZID=America/New_York:20250531T100000
DTEND;TZID=America/New_York:20250531T110000
DTSTAMP:20260420T015524
CREATED:20250418T204414Z
LAST-MODIFIED:20250508T174502Z
UID:13811-1748685600-1748689200@artsconnectva.org
SUMMARY:Expressive Painting on Canvas with Heidi Ordaz
DESCRIPTION:See Flyer
URL:https://artsconnectva.org/event/expressive-painting-on-canvas-with-heidi-ordaz/
LOCATION:VA
CATEGORIES:Outreach Program
END:VEVENT
BEGIN:VEVENT
DTSTART;TZID=America/New_York:20250601T130000
DTEND;TZID=America/New_York:20250601T140000
DTSTAMP:20260420T015524
CREATED:20250424T130150Z
LAST-MODIFIED:20250424T130150Z
UID:13892-1748782800-1748786400@artsconnectva.org
SUMMARY:Flower Power with Maggie Kerrigan
DESCRIPTION:Maggie Kerrigan is an award-winning visual artist with an extensive background in both art and education.  Maggie leads groups in guided painting activities that include plenty of discussion.  Her projects are designed for maximum success with people who have never painted before.
URL:https://artsconnectva.org/event/flower-power-with-maggie-kerrigan/
LOCATION:VA
CATEGORIES:Outreach Program
END:VEVENT
BEGIN:VEVENT
DTSTART;TZID=America/New_York:20250602T110000
DTEND;TZID=America/New_York:20250602T120000
DTSTAMP:20260420T015524
CREATED:20250430T143802Z
LAST-MODIFIED:20250430T172501Z
UID:13943-1748862000-1748865600@artsconnectva.org
SUMMARY:Sing-along & Smile with Art Rowe
DESCRIPTION:See Flyer
URL:https://artsconnectva.org/event/sing-along-smile-with-art-rowe/
LOCATION:VA
CATEGORIES:Outreach Program
END:VEVENT
BEGIN:VEVENT
DTSTART;TZID=America/New_York:20250602T140000
DTEND;TZID=America/New_York:20250602T150000
DTSTAMP:20260420T015524
CREATED:20250529T143612Z
LAST-MODIFIED:20250529T143612Z
UID:14352-1748872800-1748876400@artsconnectva.org
SUMMARY:Moon Over the Mountain with Maggie Kerrigan
DESCRIPTION:See Flyer
URL:https://artsconnectva.org/event/moon-over-the-mountain-with-maggie-kerrigan/
LOCATION:VA
CATEGORIES:Outreach Program
END:VEVENT
BEGIN:VEVENT
DTSTART;TZID=America/New_York:20250603T133000
DTEND;TZID=America/New_York:20250603T143000
DTSTAMP:20260420T015524
CREATED:20250521T192949Z
LAST-MODIFIED:20250521T192949Z
UID:14235-1748957400-1748961000@artsconnectva.org
SUMMARY:Origami Flowers with Valerie Mosby
DESCRIPTION:See Flyer
URL:https://artsconnectva.org/event/origami-flowers-with-valerie-mosby/
LOCATION:VA
CATEGORIES:Outreach Program
END:VEVENT
BEGIN:VEVENT
DTSTART;TZID=America/New_York:20250603T133000
DTEND;TZID=America/New_York:20250603T143000
DTSTAMP:20260420T015524
CREATED:20250529T143902Z
LAST-MODIFIED:20250529T143902Z
UID:14355-1748957400-1748961000@artsconnectva.org
SUMMARY:Keep the Beat Social with Ava Stevenson
DESCRIPTION:Ava is a recent graduate from Old Dominion University\, has been performing since she could talk. She currently sings with the Doorway Singers and is in the adult chorus with Virginia Opera. When not performing\, she’s usually crafting or dancing. Ava Stevenson currently has two programs that she has performed. She has a golden oldies program that includes hits of the 40s\, 50s\, 60s\, and 70s as well as a show tunes set that mainly shows off her opera chops and musical theatre rep.\, Also Line Dancing
URL:https://artsconnectva.org/event/keep-the-beat-social-with-ava-stevenson/
LOCATION:VA
CATEGORIES:Outreach Program
END:VEVENT
BEGIN:VEVENT
DTSTART;TZID=America/New_York:20250603T133000
DTEND;TZID=America/New_York:20250603T143000
DTSTAMP:20260420T015524
CREATED:20250529T144118Z
LAST-MODIFIED:20250529T144118Z
UID:14359-1748957400-1748961000@artsconnectva.org
SUMMARY:Mixed Media with Stephanie Slate
DESCRIPTION:See Flyer
URL:https://artsconnectva.org/event/mixed-media-with-stephanie-slate/
LOCATION:VA
CATEGORIES:Outreach Program
END:VEVENT
BEGIN:VEVENT
DTSTART;TZID=America/New_York:20250603T140000
DTEND;TZID=America/New_York:20250603T150000
DTSTAMP:20260420T015524
CREATED:20250529T144340Z
LAST-MODIFIED:20250529T144340Z
UID:14363-1748959200-1748962800@artsconnectva.org
SUMMARY:Popular Songs: 40s to 80s with Mary Saunders
DESCRIPTION:See Flyer
URL:https://artsconnectva.org/event/popular-songs-40s-to-80s-with-mary-saunders/
LOCATION:VA
CATEGORIES:Outreach Program
END:VEVENT
BEGIN:VEVENT
DTSTART;TZID=America/New_York:20250603T140000
DTEND;TZID=America/New_York:20250603T150000
DTSTAMP:20260420T015524
CREATED:20250529T144628Z
LAST-MODIFIED:20250529T144628Z
UID:14366-1748959200-1748962800@artsconnectva.org
SUMMARY:Remembering Popular Songs from 1950's & 60's with Daniel Smith
DESCRIPTION:See Flyer
URL:https://artsconnectva.org/event/remembering-popular-songs-from-1950s-60s-with-daniel-smith/
LOCATION:VA
CATEGORIES:Outreach Program
END:VEVENT
BEGIN:VEVENT
DTSTART;TZID=America/New_York:20250603T153000
DTEND;TZID=America/New_York:20250603T163000
DTSTAMP:20260420T015524
CREATED:20250529T145036Z
LAST-MODIFIED:20250529T145036Z
UID:14369-1748964600-1748968200@artsconnectva.org
SUMMARY:Musical Journey with Stephen Christoff
DESCRIPTION:See Flyer \nDue to construction\, please enter through the church’s main entrance\, take the elevator down to the basement\, turn right and go to room 174.
URL:https://artsconnectva.org/event/musical-journey-with-stephen-christoff/
LOCATION:VA
CATEGORIES:Outreach Program
END:VEVENT
BEGIN:VEVENT
DTSTART;TZID=America/New_York:20250604T130000
DTEND;TZID=America/New_York:20250604T140000
DTSTAMP:20260420T015524
CREATED:20250509T151556Z
LAST-MODIFIED:20250520T194019Z
UID:14164-1749042000-1749045600@artsconnectva.org
SUMMARY:Move and Groove with Tenecia Newman
DESCRIPTION:See Flyer \n  \nProgram takes place at Partrea Apartments located at 701 Easy Street\, Norfolk.
URL:https://artsconnectva.org/event/move-and-groove-with-tenecia-newman/
LOCATION:VA
CATEGORIES:Outreach Program
END:VEVENT
BEGIN:VEVENT
DTSTART;TZID=America/New_York:20250604T143000
DTEND;TZID=America/New_York:20250604T153000
DTSTAMP:20260420T015524
CREATED:20250428T174308Z
LAST-MODIFIED:20250509T185013Z
UID:13924-1749047400-1749051000@artsconnectva.org
SUMMARY:Round Suncatcher with Heather Queen
DESCRIPTION:See Flyer
URL:https://artsconnectva.org/event/round-suncatcher-with-heather-queen/
LOCATION:VA
CATEGORIES:Outreach Program
END:VEVENT
BEGIN:VEVENT
DTSTART;TZID=America/New_York:20250604T143000
DTEND;TZID=America/New_York:20250604T153000
DTSTAMP:20260420T015524
CREATED:20250528T151908Z
LAST-MODIFIED:20250528T151908Z
UID:14321-1749047400-1749051000@artsconnectva.org
SUMMARY:Round Suncatcher with Heather Queen
DESCRIPTION:See Flyer
URL:https://artsconnectva.org/event/round-suncatcher-with-heather-queen-2/
LOCATION:Norfolk\, VA\, Norfolk\, VA\, United States
CATEGORIES:Outreach Program
END:VEVENT
BEGIN:VEVENT
DTSTART;TZID=America/New_York:20250605T130000
DTEND;TZID=America/New_York:20250605T140000
DTSTAMP:20260420T015524
CREATED:20250424T185245Z
LAST-MODIFIED:20250424T185245Z
UID:13904-1749128400-1749132000@artsconnectva.org
SUMMARY:Music Memories with Will Brooks
DESCRIPTION:Will Brooks started his musical journey in a car seat listening to The Beatles. Will’s programs blend hits and lesser known from the 60s and 70s with modern covers\, original works\, and spontaneous improvisations.  His performance offers dynamic and engaging musical journeys.
URL:https://artsconnectva.org/event/music-memories-with-will-brooks/
LOCATION:VA
CATEGORIES:Outreach Program
END:VEVENT
BEGIN:VEVENT
DTSTART;TZID=America/New_York:20250605T130000
DTEND;TZID=America/New_York:20250605T140000
DTSTAMP:20260420T015524
CREATED:20250521T201726Z
LAST-MODIFIED:20250521T201726Z
UID:14238-1749128400-1749132000@artsconnectva.org
SUMMARY:Flower Power with Maggie Kerrigan
DESCRIPTION:See Flyer
URL:https://artsconnectva.org/event/flower-power-with-maggie-kerrigan-4/
LOCATION:VA
CATEGORIES:Outreach Program
END:VEVENT
BEGIN:VEVENT
DTSTART;TZID=America/New_York:20250605T140000
DTEND;TZID=America/New_York:20250605T150000
DTSTAMP:20260420T015524
CREATED:20250502T182754Z
LAST-MODIFIED:20250502T182754Z
UID:13952-1749132000-1749135600@artsconnectva.org
SUMMARY:Painting Rainbows with Stephanie Slate
DESCRIPTION:See Flyer
URL:https://artsconnectva.org/event/painting-rainbows-with-stephanie-slate/
LOCATION:VA
CATEGORIES:Outreach Program
END:VEVENT
BEGIN:VEVENT
DTSTART;TZID=America/New_York:20250605T140000
DTEND;TZID=America/New_York:20250605T150000
DTSTAMP:20260420T015524
CREATED:20250529T145359Z
LAST-MODIFIED:20250529T145651Z
UID:14372-1749132000-1749135600@artsconnectva.org
SUMMARY:Songs from the Past with Arthur Rowe
DESCRIPTION:Art is a 25-year Navy Veteran who has been playing guitar for about five years. He performs at various local venues around the Tidewater/Hampton Roads area including many TAO partner locations.. Art plays acoustic guitar and sings and performs a variety of songs from the 1950s on up. His goal is to put a smile on their face and to get people to join in and sing along.
URL:https://artsconnectva.org/event/songs-from-the-past-with-arthur-rowe/
LOCATION:VA
CATEGORIES:Outreach Program
END:VEVENT
BEGIN:VEVENT
DTSTART;TZID=America/New_York:20250605T140000
DTEND;TZID=America/New_York:20250605T150000
DTSTAMP:20260420T015525
CREATED:20250529T145559Z
LAST-MODIFIED:20250529T145559Z
UID:14374-1749132000-1749135600@artsconnectva.org
SUMMARY:Stage & Song with Ava Stevenson
DESCRIPTION:Ava\, a recent graduate from Old Dominion University\, has been performing since she could talk. She currently sings with the Doorway Singers and is in the adult chorus with Virginia Opera. When not performing\, she’s usually crafting or dancing. Ava currently has two programs that she has performed. She has a golden oldies program that includes hits of the 40s\, 50s\, 60s\, and 70s as well as a show tunes set that mainly shows off her opera chops and musical theatre re
URL:https://artsconnectva.org/event/stage-song-with-ava-stevenson/
LOCATION:VA
CATEGORIES:Outreach Program
END:VEVENT
BEGIN:VEVENT
DTSTART;TZID=America/New_York:20250605T150000
DTEND;TZID=America/New_York:20250605T160000
DTSTAMP:20260420T015525
CREATED:20250529T145824Z
LAST-MODIFIED:20250529T145824Z
UID:14376-1749135600-1749139200@artsconnectva.org
SUMMARY:Musical Duo with Dan & Laura
DESCRIPTION:Dan is a native of Long Island\, New York. Formal music training at Manhattan School of Music in NYC. Retired from the U S Army band field\, Ft Monroe\, VA. Served as oboe instructor and head of the woodwind branch of the Armed Forces School of Music\, Little Creek\, VA. His programs include primarily popular music of the 1950s and “60s including Elvis and other iconic musicians of the time. Additional programs include Motown\, Oktoberfest\, and Mardi Gras. As a single with keyboard/Vocals or duo with saxophone or trumpet.
URL:https://artsconnectva.org/event/musical-duo-with-dan-laura/
LOCATION:Norfolk\, VA\, Norfolk\, VA\, United States
CATEGORIES:Outreach Program
END:VEVENT
END:VCALENDAR