BEGIN:VCALENDAR
VERSION:2.0
PRODID:-//ArtsConnect Virginia - ECPv6.15.20//NONSGML v1.0//EN
CALSCALE:GREGORIAN
METHOD:PUBLISH
X-ORIGINAL-URL:https://artsconnectva.org
X-WR-CALDESC:Events for ArtsConnect Virginia
REFRESH-INTERVAL;VALUE=DURATION:PT1H
X-Robots-Tag:noindex
X-PUBLISHED-TTL:PT1H
BEGIN:VTIMEZONE
TZID:America/New_York
BEGIN:DAYLIGHT
TZOFFSETFROM:-0500
TZOFFSETTO:-0400
TZNAME:EDT
DTSTART:20240310T070000
END:DAYLIGHT
BEGIN:STANDARD
TZOFFSETFROM:-0400
TZOFFSETTO:-0500
TZNAME:EST
DTSTART:20241103T060000
END:STANDARD
BEGIN:DAYLIGHT
TZOFFSETFROM:-0500
TZOFFSETTO:-0400
TZNAME:EDT
DTSTART:20250309T070000
END:DAYLIGHT
BEGIN:STANDARD
TZOFFSETFROM:-0400
TZOFFSETTO:-0500
TZNAME:EST
DTSTART:20251102T060000
END:STANDARD
BEGIN:DAYLIGHT
TZOFFSETFROM:-0500
TZOFFSETTO:-0400
TZNAME:EDT
DTSTART:20260308T070000
END:DAYLIGHT
BEGIN:STANDARD
TZOFFSETFROM:-0400
TZOFFSETTO:-0500
TZNAME:EST
DTSTART:20261101T060000
END:STANDARD
END:VTIMEZONE
BEGIN:VEVENT
DTSTART;TZID=America/New_York:20250404T160000
DTEND;TZID=America/New_York:20250404T170000
DTSTAMP:20260419T212337
CREATED:20250326T223729Z
LAST-MODIFIED:20250326T223729Z
UID:13501-1743782400-1743786000@artsconnectva.org
SUMMARY:Happy Hour with Savannah Howell
DESCRIPTION:View Flyer
URL:https://artsconnectva.org/event/happy-hour-with-savannah-howell/
LOCATION:Norfolk\, VA\, Norfolk\, VA\, United States
CATEGORIES:Outreach Program
END:VEVENT
BEGIN:VEVENT
DTSTART;TZID=America/New_York:20250405T173000
DTEND;TZID=America/New_York:20250405T190000
DTSTAMP:20260419T212337
CREATED:20250314T003915Z
LAST-MODIFIED:20250326T224238Z
UID:13398-1743874200-1743879600@artsconnectva.org
SUMMARY:Building Birdhouses with Village Studio Arts
DESCRIPTION:Let’s make birdhouses with Village Studio Arts! \nOpen to Adults with Autism and their families. \nRegistration:\nhttps://tidewaterasa.formstack.com/forms/awesomeautisticadultsartprogram \nWaiver:\nhttps://tidewaterasa.formstack.com/forms/awesomeadultsartprogramwaiver \nThe Autism Society Tidewater Virginia is thrilled to announce the return of our Awesome Artistic Adults Arts Program in partnership with Tidewater Arts Outreach (TAO). We invite adults with Autism to join us at the Village Studio Arts in Newport News from 5:30 to 7:00 PM. Please feel free to visit the Village Studio Arts’ website\, https://www.villagestudioarts.com/. \nThis event is limited to 12 people per class\, and everyone is sitting next to each other. Thank you! \nFor more information\, please reach out to Brittany Fitzgerald brittany.fitzgerald@tidewaterasa.org.
URL:https://artsconnectva.org/event/building-birdhouses-with-village-studio-arts/
LOCATION:Village Studio Arts\, 10864 Warwick Boulevard\, Newport News\, VA\, 23601\, United States
CATEGORIES:Open to the Public,Outreach Program
END:VEVENT
BEGIN:VEVENT
DTSTART;TZID=America/New_York:20250407T103000
DTEND;TZID=America/New_York:20250407T113000
DTSTAMP:20260419T212337
CREATED:20250314T005257Z
LAST-MODIFIED:20250314T005257Z
UID:13400-1744021800-1744025400@artsconnectva.org
SUMMARY:Chair Yoga with Teri
DESCRIPTION:Join Teri for a senior-friendly chair yoga!
URL:https://artsconnectva.org/event/chair-yoga-with-teri-2/
LOCATION:VA
CATEGORIES:Outreach Program
END:VEVENT
BEGIN:VEVENT
DTSTART;TZID=America/New_York:20250407T140000
DTEND;TZID=America/New_York:20250407T150000
DTSTAMP:20260419T212337
CREATED:20250314T005421Z
LAST-MODIFIED:20250314T005421Z
UID:13402-1744034400-1744038000@artsconnectva.org
SUMMARY:Tune Time with Linda and Lyle
DESCRIPTION:View Flyer
URL:https://artsconnectva.org/event/tune-time-with-linda-and-lyle/
LOCATION:VA
CATEGORIES:Outreach Program
END:VEVENT
BEGIN:VEVENT
DTSTART;TZID=America/New_York:20250408T133000
DTEND;TZID=America/New_York:20250408T143000
DTSTAMP:20260419T212337
CREATED:20250314T005559Z
LAST-MODIFIED:20250314T005559Z
UID:13405-1744119000-1744122600@artsconnectva.org
SUMMARY:Keep the Beat Social with Melissa Cartwright
DESCRIPTION:View Flyer
URL:https://artsconnectva.org/event/keep-the-beat-social-with-melissa-cartwright/
LOCATION:VA
CATEGORIES:Outreach Program
END:VEVENT
BEGIN:VEVENT
DTSTART;TZID=America/New_York:20250408T140000
DTEND;TZID=America/New_York:20250408T150000
DTSTAMP:20260419T212337
CREATED:20250326T224531Z
LAST-MODIFIED:20250326T224531Z
UID:13509-1744120800-1744124400@artsconnectva.org
SUMMARY:Piano Tunes with Christian Flores
DESCRIPTION:View Flyer
URL:https://artsconnectva.org/event/piano-tunes-with-christian-flores-27/
LOCATION:VA
CATEGORIES:Outreach Program
END:VEVENT
BEGIN:VEVENT
DTSTART;TZID=America/New_York:20250408T140000
DTEND;TZID=America/New_York:20250408T150000
DTSTAMP:20260419T212337
CREATED:20250326T225136Z
LAST-MODIFIED:20250326T225136Z
UID:13515-1744120800-1744124400@artsconnectva.org
SUMMARY:Resin Flower Suncatcher with Heather Queen
DESCRIPTION:View Flyer \n  \n 
URL:https://artsconnectva.org/event/resin-flower-suncatcher-with-heather-queen/
LOCATION:VA
CATEGORIES:Outreach Program
END:VEVENT
BEGIN:VEVENT
DTSTART;TZID=America/New_York:20250408T140000
DTEND;TZID=America/New_York:20250408T150000
DTSTAMP:20260419T212337
CREATED:20250326T225250Z
LAST-MODIFIED:20250326T225250Z
UID:13518-1744120800-1744124400@artsconnectva.org
SUMMARY:Strummin' and Pickin' with Gee Whiz
DESCRIPTION:View Flyer
URL:https://artsconnectva.org/event/strummin-and-pickin-with-gee-whiz-2/
LOCATION:VA
CATEGORIES:Outreach Program
END:VEVENT
BEGIN:VEVENT
DTSTART;TZID=America/New_York:20250408T144500
DTEND;TZID=America/New_York:20250408T160000
DTSTAMP:20260419T212337
CREATED:20250326T224358Z
LAST-MODIFIED:20250326T224358Z
UID:13506-1744123500-1744128000@artsconnectva.org
SUMMARY:Tides and Tunes with Savannah Howell
DESCRIPTION:View Flyer
URL:https://artsconnectva.org/event/tides-and-tunes-with-savannah-howell/
LOCATION:VA
CATEGORIES:Outreach Program
END:VEVENT
BEGIN:VEVENT
DTSTART;TZID=America/New_York:20250408T150000
DTEND;TZID=America/New_York:20250408T160000
DTSTAMP:20260419T212337
CREATED:20250326T224656Z
LAST-MODIFIED:20250326T224656Z
UID:13512-1744124400-1744128000@artsconnectva.org
SUMMARY:Blooming Beauty with Rhona Dawson
DESCRIPTION:View Flyer
URL:https://artsconnectva.org/event/blooming-beauty-with-rhona-dawson-2/
LOCATION:VA
CATEGORIES:Outreach Program
END:VEVENT
BEGIN:VEVENT
DTSTART;TZID=America/New_York:20250408T153000
DTEND;TZID=America/New_York:20250408T163000
DTSTAMP:20260419T212337
CREATED:20250314T005728Z
LAST-MODIFIED:20250314T005728Z
UID:13408-1744126200-1744129800@artsconnectva.org
SUMMARY:All the Favorites with Dan Smith
DESCRIPTION:View Flyer
URL:https://artsconnectva.org/event/all-the-favorites-with-dan-smith-6/
LOCATION:VA
CATEGORIES:Outreach Program
END:VEVENT
BEGIN:VEVENT
DTSTART;TZID=America/New_York:20250409T100000
DTEND;TZID=America/New_York:20250409T120000
DTSTAMP:20260419T212337
CREATED:20250326T225550Z
LAST-MODIFIED:20250326T225550Z
UID:13522-1744192800-1744200000@artsconnectva.org
SUMMARY:Feel Good Sunshine Tote Bag
DESCRIPTION:Program done in partnership with Suffolk Parks and Recreation and Suffolk Center for the Cultural Arts. \nRegister here: Catalog – Suffolk Parks & Recreation
URL:https://artsconnectva.org/event/feel-good-sunshine-tote-bag/
LOCATION:Suffolk Center for the Cultural Arts\, 110 W Finney Ave\, Suffolk\, VA\, 23434\, United States
CATEGORIES:Open to the Public,Outreach Program
END:VEVENT
BEGIN:VEVENT
DTSTART;TZID=America/New_York:20250409T103000
DTEND;TZID=America/New_York:20250409T113000
DTSTAMP:20260419T212337
CREATED:20250325T010015Z
LAST-MODIFIED:20250325T010015Z
UID:13442-1744194600-1744198200@artsconnectva.org
SUMMARY:Tunes and Blooms with Ashley Canyon
DESCRIPTION:Ashley-Michele is a visual artist dedicated to making art more accessible within her community. She is actively involved in community-driven art initiatives\, collaborating with organizations that promote creative opportunities for all.
URL:https://artsconnectva.org/event/tunes-and-blooms-with-ashley-canyon/
LOCATION:VA
CATEGORIES:Outreach Program
END:VEVENT
BEGIN:VEVENT
DTSTART;TZID=America/New_York:20250409T111500
DTEND;TZID=America/New_York:20250409T121500
DTSTAMP:20260419T212337
CREATED:20250314T005905Z
LAST-MODIFIED:20250314T005905Z
UID:13411-1744197300-1744200900@artsconnectva.org
SUMMARY:Favorite Throwbacks with Dan Smith
DESCRIPTION:View Flyer
URL:https://artsconnectva.org/event/favorite-throwbacks-with-dan-smith-18/
LOCATION:VA
CATEGORIES:Outreach Program
END:VEVENT
BEGIN:VEVENT
DTSTART;TZID=America/New_York:20250409T140000
DTEND;TZID=America/New_York:20250409T150000
DTSTAMP:20260419T212337
CREATED:20250314T010205Z
LAST-MODIFIED:20250314T010205Z
UID:13415-1744207200-1744210800@artsconnectva.org
SUMMARY:Cards and More with Sandy
DESCRIPTION:View Flyer
URL:https://artsconnectva.org/event/cards-and-more-with-sandy-3/
LOCATION:VA
CATEGORIES:Outreach Program
END:VEVENT
BEGIN:VEVENT
DTSTART;TZID=America/New_York:20250409T140000
DTEND;TZID=America/New_York:20250409T150000
DTSTAMP:20260419T212337
CREATED:20250325T011955Z
LAST-MODIFIED:20250325T011955Z
UID:13447-1744207200-1744210800@artsconnectva.org
SUMMARY:The Art of Harmony with The Elderly Brothers
DESCRIPTION:View Flyer
URL:https://artsconnectva.org/event/the-art-of-harmony-with-the-elderly-brothers/
LOCATION:VA
CATEGORIES:Outreach Program
END:VEVENT
BEGIN:VEVENT
DTSTART;TZID=America/New_York:20250409T140000
DTEND;TZID=America/New_York:20250409T150000
DTSTAMP:20260419T212337
CREATED:20250326T225709Z
LAST-MODIFIED:20250326T225709Z
UID:13524-1744207200-1744210800@artsconnectva.org
SUMMARY:Musical Journey with TattLeeMark
DESCRIPTION:View Flyer
URL:https://artsconnectva.org/event/musical-journey-with-tattleemark/
LOCATION:Portsmouth\, VA\, Portsmouth\, VA\, United States
CATEGORIES:Outreach Program
END:VEVENT
BEGIN:VEVENT
DTSTART;TZID=America/New_York:20250409T143000
DTEND;TZID=America/New_York:20250409T153000
DTSTAMP:20260419T212337
CREATED:20250325T010801Z
LAST-MODIFIED:20250325T010801Z
UID:13444-1744209000-1744212600@artsconnectva.org
SUMMARY:Tunes and Petals with Ashley Cayon
DESCRIPTION:View Flyer
URL:https://artsconnectva.org/event/tunes-and-petals-with-ashley-cayon/
LOCATION:VA
CATEGORIES:Outreach Program
END:VEVENT
BEGIN:VEVENT
DTSTART;TZID=America/New_York:20250409T150000
DTEND;TZID=America/New_York:20250409T160000
DTSTAMP:20260419T212337
CREATED:20250326T225830Z
LAST-MODIFIED:20250326T225830Z
UID:13528-1744210800-1744214400@artsconnectva.org
SUMMARY:Paint Party with Heidi Ordaz
DESCRIPTION:View Flyer
URL:https://artsconnectva.org/event/paint-party-with-heidi-ordaz/
LOCATION:Chesapeake\, VA\, Chesapeake\, VA\, United States
CATEGORIES:Outreach Program
END:VEVENT
BEGIN:VEVENT
DTSTART;TZID=America/New_York:20250409T170000
DTEND;TZID=America/New_York:20250409T200000
DTSTAMP:20260419T212337
CREATED:20250322T155759Z
LAST-MODIFIED:20250322T160002Z
UID:13438-1744218000-1744228800@artsconnectva.org
SUMMARY:Party of the Ages
DESCRIPTION:Song and Art Celebrating the older adults of Hampton Roads. A fundraiser for Tidewater Arts Outreach! \nIndividual Tickets on sale for $50! Get your tickets before we sell out! \nPurchase tickets: Party of the Ages – Tidewater Arts Outreach
URL:https://artsconnectva.org/event/party-of-the-ages/
LOCATION:Zeiders American Dream Theater\, 4509 Commerce St\, Virginia Beach\, VA\, 23462\, United States
CATEGORIES:Fundraising Event,Open to the Public,Special Event
END:VEVENT
BEGIN:VEVENT
DTSTART;TZID=America/New_York:20250410T130000
DTEND;TZID=America/New_York:20250410T140000
DTSTAMP:20260419T212337
CREATED:20250314T010305Z
LAST-MODIFIED:20250314T010305Z
UID:13418-1744290000-1744293600@artsconnectva.org
SUMMARY:Our Teenage Years with Dan Smith
DESCRIPTION:Enjoy a live performance of popular music from the 1940s\, 1950s and 1960s featuring big band\, classic country\, Elvis Presley\, Pat Boone\, and other icons of the era.
URL:https://artsconnectva.org/event/our-teenage-years-with-dan-smith/
LOCATION:VA
CATEGORIES:Outreach Program
END:VEVENT
BEGIN:VEVENT
DTSTART;TZID=America/New_York:20250410T140000
DTEND;TZID=America/New_York:20250410T150000
DTSTAMP:20260419T212337
CREATED:20250325T012522Z
LAST-MODIFIED:20250325T012522Z
UID:13450-1744293600-1744297200@artsconnectva.org
SUMMARY:Sing Along Favorites with Mary Saunders
DESCRIPTION:Mary has been playing guitar since she was ten years old. She calls herself an old “folkie” who loves to lead sing alongs. Mary enjoys it best when people are smiling and singing with her. Mary is well known in the local open mic music community
URL:https://artsconnectva.org/event/sing-along-favorites-with-mary-saunders-2/
LOCATION:VA
CATEGORIES:Outreach Program
END:VEVENT
BEGIN:VEVENT
DTSTART;TZID=America/New_York:20250410T150000
DTEND;TZID=America/New_York:20250410T160000
DTSTAMP:20260419T212337
CREATED:20250325T013547Z
LAST-MODIFIED:20250325T013547Z
UID:13452-1744297200-1744300800@artsconnectva.org
SUMMARY:Acoustic Afternoon with Will Brooks
DESCRIPTION:View Flyer
URL:https://artsconnectva.org/event/acoustic-afternoon-with-will-brooks/
LOCATION:VA
CATEGORIES:Outreach Program
END:VEVENT
BEGIN:VEVENT
DTSTART;TZID=America/New_York:20250411T140000
DTEND;TZID=America/New_York:20250411T150000
DTSTAMP:20260419T212337
CREATED:20250326T230108Z
LAST-MODIFIED:20250326T230108Z
UID:13531-1744380000-1744383600@artsconnectva.org
SUMMARY:Happy Hour with Dan Smith
DESCRIPTION:Participants are sure to enjoy music from the 50s and 60s\, perfect to sing along with\, or simply listen.
URL:https://artsconnectva.org/event/happy-hour-with-dan-smith-17/
LOCATION:VA
CATEGORIES:Outreach Program
END:VEVENT
BEGIN:VEVENT
DTSTART;TZID=America/New_York:20250411T140000
DTEND;TZID=America/New_York:20250411T150000
DTSTAMP:20260419T212337
CREATED:20250326T230212Z
LAST-MODIFIED:20250326T230212Z
UID:13533-1744380000-1744383600@artsconnectva.org
SUMMARY:Trumpet Tunes with Chad McGill
DESCRIPTION:View Flyer
URL:https://artsconnectva.org/event/trumpet-tunes-with-chad-mcgill-34/
LOCATION:Norfolk\, VA\, Norfolk\, VA\, United States
CATEGORIES:Outreach Program
END:VEVENT
BEGIN:VEVENT
DTSTART;TZID=America/New_York:20250411T150000
DTEND;TZID=America/New_York:20250411T160000
DTSTAMP:20260419T212337
CREATED:20250326T230334Z
LAST-MODIFIED:20250326T230334Z
UID:13536-1744383600-1744387200@artsconnectva.org
SUMMARY:Jammin' with The Earthtones
DESCRIPTION:View Flyer
URL:https://artsconnectva.org/event/jammin-with-the-earthtones/
LOCATION:Hampton\, VA\, Hampton\, VA\, United States
CATEGORIES:Outreach Program
END:VEVENT
BEGIN:VEVENT
DTSTART;TZID=America/New_York:20250412T140000
DTEND;TZID=America/New_York:20250412T150000
DTSTAMP:20260419T212337
CREATED:20250326T230443Z
LAST-MODIFIED:20250326T230443Z
UID:13539-1744466400-1744470000@artsconnectva.org
SUMMARY:Step by Step Painting with Heidi Ordaz
DESCRIPTION:View Flyer
URL:https://artsconnectva.org/event/step-by-step-painting-with-heidi-ordaz/
LOCATION:Hampton\, VA\, Hampton\, VA\, United States
CATEGORIES:Outreach Program
END:VEVENT
BEGIN:VEVENT
DTSTART;TZID=America/New_York:20250414T110000
DTEND;TZID=America/New_York:20250414T120000
DTSTAMP:20260419T212337
CREATED:20250326T230701Z
LAST-MODIFIED:20250326T230701Z
UID:13542-1744628400-1744632000@artsconnectva.org
SUMMARY:Creating with Clay with Camille Donne
DESCRIPTION:Participants will work with clay to create unique pieces of art which will be collected and fired in a kiln.
URL:https://artsconnectva.org/event/creating-with-clay-with-camille-donne/
LOCATION:Newport News\, VA\, Newport News\, VA\, United States
CATEGORIES:Outreach Program
END:VEVENT
BEGIN:VEVENT
DTSTART;TZID=America/New_York:20250414T110000
DTEND;TZID=America/New_York:20250414T120000
DTSTAMP:20260419T212337
CREATED:20250326T230824Z
LAST-MODIFIED:20250326T231157Z
UID:13544-1744628400-1744632000@artsconnectva.org
SUMMARY:Spring Tulip Painted Glass with Rhona Dawson
DESCRIPTION:View Flyer \nRegistration is required. Call (757) 222-4527.
URL:https://artsconnectva.org/event/spring-tulip-painted-glass/
LOCATION:Hayden Village Center\, 680 Oak St\, Franklin\, VA\, 23851\, United States
CATEGORIES:Open to the Public,Outreach Program
END:VEVENT
BEGIN:VEVENT
DTSTART;TZID=America/New_York:20250414T140000
DTEND;TZID=America/New_York:20250414T150000
DTSTAMP:20260419T212337
CREATED:20250326T230949Z
LAST-MODIFIED:20250326T231252Z
UID:13547-1744639200-1744642800@artsconnectva.org
SUMMARY:Acrylic Paint Pour with Vivian Davis
DESCRIPTION:View Flyer
URL:https://artsconnectva.org/event/acrylic-paint-pour-with-vivian-davis/
LOCATION:VA
CATEGORIES:Outreach Program
END:VEVENT
END:VCALENDAR