BEGIN:VCALENDAR
VERSION:2.0
PRODID:-//ArtsConnect Virginia - ECPv6.15.20//NONSGML v1.0//EN
CALSCALE:GREGORIAN
METHOD:PUBLISH
X-ORIGINAL-URL:https://artsconnectva.org
X-WR-CALDESC:Events for ArtsConnect Virginia
REFRESH-INTERVAL;VALUE=DURATION:PT1H
X-Robots-Tag:noindex
X-PUBLISHED-TTL:PT1H
BEGIN:VTIMEZONE
TZID:America/New_York
BEGIN:DAYLIGHT
TZOFFSETFROM:-0500
TZOFFSETTO:-0400
TZNAME:EDT
DTSTART:20230312T070000
END:DAYLIGHT
BEGIN:STANDARD
TZOFFSETFROM:-0400
TZOFFSETTO:-0500
TZNAME:EST
DTSTART:20231105T060000
END:STANDARD
BEGIN:DAYLIGHT
TZOFFSETFROM:-0500
TZOFFSETTO:-0400
TZNAME:EDT
DTSTART:20240310T070000
END:DAYLIGHT
BEGIN:STANDARD
TZOFFSETFROM:-0400
TZOFFSETTO:-0500
TZNAME:EST
DTSTART:20241103T060000
END:STANDARD
BEGIN:DAYLIGHT
TZOFFSETFROM:-0500
TZOFFSETTO:-0400
TZNAME:EDT
DTSTART:20250309T070000
END:DAYLIGHT
BEGIN:STANDARD
TZOFFSETFROM:-0400
TZOFFSETTO:-0500
TZNAME:EST
DTSTART:20251102T060000
END:STANDARD
BEGIN:DAYLIGHT
TZOFFSETFROM:-0500
TZOFFSETTO:-0400
TZNAME:EDT
DTSTART:20260308T070000
END:DAYLIGHT
BEGIN:STANDARD
TZOFFSETFROM:-0400
TZOFFSETTO:-0500
TZNAME:EST
DTSTART:20261101T060000
END:STANDARD
END:VTIMEZONE
BEGIN:VEVENT
DTSTART;TZID=America/New_York:20241231T133000
DTEND;TZID=America/New_York:20241231T143000
DTSTAMP:20260420T002437
CREATED:20241119T170231Z
LAST-MODIFIED:20241119T170231Z
UID:12527-1735651800-1735655400@artsconnectva.org
SUMMARY:Keep the Beat Social with Art Rowe
DESCRIPTION:
URL:https://artsconnectva.org/event/keep-the-beat-social-with-art-rowe-14/
LOCATION:VA
CATEGORIES:Outreach Program
END:VEVENT
BEGIN:VEVENT
DTSTART;TZID=America/New_York:20241231T140000
DTEND;TZID=America/New_York:20241231T150000
DTSTAMP:20260420T002437
CREATED:20241113T200415Z
LAST-MODIFIED:20241113T200415Z
UID:12497-1735653600-1735657200@artsconnectva.org
SUMMARY:NYE Party with Thyme & Beats
DESCRIPTION:
URL:https://artsconnectva.org/event/nye-party-with-thyme-beats/
LOCATION:VA
CATEGORIES:Outreach Program
END:VEVENT
BEGIN:VEVENT
DTSTART;TZID=America/New_York:20241231T143000
DTEND;TZID=America/New_York:20241231T153000
DTSTAMP:20260420T002437
CREATED:20241119T165907Z
LAST-MODIFIED:20241119T165907Z
UID:12525-1735655400-1735659000@artsconnectva.org
SUMMARY:NYE Celebration with Richard Mekdeci
DESCRIPTION:
URL:https://artsconnectva.org/event/nye-celebration-with-richard-mekdeci/
LOCATION:VA
CATEGORIES:Outreach Program
END:VEVENT
BEGIN:VEVENT
DTSTART;TZID=America/New_York:20241231T144500
DTEND;TZID=America/New_York:20241231T154500
DTSTAMP:20260420T002437
CREATED:20241116T204359Z
LAST-MODIFIED:20241116T204359Z
UID:12513-1735656300-1735659900@artsconnectva.org
SUMMARY:NYE Celebration with Chad McGill
DESCRIPTION:
URL:https://artsconnectva.org/event/nye-celebration-with-chad-mcgill/
LOCATION:VA
CATEGORIES:Outreach Program
END:VEVENT
BEGIN:VEVENT
DTSTART;TZID=America/New_York:20241231T180000
DTEND;TZID=America/New_York:20241231T190000
DTSTAMP:20260420T002437
CREATED:20241202T162746Z
LAST-MODIFIED:20241202T162746Z
UID:12637-1735668000-1735671600@artsconnectva.org
SUMMARY:NYE Celebration with Richard Mekdeci
DESCRIPTION:
URL:https://artsconnectva.org/event/nye-celebration-with-richard-mekdeci-2/
LOCATION:VA
CATEGORIES:Outreach Program
END:VEVENT
BEGIN:VEVENT
DTSTART;TZID=America/New_York:20250102T120000
DTEND;TZID=America/New_York:20250102T130000
DTSTAMP:20260420T002437
CREATED:20241219T192902Z
LAST-MODIFIED:20241219T192902Z
UID:12735-1735819200-1735822800@artsconnectva.org
SUMMARY:Salsa Dancing with Nilsa
DESCRIPTION:
URL:https://artsconnectva.org/event/salsa-dancing-with-nilsa-2/
LOCATION:VA
CATEGORIES:Outreach Program
END:VEVENT
BEGIN:VEVENT
DTSTART;TZID=America/New_York:20250102T140000
DTEND;TZID=America/New_York:20250102T150000
DTSTAMP:20260420T002438
CREATED:20241119T170802Z
LAST-MODIFIED:20241119T170802Z
UID:12529-1735826400-1735830000@artsconnectva.org
SUMMARY:Sing Along with Dan Smith
DESCRIPTION:
URL:https://artsconnectva.org/event/sing-along-with-dan-smith/
LOCATION:VA
CATEGORIES:Outreach Program
END:VEVENT
BEGIN:VEVENT
DTSTART;TZID=America/New_York:20250103T140000
DTEND;TZID=America/New_York:20250103T150000
DTSTAMP:20260420T002438
CREATED:20241119T171727Z
LAST-MODIFIED:20241119T171727Z
UID:12535-1735912800-1735916400@artsconnectva.org
SUMMARY:Happy Hour with Mark Pettiford
DESCRIPTION:
URL:https://artsconnectva.org/event/happy-hour-with-mark-pettiford/
LOCATION:VA
CATEGORIES:Outreach Program
END:VEVENT
BEGIN:VEVENT
DTSTART;TZID=America/New_York:20250103T140000
DTEND;TZID=America/New_York:20250103T150000
DTSTAMP:20260420T002438
CREATED:20241218T165615Z
LAST-MODIFIED:20241218T165615Z
UID:12703-1735912800-1735916400@artsconnectva.org
SUMMARY:Jazz Tunes with Chad McGill
DESCRIPTION:
URL:https://artsconnectva.org/event/jazz-tunes-with-chad-mcgill-2/
LOCATION:VA
CATEGORIES:Outreach Program
END:VEVENT
BEGIN:VEVENT
DTSTART;TZID=America/New_York:20250103T143000
DTEND;TZID=America/New_York:20250103T153000
DTSTAMP:20260420T002438
CREATED:20241216T172542Z
LAST-MODIFIED:20241216T172542Z
UID:12686-1735914600-1735918200@artsconnectva.org
SUMMARY:Famous Hits with Cory Laser
DESCRIPTION:
URL:https://artsconnectva.org/event/famous-hits-with-cory-laser-25/
LOCATION:VA
CATEGORIES:Outreach Program
END:VEVENT
BEGIN:VEVENT
DTSTART;TZID=America/New_York:20250103T150000
DTEND;TZID=America/New_York:20250103T160000
DTSTAMP:20260420T002438
CREATED:20241216T171712Z
LAST-MODIFIED:20241216T171712Z
UID:12684-1735916400-1735920000@artsconnectva.org
SUMMARY:Favorite Throwbacks with Dan Smith and Laura Cathcart
DESCRIPTION:
URL:https://artsconnectva.org/event/favorite-throwbacks-with-dan-smith-and-laura-cathcart/
LOCATION:VA
CATEGORIES:Outreach Program
END:VEVENT
BEGIN:VEVENT
DTSTART;TZID=America/New_York:20250104T150000
DTEND;TZID=America/New_York:20250104T160000
DTSTAMP:20260420T002438
CREATED:20241216T173533Z
LAST-MODIFIED:20241216T173533Z
UID:12688-1736002800-1736006400@artsconnectva.org
SUMMARY:Favorite Throwbacks with Art Rowe
DESCRIPTION:
URL:https://artsconnectva.org/event/favorite-throwbacks-with-art-rowe-24/
LOCATION:VA
CATEGORIES:Outreach Program
END:VEVENT
BEGIN:VEVENT
DTSTART;TZID=America/New_York:20250106T140000
DTEND;TZID=America/New_York:20250106T150000
DTSTAMP:20260420T002438
CREATED:20241218T170316Z
LAST-MODIFIED:20241218T170316Z
UID:12707-1736172000-1736175600@artsconnectva.org
SUMMARY:Poetry Workshop with Deb Frech
DESCRIPTION:
URL:https://artsconnectva.org/event/poetry-workshop-with-deb-frech/
LOCATION:VA
CATEGORIES:Outreach Program
END:VEVENT
BEGIN:VEVENT
DTSTART;TZID=America/New_York:20250106T140000
DTEND;TZID=America/New_York:20250106T150000
DTSTAMP:20260420T002438
CREATED:20241220T152836Z
LAST-MODIFIED:20241220T152836Z
UID:12743-1736172000-1736175600@artsconnectva.org
SUMMARY:Happy Hour with Ted Drake & Eric Yoder
DESCRIPTION:
URL:https://artsconnectva.org/event/happy-hour-with-ted-drake-eric-yoder-2/
LOCATION:VA
CATEGORIES:Outreach Program
END:VEVENT
BEGIN:VEVENT
DTSTART;TZID=America/New_York:20250107T133000
DTEND;TZID=America/New_York:20250107T143000
DTSTAMP:20260420T002438
CREATED:20241120T214022Z
LAST-MODIFIED:20241120T214022Z
UID:12541-1736256600-1736260200@artsconnectva.org
SUMMARY:Keep the Beat Social with Dan Smith
DESCRIPTION:
URL:https://artsconnectva.org/event/keep-the-beat-social-with-dan-smith-15/
LOCATION:VA
CATEGORIES:Outreach Program
END:VEVENT
BEGIN:VEVENT
DTSTART;TZID=America/New_York:20250107T140000
DTEND;TZID=America/New_York:20250107T150000
DTSTAMP:20260420T002438
CREATED:20241218T170920Z
LAST-MODIFIED:20241218T170920Z
UID:12710-1736258400-1736262000@artsconnectva.org
SUMMARY:Musical Serenade with Ascension Melodies
DESCRIPTION:
URL:https://artsconnectva.org/event/musical-serenade-with-ascension-melodies-12/
LOCATION:VA
CATEGORIES:Outreach Program
END:VEVENT
BEGIN:VEVENT
DTSTART;TZID=America/New_York:20250107T140000
DTEND;TZID=America/New_York:20250107T150000
DTSTAMP:20260420T002438
CREATED:20241224T164646Z
LAST-MODIFIED:20241224T164646Z
UID:12765-1736258400-1736262000@artsconnectva.org
SUMMARY:String Serenade with Alex Marlins
DESCRIPTION:Audience members will join Alex in a musical journey through various genres including orchestral\, Celtic folk\, and pop favorites on the violin.
URL:https://artsconnectva.org/event/string-serenade-with-alex-marlins/
LOCATION:VA
CATEGORIES:Outreach Program
END:VEVENT
BEGIN:VEVENT
DTSTART;TZID=America/New_York:20250108T130000
DTEND;TZID=America/New_York:20250108T140000
DTSTAMP:20260420T002438
CREATED:20241120T214442Z
LAST-MODIFIED:20241120T214442Z
UID:12543-1736341200-1736344800@artsconnectva.org
SUMMARY:Golden Oldies with Ava and Jaron
DESCRIPTION:
URL:https://artsconnectva.org/event/golden-oldies-with-ava-and-jaron/
LOCATION:VA
CATEGORIES:Outreach Program
END:VEVENT
BEGIN:VEVENT
DTSTART;TZID=America/New_York:20250109T130000
DTEND;TZID=America/New_York:20250109T140000
DTSTAMP:20260420T002438
CREATED:20241218T171730Z
LAST-MODIFIED:20241218T171730Z
UID:12715-1736427600-1736431200@artsconnectva.org
SUMMARY:New Year's Themed Coloring with David Duck
DESCRIPTION:
URL:https://artsconnectva.org/event/new-years-themed-coloring-with-david-duck/
LOCATION:VA
CATEGORIES:Outreach Program
END:VEVENT
BEGIN:VEVENT
DTSTART;TZID=America/New_York:20250109T140000
DTEND;TZID=America/New_York:20250109T150000
DTSTAMP:20260420T002438
CREATED:20241119T171155Z
LAST-MODIFIED:20241119T171155Z
UID:12531-1736431200-1736434800@artsconnectva.org
SUMMARY:Hits of the 50's & 60's with Adrienne and Jamie
DESCRIPTION:
URL:https://artsconnectva.org/event/hits-of-the-50s-60s-with-adrienne-and-jamie-2/
LOCATION:VA
CATEGORIES:Outreach Program
END:VEVENT
BEGIN:VEVENT
DTSTART;TZID=America/New_York:20250110T130000
DTEND;TZID=America/New_York:20250110T140000
DTSTAMP:20260420T002438
CREATED:20250107T160020Z
LAST-MODIFIED:20250107T160020Z
UID:12796-1736514000-1736517600@artsconnectva.org
SUMMARY:Trumpet Tunes with Chad McGill
DESCRIPTION:
URL:https://artsconnectva.org/event/trumpet-tunes-with-chad-mcgill-30/
LOCATION:VA
CATEGORIES:Outreach Program
END:VEVENT
BEGIN:VEVENT
DTSTART;TZID=America/New_York:20250110T140000
DTEND;TZID=America/New_York:20250110T150000
DTSTAMP:20260420T002438
CREATED:20241121T153549Z
LAST-MODIFIED:20241121T153549Z
UID:12552-1736517600-1736521200@artsconnectva.org
SUMMARY:Happy Hour with Christian Flores
DESCRIPTION:
URL:https://artsconnectva.org/event/happy-hour-with-christian-flores/
LOCATION:VA
CATEGORIES:Outreach Program
END:VEVENT
BEGIN:VEVENT
DTSTART;TZID=America/New_York:20250110T140000
DTEND;TZID=America/New_York:20250110T150000
DTSTAMP:20260420T002438
CREATED:20241224T152232Z
LAST-MODIFIED:20241224T152232Z
UID:12755-1736517600-1736521200@artsconnectva.org
SUMMARY:Favorite Throwbacks with Dan Smith
DESCRIPTION:Dan Smith sings and accompanies himself on piano performing popular tunes from the 50s and 60s.
URL:https://artsconnectva.org/event/favorite-throwbacks-with-dan-smith-16/
LOCATION:Norfolk\, VA\, Norfolk\, VA\, United States
CATEGORIES:Outreach Program
END:VEVENT
BEGIN:VEVENT
DTSTART;TZID=America/New_York:20250110T140000
DTEND;TZID=America/New_York:20250110T150000
DTSTAMP:20260420T002438
CREATED:20241231T135908Z
LAST-MODIFIED:20241231T135908Z
UID:12773-1736517600-1736521200@artsconnectva.org
SUMMARY:Rock n' Roll New Year with Mark Pettiford
DESCRIPTION:
URL:https://artsconnectva.org/event/rock-n-roll-new-year-with-mark-pettiford/
LOCATION:VA
CATEGORIES:Outreach Program
END:VEVENT
BEGIN:VEVENT
DTSTART;TZID=America/New_York:20250110T153000
DTEND;TZID=America/New_York:20250110T163000
DTSTAMP:20260420T002438
CREATED:20241211T142500Z
LAST-MODIFIED:20241211T142500Z
UID:12663-1736523000-1736526600@artsconnectva.org
SUMMARY:Mix and Mingle with Adrienne and Jamie
DESCRIPTION:
URL:https://artsconnectva.org/event/mix-and-mingle-with-adrienne-and-jamie/
LOCATION:VA
CATEGORIES:Outreach Program
END:VEVENT
BEGIN:VEVENT
DTSTART;TZID=America/New_York:20250110T153000
DTEND;TZID=America/New_York:20250110T163000
DTSTAMP:20260420T002438
CREATED:20241218T172033Z
LAST-MODIFIED:20241218T172033Z
UID:12717-1736523000-1736526600@artsconnectva.org
SUMMARY:Favorite Throwbacks with Art Rowe
DESCRIPTION:
URL:https://artsconnectva.org/event/favorite-throwbacks-with-art-rowe-25/
LOCATION:VA
CATEGORIES:Outreach Program
END:VEVENT
BEGIN:VEVENT
DTSTART;TZID=America/New_York:20250114T100000
DTEND;TZID=America/New_York:20250114T110000
DTSTAMP:20260420T002438
CREATED:20241111T202337Z
LAST-MODIFIED:20241113T143025Z
UID:12417-1736848800-1736852400@artsconnectva.org
SUMMARY:Guided Painting with David Duck
DESCRIPTION:
URL:https://artsconnectva.org/event/guided-painting-with-david-duck/
LOCATION:Rokeby Center\, 1709 Rokeby Ave\, Chesapeake\, VA\, 23320\, United States
CATEGORIES:Open to the Public
END:VEVENT
BEGIN:VEVENT
DTSTART;TZID=America/New_York:20250114T100000
DTEND;TZID=America/New_York:20250114T110000
DTSTAMP:20260420T002438
CREATED:20241220T151426Z
LAST-MODIFIED:20241220T151426Z
UID:12741-1736848800-1736852400@artsconnectva.org
SUMMARY:Favorite Throwbacks with Art Rowe
DESCRIPTION:
URL:https://artsconnectva.org/event/favorite-throwbacks-with-art-rowe-26/
LOCATION:VA
CATEGORIES:Outreach Program
END:VEVENT
BEGIN:VEVENT
DTSTART;TZID=America/New_York:20250114T150000
DTEND;TZID=America/New_York:20250114T160000
DTSTAMP:20260420T002438
CREATED:20241224T161055Z
LAST-MODIFIED:20241224T161055Z
UID:12758-1736866800-1736870400@artsconnectva.org
SUMMARY:Classical Serenade with Ascension Melodies
DESCRIPTION:Ascension Melodies is an instrumental duo that plays a variety of pieces from classical to contemporary flute and violin duets.
URL:https://artsconnectva.org/event/classical-serenade-with-ascension-melodies/
LOCATION:Norfolk\, VA\, Norfolk\, VA\, United States
CATEGORIES:Outreach Program
END:VEVENT
BEGIN:VEVENT
DTSTART;TZID=America/New_York:20250115T100000
DTEND;TZID=America/New_York:20250115T120000
DTSTAMP:20260420T002438
CREATED:20241121T154708Z
LAST-MODIFIED:20241121T154708Z
UID:12558-1736935200-1736942400@artsconnectva.org
SUMMARY:Winter Red Bird Plaque
DESCRIPTION:
URL:https://artsconnectva.org/event/winter-red-bird-plaque/
LOCATION:Suffolk Center for the Cultural Arts\, 110 W Finney Ave\, Suffolk\, VA\, 23434\, United States
CATEGORIES:Open to the Public
END:VEVENT
END:VCALENDAR