BEGIN:VCALENDAR
VERSION:2.0
PRODID:-//ArtsConnect Virginia - ECPv6.15.20//NONSGML v1.0//EN
CALSCALE:GREGORIAN
METHOD:PUBLISH
X-WR-CALNAME:ArtsConnect Virginia
X-ORIGINAL-URL:https://artsconnectva.org
X-WR-CALDESC:Events for ArtsConnect Virginia
REFRESH-INTERVAL;VALUE=DURATION:PT1H
X-Robots-Tag:noindex
X-PUBLISHED-TTL:PT1H
BEGIN:VTIMEZONE
TZID:America/New_York
BEGIN:DAYLIGHT
TZOFFSETFROM:-0500
TZOFFSETTO:-0400
TZNAME:EDT
DTSTART:20230312T070000
END:DAYLIGHT
BEGIN:STANDARD
TZOFFSETFROM:-0400
TZOFFSETTO:-0500
TZNAME:EST
DTSTART:20231105T060000
END:STANDARD
BEGIN:DAYLIGHT
TZOFFSETFROM:-0500
TZOFFSETTO:-0400
TZNAME:EDT
DTSTART:20240310T070000
END:DAYLIGHT
BEGIN:STANDARD
TZOFFSETFROM:-0400
TZOFFSETTO:-0500
TZNAME:EST
DTSTART:20241103T060000
END:STANDARD
BEGIN:DAYLIGHT
TZOFFSETFROM:-0500
TZOFFSETTO:-0400
TZNAME:EDT
DTSTART:20250309T070000
END:DAYLIGHT
BEGIN:STANDARD
TZOFFSETFROM:-0400
TZOFFSETTO:-0500
TZNAME:EST
DTSTART:20251102T060000
END:STANDARD
END:VTIMEZONE
BEGIN:VEVENT
DTSTART;TZID=America/New_York:20241210T140000
DTEND;TZID=America/New_York:20241210T150000
DTSTAMP:20260420T002348
CREATED:20241109T012819Z
LAST-MODIFIED:20241109T012819Z
UID:12386-1733839200-1733842800@artsconnectva.org
SUMMARY:Birthday Social with Christian Flores
DESCRIPTION:
URL:https://artsconnectva.org/event/birthday-social-with-christian-flores-2/
LOCATION:VA
CATEGORIES:Outreach Program
END:VEVENT
BEGIN:VEVENT
DTSTART;TZID=America/New_York:20241210T133000
DTEND;TZID=America/New_York:20241210T143000
DTSTAMP:20260420T002349
CREATED:20241204T195150Z
LAST-MODIFIED:20241204T195150Z
UID:12651-1733837400-1733841000@artsconnectva.org
SUMMARY:Keep the Beat Social with Richard Mekdeci
DESCRIPTION:
URL:https://artsconnectva.org/event/keep-the-beat-social-with-richard-mekdeci-8/
LOCATION:VA
CATEGORIES:Outreach Program
END:VEVENT
BEGIN:VEVENT
DTSTART;TZID=America/New_York:20241210T130000
DTEND;TZID=America/New_York:20241210T140000
DTSTAMP:20260420T002349
CREATED:20241031T205053Z
LAST-MODIFIED:20241031T205053Z
UID:12354-1733835600-1733839200@artsconnectva.org
SUMMARY:Violin Serenade with Alex Marlins
DESCRIPTION:
URL:https://artsconnectva.org/event/violin-serenade-with-alex-marlins-25/
LOCATION:VA
CATEGORIES:Outreach Program
END:VEVENT
BEGIN:VEVENT
DTSTART;TZID=America/New_York:20241209T140000
DTEND;TZID=America/New_York:20241209T150000
DTSTAMP:20260420T002349
CREATED:20241116T203011Z
LAST-MODIFIED:20241116T203011Z
UID:12505-1733752800-1733756400@artsconnectva.org
SUMMARY:Card Making with Sandy Kinchen
DESCRIPTION:
URL:https://artsconnectva.org/event/card-making-with-sandy-kinchen-3/
LOCATION:VA
CATEGORIES:Outreach Program
END:VEVENT
BEGIN:VEVENT
DTSTART;TZID=America/New_York:20241207T140000
DTEND;TZID=America/New_York:20241207T150000
DTSTAMP:20260420T002349
CREATED:20241031T204333Z
LAST-MODIFIED:20241031T204333Z
UID:12350-1733580000-1733583600@artsconnectva.org
SUMMARY:Favorite Throwbacks with Art Rowe
DESCRIPTION:
URL:https://artsconnectva.org/event/favorite-throwbacks-with-art-rowe-21/
LOCATION:Hampton Public Library\, 4207 Victoria Blvd\, Hampton\, VA\, 23669\, United States
CATEGORIES:Open to the Public
END:VEVENT
BEGIN:VEVENT
DTSTART;TZID=America/New_York:20241206T140000
DTEND;TZID=America/New_York:20241206T150000
DTSTAMP:20260420T002349
CREATED:20241109T012447Z
LAST-MODIFIED:20241109T012447Z
UID:12384-1733493600-1733497200@artsconnectva.org
SUMMARY:Music\, Motown\, and More with Richard Mekdeci
DESCRIPTION:
URL:https://artsconnectva.org/event/music-motown-and-more-with-richard-mekdeci-47/
LOCATION:VA
CATEGORIES:Outreach Program
END:VEVENT
BEGIN:VEVENT
DTSTART;TZID=America/New_York:20241206T140000
DTEND;TZID=America/New_York:20241206T150000
DTSTAMP:20260420T002349
CREATED:20241109T012132Z
LAST-MODIFIED:20241125T163719Z
UID:12382-1733493600-1733497200@artsconnectva.org
SUMMARY:Rock n' Roll Christmas with Mark Pettiford
DESCRIPTION:View Flyer
URL:https://artsconnectva.org/event/rock-n-roll-christmas-with-mark-pettiford/
LOCATION:VA
CATEGORIES:Outreach Program
END:VEVENT
BEGIN:VEVENT
DTSTART;TZID=America/New_York:20241206T140000
DTEND;TZID=America/New_York:20241206T150000
DTSTAMP:20260420T002349
CREATED:20241031T203536Z
LAST-MODIFIED:20241031T203536Z
UID:12346-1733493600-1733497200@artsconnectva.org
SUMMARY:Happy Hour with Cory Laser
DESCRIPTION:
URL:https://artsconnectva.org/event/happy-hour-with-cory-laser-3/
LOCATION:VA
CATEGORIES:Outreach Program
END:VEVENT
BEGIN:VEVENT
DTSTART;TZID=America/New_York:20241205T183000
DTEND;TZID=America/New_York:20241205T193000
DTSTAMP:20260420T002349
CREATED:20241111T195623Z
LAST-MODIFIED:20241111T195623Z
UID:12413-1733423400-1733427000@artsconnectva.org
SUMMARY:Painting Program with David Duck
DESCRIPTION:
URL:https://artsconnectva.org/event/painting-program-with-david-duck/
LOCATION:VA
CATEGORIES:Outreach Program
END:VEVENT
BEGIN:VEVENT
DTSTART;TZID=America/New_York:20241205T183000
DTEND;TZID=America/New_York:20241205T193000
DTSTAMP:20260420T002349
CREATED:20241111T155940Z
LAST-MODIFIED:20241111T155940Z
UID:12398-1733423400-1733427000@artsconnectva.org
SUMMARY:FACTS Costume & Float Design
DESCRIPTION:
URL:https://artsconnectva.org/event/facts-costume-float-design/
LOCATION:VA
CATEGORIES:Outreach Program
END:VEVENT
BEGIN:VEVENT
DTSTART;TZID=America/New_York:20241205T150000
DTEND;TZID=America/New_York:20241205T160000
DTSTAMP:20260420T002349
CREATED:20241008T162007Z
LAST-MODIFIED:20241125T163424Z
UID:12091-1733410800-1733414400@artsconnectva.org
SUMMARY:Holiday Watercolor Painting with Adrienne Searle
DESCRIPTION:View Flyer
URL:https://artsconnectva.org/event/holiday-watercolor-painting-with-adrienne-searle/
LOCATION:VA
CATEGORIES:Outreach Program
END:VEVENT
BEGIN:VEVENT
DTSTART;TZID=America/New_York:20241205T140000
DTEND;TZID=America/New_York:20241205T150000
DTSTAMP:20260420T002349
CREATED:20241119T154222Z
LAST-MODIFIED:20241119T154222Z
UID:12517-1733407200-1733410800@artsconnectva.org
SUMMARY:Bluegrass with Ted Drake & Eric Yoder
DESCRIPTION:
URL:https://artsconnectva.org/event/bluegrass-with-ted-drake-eric-yoder-2/
LOCATION:VA
CATEGORIES:Outreach Program
END:VEVENT
BEGIN:VEVENT
DTSTART;TZID=America/New_York:20241205T140000
DTEND;TZID=America/New_York:20241205T150000
DTSTAMP:20260420T002349
CREATED:20241031T203213Z
LAST-MODIFIED:20241031T203213Z
UID:12344-1733407200-1733410800@artsconnectva.org
SUMMARY:Wooden Gnome Friends with Stephanie Slate
DESCRIPTION:
URL:https://artsconnectva.org/event/wooden-gnome-friends-with-stephanie-slate/
LOCATION:VA
CATEGORIES:Outreach Program
END:VEVENT
BEGIN:VEVENT
DTSTART;TZID=America/New_York:20241204T140000
DTEND;TZID=America/New_York:20241204T150000
DTSTAMP:20260420T002349
CREATED:20241031T202536Z
LAST-MODIFIED:20241031T202536Z
UID:12342-1733320800-1733324400@artsconnectva.org
SUMMARY:Favorite Throwbacks with Dan Smith
DESCRIPTION:
URL:https://artsconnectva.org/event/favorite-throwbacks-with-dan-smith-15/
LOCATION:VA
CATEGORIES:Outreach Program
END:VEVENT
BEGIN:VEVENT
DTSTART;TZID=America/New_York:20241203T173000
DTEND;TZID=America/New_York:20241203T193000
DTSTAMP:20260420T002349
CREATED:20241111T201432Z
LAST-MODIFIED:20241202T164013Z
UID:12415-1733247000-1733254200@artsconnectva.org
SUMMARY:Painting with Rhona Dawson
DESCRIPTION:
URL:https://artsconnectva.org/event/painting-with-rhona-dawson/
LOCATION:VA
CATEGORIES:Outreach Program
END:VEVENT
BEGIN:VEVENT
DTSTART;TZID=America/New_York:20241203T150000
DTEND;TZID=America/New_York:20241203T160000
DTSTAMP:20260420T002349
CREATED:20241031T203819Z
LAST-MODIFIED:20241031T203819Z
UID:12348-1733238000-1733241600@artsconnectva.org
SUMMARY:Favorite Throwbacks with Bryan Martin
DESCRIPTION:
URL:https://artsconnectva.org/event/favorite-throwbacks-with-bryan-martin-5/
LOCATION:VA
CATEGORIES:Outreach Program
END:VEVENT
BEGIN:VEVENT
DTSTART;TZID=America/New_York:20241203T140000
DTEND;TZID=America/New_York:20241203T150000
DTSTAMP:20260420T002349
CREATED:20241031T202006Z
LAST-MODIFIED:20241031T202006Z
UID:12340-1733234400-1733238000@artsconnectva.org
SUMMARY:Card Making with Myra Basnight
DESCRIPTION:
URL:https://artsconnectva.org/event/card-making-with-myra-basnight-2/
LOCATION:VA
CATEGORIES:Outreach Program
END:VEVENT
BEGIN:VEVENT
DTSTART;TZID=America/New_York:20241203T133000
DTEND;TZID=America/New_York:20241203T143000
DTSTAMP:20260420T002349
CREATED:20241109T011751Z
LAST-MODIFIED:20241109T011751Z
UID:12380-1733232600-1733236200@artsconnectva.org
SUMMARY:Keep the Beat Social with Ted Drake & Eric Yoder
DESCRIPTION:
URL:https://artsconnectva.org/event/keep-the-beat-social-with-ted-drake-eric-yoder/
LOCATION:VA
CATEGORIES:Outreach Program
END:VEVENT
BEGIN:VEVENT
DTSTART;TZID=America/New_York:20241203T130000
DTEND;TZID=America/New_York:20241203T140000
DTSTAMP:20260420T002349
CREATED:20241031T201344Z
LAST-MODIFIED:20241031T201344Z
UID:12338-1733230800-1733234400@artsconnectva.org
SUMMARY:Favorite Throwbacks with Dan Smith
DESCRIPTION:
URL:https://artsconnectva.org/event/favorite-throwbacks-with-dan-smith-14/
LOCATION:VA
CATEGORIES:Outreach Program
END:VEVENT
BEGIN:VEVENT
DTSTART;TZID=America/New_York:20241202T140000
DTEND;TZID=America/New_York:20241202T150000
DTSTAMP:20260420T002349
CREATED:20241030T145943Z
LAST-MODIFIED:20241030T145943Z
UID:12316-1733148000-1733151600@artsconnectva.org
SUMMARY:Wood Slice Ornaments with Stephanie Slate
DESCRIPTION:
URL:https://artsconnectva.org/event/wood-slice-ornaments-with-stephanie-slate-2/
LOCATION:VA
CATEGORIES:Outreach Program
END:VEVENT
BEGIN:VEVENT
DTSTART;TZID=America/New_York:20241202T140000
DTEND;TZID=America/New_York:20241202T150000
DTSTAMP:20260420T002349
CREATED:20241030T145212Z
LAST-MODIFIED:20241030T145212Z
UID:12312-1733148000-1733151600@artsconnectva.org
SUMMARY:Happy Hour with Lyle & Linda Dowling
DESCRIPTION:
URL:https://artsconnectva.org/event/happy-hour-with-lyle-linda-dowling/
LOCATION:VA
CATEGORIES:Outreach Program
END:VEVENT
BEGIN:VEVENT
DTSTART;TZID=America/New_York:20241202T140000
DTEND;TZID=America/New_York:20241202T150000
DTSTAMP:20260420T002349
CREATED:20241004T201659Z
LAST-MODIFIED:20241004T201659Z
UID:12079-1733148000-1733151600@artsconnectva.org
SUMMARY:Golden Oldies with Ava & Bryan
DESCRIPTION:
URL:https://artsconnectva.org/event/golden-oldies-with-ava-bryan-3/
LOCATION:VA
CATEGORIES:Outreach Program
END:VEVENT
BEGIN:VEVENT
DTSTART;TZID=America/New_York:20241202T130000
DTEND;TZID=America/New_York:20241202T140000
DTSTAMP:20260420T002349
CREATED:20241031T200924Z
LAST-MODIFIED:20241031T200924Z
UID:12336-1733144400-1733148000@artsconnectva.org
SUMMARY:Sculpture with Air Dry Clay with Vivian Davis
DESCRIPTION:
URL:https://artsconnectva.org/event/sculpture-with-air-dry-clay-with-vivian-davis/
LOCATION:Brittingham-Midtown Community Center\, 570 McLawhorne Dr\, Newport News\, VA\, 23601\, United States
CATEGORIES:Open to the Public
END:VEVENT
BEGIN:VEVENT
DTSTART;TZID=America/New_York:20241129T160000
DTEND;TZID=America/New_York:20241129T170000
DTSTAMP:20260420T002349
CREATED:20241014T154033Z
LAST-MODIFIED:20241014T154033Z
UID:12150-1732896000-1732899600@artsconnectva.org
SUMMARY:Happy Hour with Chad McGill
DESCRIPTION:
URL:https://artsconnectva.org/event/happy-hour-with-chad-mcgill/
LOCATION:VA
CATEGORIES:Outreach Program
END:VEVENT
BEGIN:VEVENT
DTSTART;TZID=America/New_York:20241129T144500
DTEND;TZID=America/New_York:20241129T154500
DTSTAMP:20260420T002349
CREATED:20241030T144816Z
LAST-MODIFIED:20241030T144816Z
UID:12310-1732891500-1732895100@artsconnectva.org
SUMMARY:Favorite Throwbacks with Dan Smith
DESCRIPTION:
URL:https://artsconnectva.org/event/favorite-throwbacks-with-dan-smith-13/
LOCATION:VA
CATEGORIES:Outreach Program
END:VEVENT
BEGIN:VEVENT
DTSTART;TZID=America/New_York:20241129T140000
DTEND;TZID=America/New_York:20241129T150000
DTSTAMP:20260420T002349
CREATED:20241030T144332Z
LAST-MODIFIED:20241030T144332Z
UID:12308-1732888800-1732892400@artsconnectva.org
SUMMARY:Trumpet Tunes with Chad McGill
DESCRIPTION:
URL:https://artsconnectva.org/event/trumpet-tunes-with-chad-mcgill-26/
LOCATION:VA
CATEGORIES:Outreach Program
END:VEVENT
BEGIN:VEVENT
DTSTART;TZID=America/New_York:20241129T140000
DTEND;TZID=America/New_York:20241129T150000
DTSTAMP:20260420T002349
CREATED:20241030T133319Z
LAST-MODIFIED:20241115T192945Z
UID:12304-1732888800-1732892400@artsconnectva.org
SUMMARY:Happy Hour with Jimmy G
DESCRIPTION:
URL:https://artsconnectva.org/event/happy-hour-with-bryan-martin-11/
LOCATION:VA
CATEGORIES:Outreach Program
END:VEVENT
BEGIN:VEVENT
DTSTART;TZID=America/New_York:20241127T140000
DTEND;TZID=America/New_York:20241127T150000
DTSTAMP:20260420T002349
CREATED:20241111T183913Z
LAST-MODIFIED:20241111T183913Z
UID:12411-1732716000-1732719600@artsconnectva.org
SUMMARY:Mentalism and Magic with Sean McKenzie
DESCRIPTION:
URL:https://artsconnectva.org/event/mentalism-and-magic-with-sean-mckenzie-2/
LOCATION:VA
CATEGORIES:Outreach Program
END:VEVENT
BEGIN:VEVENT
DTSTART;TZID=America/New_York:20241127T140000
DTEND;TZID=America/New_York:20241127T150000
DTSTAMP:20260420T002349
CREATED:20241016T214956Z
LAST-MODIFIED:20241016T214956Z
UID:12246-1732716000-1732719600@artsconnectva.org
SUMMARY:Collage Nightlight with Susan Owens
DESCRIPTION:
URL:https://artsconnectva.org/event/collage-nightlight-with-susan-owens/
LOCATION:VA
CATEGORIES:Outreach Program
END:VEVENT
BEGIN:VEVENT
DTSTART;TZID=America/New_York:20241127T103000
DTEND;TZID=America/New_York:20241127T113000
DTSTAMP:20260420T002349
CREATED:20241108T132724Z
LAST-MODIFIED:20241108T132724Z
UID:12366-1732703400-1732707000@artsconnectva.org
SUMMARY:Mosaic Tape Painting with Adrienne
DESCRIPTION:
URL:https://artsconnectva.org/event/mosaic-tape-painting-with-adrienne/
LOCATION:VA
CATEGORIES:Outreach Program
END:VEVENT
END:VCALENDAR