BEGIN:VCALENDAR
VERSION:2.0
PRODID:-//ArtsConnect Virginia - ECPv6.15.20//NONSGML v1.0//EN
CALSCALE:GREGORIAN
METHOD:PUBLISH
X-ORIGINAL-URL:https://artsconnectva.org
X-WR-CALDESC:Events for ArtsConnect Virginia
REFRESH-INTERVAL;VALUE=DURATION:PT1H
X-Robots-Tag:noindex
X-PUBLISHED-TTL:PT1H
BEGIN:VTIMEZONE
TZID:America/New_York
BEGIN:DAYLIGHT
TZOFFSETFROM:-0500
TZOFFSETTO:-0400
TZNAME:EDT
DTSTART:20240310T070000
END:DAYLIGHT
BEGIN:STANDARD
TZOFFSETFROM:-0400
TZOFFSETTO:-0500
TZNAME:EST
DTSTART:20241103T060000
END:STANDARD
BEGIN:DAYLIGHT
TZOFFSETFROM:-0500
TZOFFSETTO:-0400
TZNAME:EDT
DTSTART:20250309T070000
END:DAYLIGHT
BEGIN:STANDARD
TZOFFSETFROM:-0400
TZOFFSETTO:-0500
TZNAME:EST
DTSTART:20251102T060000
END:STANDARD
BEGIN:DAYLIGHT
TZOFFSETFROM:-0500
TZOFFSETTO:-0400
TZNAME:EDT
DTSTART:20260308T070000
END:DAYLIGHT
BEGIN:STANDARD
TZOFFSETFROM:-0400
TZOFFSETTO:-0500
TZNAME:EST
DTSTART:20261101T060000
END:STANDARD
END:VTIMEZONE
BEGIN:VEVENT
DTSTART;TZID=America/New_York:20250206T130000
DTEND;TZID=America/New_York:20250206T140000
DTSTAMP:20260419T212330
CREATED:20250131T224336Z
LAST-MODIFIED:20250131T224336Z
UID:13055-1738846800-1738850400@artsconnectva.org
SUMMARY:TAO: Timeless Tunes with Christian Flores
DESCRIPTION:
URL:https://artsconnectva.org/event/tao-timeless-tunes-with-christian-flores/
LOCATION:VA
CATEGORIES:Outreach Program
END:VEVENT
BEGIN:VEVENT
DTSTART;TZID=America/New_York:20250206T140000
DTEND;TZID=America/New_York:20250206T150000
DTSTAMP:20260419T212330
CREATED:20241122T155451Z
LAST-MODIFIED:20241122T155451Z
UID:12595-1738850400-1738854000@artsconnectva.org
SUMMARY:Rock n' Roll with Mark Pettiford
DESCRIPTION:
URL:https://artsconnectva.org/event/rock-n-roll-with-mark-pettiford-13/
LOCATION:VA
CATEGORIES:Outreach Program
END:VEVENT
BEGIN:VEVENT
DTSTART;TZID=America/New_York:20250206T140000
DTEND;TZID=America/New_York:20250206T150000
DTSTAMP:20260419T212330
CREATED:20250114T213908Z
LAST-MODIFIED:20250114T213908Z
UID:12867-1738850400-1738854000@artsconnectva.org
SUMMARY:Music with Dan Smith
DESCRIPTION:
URL:https://artsconnectva.org/event/music-with-dan-smith-7/
LOCATION:Hampton Public Library\, 4207 Victoria Blvd\, Hampton\, VA\, 23669\, United States
CATEGORIES:Open to the Public
END:VEVENT
BEGIN:VEVENT
DTSTART;TZID=America/New_York:20250206T140000
DTEND;TZID=America/New_York:20250206T150000
DTSTAMP:20260419T212330
CREATED:20250115T140417Z
LAST-MODIFIED:20250115T140417Z
UID:12869-1738850400-1738854000@artsconnectva.org
SUMMARY:Favorite Throwbacks with Art Rowe
DESCRIPTION:
URL:https://artsconnectva.org/event/favorite-throwbacks-with-art-rowe-28/
LOCATION:VA
CATEGORIES:Outreach Program
END:VEVENT
BEGIN:VEVENT
DTSTART;TZID=America/New_York:20250206T180000
DTEND;TZID=America/New_York:20250206T200000
DTSTAMP:20260419T212330
CREATED:20250115T140824Z
LAST-MODIFIED:20250115T140824Z
UID:12871-1738864800-1738872000@artsconnectva.org
SUMMARY:Artful Affection: Sending Love through Creativity with Deb Frech
DESCRIPTION:
URL:https://artsconnectva.org/event/artful-affection-sending-love-through-creativity-with-deb-frech/
LOCATION:VA
CATEGORIES:Outreach Program
END:VEVENT
BEGIN:VEVENT
DTSTART;TZID=America/New_York:20250207T103000
DTEND;TZID=America/New_York:20250207T113000
DTSTAMP:20260419T212330
CREATED:20250115T141829Z
LAST-MODIFIED:20250115T141829Z
UID:12875-1738924200-1738927800@artsconnectva.org
SUMMARY:Let's Jam with The Earthtones
DESCRIPTION:
URL:https://artsconnectva.org/event/lets-jam-with-the-earthtones-6/
LOCATION:Virgil I. Grissom Library\, 366 Deshazor Dr\, Newport News\, VA\, 23608\, United States
CATEGORIES:Open to the Public
END:VEVENT
BEGIN:VEVENT
DTSTART;TZID=America/New_York:20250207T120000
DTEND;TZID=America/New_York:20250207T130000
DTSTAMP:20260419T212330
CREATED:20250115T142702Z
LAST-MODIFIED:20250115T142702Z
UID:12880-1738929600-1738933200@artsconnectva.org
SUMMARY:Line Dancing with NewMan Fitness
DESCRIPTION:
URL:https://artsconnectva.org/event/line-dancing-with-newman-fitness-12/
LOCATION:VA
CATEGORIES:Outreach Program
END:VEVENT
BEGIN:VEVENT
DTSTART;TZID=America/New_York:20250207T140000
DTEND;TZID=America/New_York:20250207T150000
DTSTAMP:20260419T212330
CREATED:20241122T153930Z
LAST-MODIFIED:20241122T153930Z
UID:12581-1738936800-1738940400@artsconnectva.org
SUMMARY:Happy Hour with Mark Pettiford
DESCRIPTION:
URL:https://artsconnectva.org/event/happy-hour-with-mark-pettiford-2/
LOCATION:VA
CATEGORIES:Outreach Program
END:VEVENT
BEGIN:VEVENT
DTSTART;TZID=America/New_York:20250207T140000
DTEND;TZID=America/New_York:20250207T150000
DTSTAMP:20260419T212330
CREATED:20250115T141449Z
LAST-MODIFIED:20250115T141449Z
UID:12873-1738936800-1738940400@artsconnectva.org
SUMMARY:Fiddlin' and Pickin' with Tidewater Bluegrass Revival
DESCRIPTION:
URL:https://artsconnectva.org/event/fiddlin-and-pickin-with-tidewater-bluegrass-revival-14/
LOCATION:VA
CATEGORIES:Outreach Program
END:VEVENT
BEGIN:VEVENT
DTSTART;TZID=America/New_York:20250207T140000
DTEND;TZID=America/New_York:20250207T150000
DTSTAMP:20260419T212330
CREATED:20250115T142141Z
LAST-MODIFIED:20250115T142141Z
UID:12878-1738936800-1738940400@artsconnectva.org
SUMMARY:All the Favorites with Tina Micula
DESCRIPTION:
URL:https://artsconnectva.org/event/all-the-favorites-with-tina-micula/
LOCATION:VA
CATEGORIES:Outreach Program
END:VEVENT
BEGIN:VEVENT
DTSTART;TZID=America/New_York:20250207T150000
DTEND;TZID=America/New_York:20250207T160000
DTSTAMP:20260419T212330
CREATED:20250102T194319Z
LAST-MODIFIED:20250102T194319Z
UID:12790-1738940400-1738944000@artsconnectva.org
SUMMARY:Love Songs through the Ages with Karen Stowe
DESCRIPTION:
URL:https://artsconnectva.org/event/love-songs-through-the-ages-with-karen-stowe-3/
LOCATION:VA
CATEGORIES:Outreach Program
END:VEVENT
BEGIN:VEVENT
DTSTART;TZID=America/New_York:20250208T100000
DTEND;TZID=America/New_York:20250208T110000
DTSTAMP:20260419T212330
CREATED:20250108T214428Z
LAST-MODIFIED:20250123T182452Z
UID:12809-1739008800-1739012400@artsconnectva.org
SUMMARY:Spock\, Spiderman\, and Captain Sparrow with Jena Chenkin
DESCRIPTION:
URL:https://artsconnectva.org/event/spock-spiderman-and-captain-sparrow-with-jena-chenkin/
LOCATION:VA
CATEGORIES:Outreach Program
END:VEVENT
BEGIN:VEVENT
DTSTART;TZID=America/New_York:20250208T141500
DTEND;TZID=America/New_York:20250208T144500
DTSTAMP:20260419T212330
CREATED:20250117T152302Z
LAST-MODIFIED:20250117T152302Z
UID:12903-1739024100-1739025900@artsconnectva.org
SUMMARY:Achievements of Local African American Artists with Synnika Lofton
DESCRIPTION:
URL:https://artsconnectva.org/event/achievements-of-local-african-american-artists-with-synnika-lofton/
LOCATION:Richard A. Tucker Memorial Library\, 2350 Berkley Ave\, Norfolk\, VA\, 23523\, United States
CATEGORIES:Open to the Public
END:VEVENT
BEGIN:VEVENT
DTSTART;TZID=America/New_York:20250210T140000
DTEND;TZID=America/New_York:20250210T150000
DTSTAMP:20260419T212330
CREATED:20250115T143317Z
LAST-MODIFIED:20250115T143317Z
UID:12882-1739196000-1739199600@artsconnectva.org
SUMMARY:Let's Jam with The Earthtones
DESCRIPTION:
URL:https://artsconnectva.org/event/lets-jam-with-the-earthtones-7/
LOCATION:VA
CATEGORIES:Outreach Program
END:VEVENT
BEGIN:VEVENT
DTSTART;TZID=America/New_York:20250210T160000
DTEND;TZID=America/New_York:20250210T170000
DTSTAMP:20260419T212330
CREATED:20250120T152646Z
LAST-MODIFIED:20250120T152646Z
UID:12951-1739203200-1739206800@artsconnectva.org
SUMMARY:Valentine's Day Craft with Heidi Ordaz
DESCRIPTION:
URL:https://artsconnectva.org/event/valentines-day-craft-with-heidi-ordaz/
LOCATION:VA
CATEGORIES:Outreach Program
END:VEVENT
BEGIN:VEVENT
DTSTART;TZID=America/New_York:20250211T133000
DTEND;TZID=America/New_York:20250211T143000
DTSTAMP:20260419T212330
CREATED:20241122T154802Z
LAST-MODIFIED:20241122T154802Z
UID:12589-1739280600-1739284200@artsconnectva.org
SUMMARY:Keep the Beat Social with Dan Smith
DESCRIPTION:
URL:https://artsconnectva.org/event/keep-the-beat-social-with-dan-smith-16/
LOCATION:VA
CATEGORIES:Outreach Program
END:VEVENT
BEGIN:VEVENT
DTSTART;TZID=America/New_York:20250211T140000
DTEND;TZID=America/New_York:20250211T150000
DTSTAMP:20260419T212330
CREATED:20250102T194729Z
LAST-MODIFIED:20250102T194729Z
UID:12792-1739282400-1739286000@artsconnectva.org
SUMMARY:Piano Tunes with Christian Flores
DESCRIPTION:
URL:https://artsconnectva.org/event/piano-tunes-with-christian-flores-17/
LOCATION:VA
CATEGORIES:Outreach Program
END:VEVENT
BEGIN:VEVENT
DTSTART;TZID=America/New_York:20250211T140000
DTEND;TZID=America/New_York:20250211T150000
DTSTAMP:20260419T212330
CREATED:20250122T142845Z
LAST-MODIFIED:20250122T142845Z
UID:12963-1739282400-1739286000@artsconnectva.org
SUMMARY:Famous Hits with Cory Laser
DESCRIPTION:
URL:https://artsconnectva.org/event/famous-hits-with-cory-laser-26/
LOCATION:VA
CATEGORIES:Outreach Program
END:VEVENT
BEGIN:VEVENT
DTSTART;TZID=America/New_York:20250211T150000
DTEND;TZID=America/New_York:20250211T160000
DTSTAMP:20260419T212330
CREATED:20250115T143723Z
LAST-MODIFIED:20250115T143723Z
UID:12884-1739286000-1739289600@artsconnectva.org
SUMMARY:All the Favorites with Art Rowe
DESCRIPTION:
URL:https://artsconnectva.org/event/all-the-favorites-with-art-rowe/
LOCATION:VA
CATEGORIES:Outreach Program
END:VEVENT
BEGIN:VEVENT
DTSTART;TZID=America/New_York:20250211T150000
DTEND;TZID=America/New_York:20250211T160000
DTSTAMP:20260419T212330
CREATED:20250115T185456Z
LAST-MODIFIED:20250115T185456Z
UID:12886-1739286000-1739289600@artsconnectva.org
SUMMARY:Violin Serenade with Alex Marlins
DESCRIPTION:
URL:https://artsconnectva.org/event/violin-serenade-with-alex-marlins-26/
LOCATION:VA
CATEGORIES:Outreach Program
END:VEVENT
BEGIN:VEVENT
DTSTART;TZID=America/New_York:20250212T110000
DTEND;TZID=America/New_York:20250212T120000
DTSTAMP:20260419T212330
CREATED:20250102T195331Z
LAST-MODIFIED:20250102T195331Z
UID:12794-1739358000-1739361600@artsconnectva.org
SUMMARY:Spoken Word with Synnika Lofton
DESCRIPTION:
URL:https://artsconnectva.org/event/spoken-word-with-synnika-lofton/
LOCATION:VA
CATEGORIES:Open to the Public
END:VEVENT
BEGIN:VEVENT
DTSTART;TZID=America/New_York:20250212T110000
DTEND;TZID=America/New_York:20250212T120000
DTSTAMP:20260419T212330
CREATED:20250117T152727Z
LAST-MODIFIED:20250127T143648Z
UID:12905-1739358000-1739361600@artsconnectva.org
SUMMARY:Spoken Word with Synnika Lofton
DESCRIPTION:
URL:https://artsconnectva.org/event/spoken-word-with-synnika-lofton-2/
LOCATION:North Newport News Community Center\, 605 South Ave\, Newport News\, VA\, 23601\, United States
CATEGORIES:Open to the Public
END:VEVENT
BEGIN:VEVENT
DTSTART;TZID=America/New_York:20250212T120000
DTEND;TZID=America/New_York:20250212T130000
DTSTAMP:20260419T212330
CREATED:20250117T153225Z
LAST-MODIFIED:20250117T153225Z
UID:12908-1739361600-1739365200@artsconnectva.org
SUMMARY:Mind\, Body\, Team with Jara Clark
DESCRIPTION:
URL:https://artsconnectva.org/event/mind-body-team-with-jara-clark/
LOCATION:VA
CATEGORIES:Outreach Program
END:VEVENT
BEGIN:VEVENT
DTSTART;TZID=America/New_York:20250212T130000
DTEND;TZID=America/New_York:20250212T140000
DTSTAMP:20260419T212330
CREATED:20250115T185758Z
LAST-MODIFIED:20250115T185758Z
UID:12888-1739365200-1739368800@artsconnectva.org
SUMMARY:All the Favorites with Art Rowe
DESCRIPTION:
URL:https://artsconnectva.org/event/all-the-favorites-with-art-rowe-2/
LOCATION:VA
CATEGORIES:Outreach Program
END:VEVENT
BEGIN:VEVENT
DTSTART;TZID=America/New_York:20250212T180000
DTEND;TZID=America/New_York:20250212T190000
DTSTAMP:20260419T212330
CREATED:20250123T220535Z
LAST-MODIFIED:20250123T220535Z
UID:13017-1739383200-1739386800@artsconnectva.org
SUMMARY:Mind\, Body\, Team: Mindful Meditation with Jara
DESCRIPTION:
URL:https://artsconnectva.org/event/mind-body-team-mindful-meditation-with-jara/
LOCATION:VA
CATEGORIES:Outreach Program
END:VEVENT
BEGIN:VEVENT
DTSTART;TZID=America/New_York:20250213T103000
DTEND;TZID=America/New_York:20250213T113000
DTSTAMP:20260419T212330
CREATED:20250117T153659Z
LAST-MODIFIED:20250117T153659Z
UID:12910-1739442600-1739446200@artsconnectva.org
SUMMARY:Card Making with Sandy Kinchen
DESCRIPTION:
URL:https://artsconnectva.org/event/card-making-with-sandy-kinchen-5/
LOCATION:VA
CATEGORIES:Outreach Program
END:VEVENT
BEGIN:VEVENT
DTSTART;TZID=America/New_York:20250213T113000
DTEND;TZID=America/New_York:20250213T123000
DTSTAMP:20260419T212330
CREATED:20241113T190452Z
LAST-MODIFIED:20241113T190452Z
UID:12475-1739446200-1739449800@artsconnectva.org
SUMMARY:Groovin' with The Elderly Brothers
DESCRIPTION:
URL:https://artsconnectva.org/event/groovin-with-the-elderly-brothers-3/
LOCATION:Rokeby Center\, 1709 Rokeby Ave\, Chesapeake\, VA\, 23320\, United States
CATEGORIES:Open to the Public
END:VEVENT
BEGIN:VEVENT
DTSTART;TZID=America/New_York:20250213T130000
DTEND;TZID=America/New_York:20250213T140000
DTSTAMP:20260419T212330
CREATED:20250123T161842Z
LAST-MODIFIED:20250123T161842Z
UID:12995-1739451600-1739455200@artsconnectva.org
SUMMARY:Singing and Smiling with David and Art
DESCRIPTION:
URL:https://artsconnectva.org/event/singing-and-smiling-with-david-and-art-5/
LOCATION:VA
CATEGORIES:Outreach Program
END:VEVENT
BEGIN:VEVENT
DTSTART;TZID=America/New_York:20250213T140000
DTEND;TZID=America/New_York:20250213T150000
DTSTAMP:20260419T212330
CREATED:20241122T155414Z
LAST-MODIFIED:20241220T155224Z
UID:12593-1739455200-1739458800@artsconnectva.org
SUMMARY:Melody Memories with Adrienne & Bernie
DESCRIPTION:
URL:https://artsconnectva.org/event/hits-of-the-50s-and-60s-with-adrienne-and-jamie-6/
LOCATION:VA
CATEGORIES:Outreach Program
END:VEVENT
BEGIN:VEVENT
DTSTART;TZID=America/New_York:20250213T140000
DTEND;TZID=America/New_York:20250213T150000
DTSTAMP:20260419T212330
CREATED:20250120T152954Z
LAST-MODIFIED:20250120T152954Z
UID:12953-1739455200-1739458800@artsconnectva.org
SUMMARY:Favorite Throwbacks with Bryan Martin
DESCRIPTION:
URL:https://artsconnectva.org/event/favorite-throwbacks-with-bryan-martin-8/
LOCATION:VA
CATEGORIES:Outreach Program
END:VEVENT
END:VCALENDAR