BEGIN:VCALENDAR
VERSION:2.0
PRODID:-//ArtsConnect Virginia - ECPv6.15.20//NONSGML v1.0//EN
CALSCALE:GREGORIAN
METHOD:PUBLISH
X-ORIGINAL-URL:https://artsconnectva.org
X-WR-CALDESC:Events for ArtsConnect Virginia
REFRESH-INTERVAL;VALUE=DURATION:PT1H
X-Robots-Tag:noindex
X-PUBLISHED-TTL:PT1H
BEGIN:VTIMEZONE
TZID:America/New_York
BEGIN:DAYLIGHT
TZOFFSETFROM:-0500
TZOFFSETTO:-0400
TZNAME:EDT
DTSTART:20230312T070000
END:DAYLIGHT
BEGIN:STANDARD
TZOFFSETFROM:-0400
TZOFFSETTO:-0500
TZNAME:EST
DTSTART:20231105T060000
END:STANDARD
BEGIN:DAYLIGHT
TZOFFSETFROM:-0500
TZOFFSETTO:-0400
TZNAME:EDT
DTSTART:20240310T070000
END:DAYLIGHT
BEGIN:STANDARD
TZOFFSETFROM:-0400
TZOFFSETTO:-0500
TZNAME:EST
DTSTART:20241103T060000
END:STANDARD
BEGIN:DAYLIGHT
TZOFFSETFROM:-0500
TZOFFSETTO:-0400
TZNAME:EDT
DTSTART:20250309T070000
END:DAYLIGHT
BEGIN:STANDARD
TZOFFSETFROM:-0400
TZOFFSETTO:-0500
TZNAME:EST
DTSTART:20251102T060000
END:STANDARD
END:VTIMEZONE
BEGIN:VEVENT
DTSTART;TZID=America/New_York:20240223T140000
DTEND;TZID=America/New_York:20240223T150000
DTSTAMP:20260422T190014
CREATED:20240104T185910Z
LAST-MODIFIED:20240104T185910Z
UID:9496-1708696800-1708700400@artsconnectva.org
SUMMARY:Best of Yesteryear with Mike Finn
DESCRIPTION:Join in the fun and bring back fond memories with Mike’s engaging mix of mellow rock classics and singalong oldies. From the Beatles to Jimmy Buffett\, audiences will be singing choruses and swaying to the beat of their favorite songs from yesteryear.
URL:https://artsconnectva.org/event/best-of-yesteryear-with-mike-finn-40/
LOCATION:VA
CATEGORIES:Outreach Program
END:VEVENT
BEGIN:VEVENT
DTSTART;TZID=America/New_York:20240223T140000
DTEND;TZID=America/New_York:20240223T150000
DTSTAMP:20260422T190014
CREATED:20240115T193206Z
LAST-MODIFIED:20240115T193206Z
UID:9582-1708696800-1708700400@artsconnectva.org
SUMMARY:Trumpet Tunes with Chad McGill
DESCRIPTION:Join Chad as he plays a variety of music on the trumpet! From light jazz to The Beatles\, you will find his music has something for everyone!
URL:https://artsconnectva.org/event/trumpet-tunes-with-chad-mcgill-5/
LOCATION:VA
CATEGORIES:Outreach Program
END:VEVENT
BEGIN:VEVENT
DTSTART;TZID=America/New_York:20240223T140000
DTEND;TZID=America/New_York:20240223T150000
DTSTAMP:20260422T190014
CREATED:20240124T181156Z
LAST-MODIFIED:20240124T181156Z
UID:9661-1708696800-1708700400@artsconnectva.org
SUMMARY:Music\, Motown\, and More! with Richard Mekdeci
DESCRIPTION:Richard Mekdeci (mek-dee-see) is an award-winning songwriter and musician and a 22-year veteran of the Nashville songwriting community. He has produced\, written\, and recorded with such artists as Roseanne Cash\, Kathy Mattea\, Patty Loveless\, and others.
URL:https://artsconnectva.org/event/music-motown-and-more-with-richard-mekdeci-31/
LOCATION:VA
CATEGORIES:Outreach Program
END:VEVENT
BEGIN:VEVENT
DTSTART;TZID=America/New_York:20240223T140000
DTEND;TZID=America/New_York:20240223T150000
DTSTAMP:20260422T190014
CREATED:20240207T145045Z
LAST-MODIFIED:20240207T145045Z
UID:9762-1708696800-1708700400@artsconnectva.org
SUMMARY:Love Songs Through the Ages with Karen Stowe
DESCRIPTION:Join Karen as she plays beautiful love songs on the harp!
URL:https://artsconnectva.org/event/love-songs-through-the-ages-with-karen-stowe-2/
LOCATION:VA
CATEGORIES:Outreach Program
END:VEVENT
BEGIN:VEVENT
DTSTART;TZID=America/New_York:20240223T140000
DTEND;TZID=America/New_York:20240223T150000
DTSTAMP:20260422T190014
CREATED:20240213T214343Z
LAST-MODIFIED:20240213T214343Z
UID:9807-1708696800-1708700400@artsconnectva.org
SUMMARY:T-Shirts to Totes with Sonya Z Phillips
DESCRIPTION:Sonya will show you how you can live more sustainably by turning t-shirts into reusable tote bags using basic sewing techniques. \n 
URL:https://artsconnectva.org/event/t-shirts-to-totes-with-sonya-z-phillips-9/
LOCATION:VA
CATEGORIES:Outreach Program
END:VEVENT
BEGIN:VEVENT
DTSTART;TZID=America/New_York:20240226T110000
DTEND;TZID=America/New_York:20240226T120000
DTSTAMP:20260422T190014
CREATED:20240201T193810Z
LAST-MODIFIED:20240201T193810Z
UID:9703-1708945200-1708948800@artsconnectva.org
SUMMARY:Jazz Trumpet Tunes with Chad McGill
DESCRIPTION:Join Chad as he plays a variety of music on the trumpet! Enjoy this light jazz program!
URL:https://artsconnectva.org/event/jazz-trumpet-tunes-with-chad-mcgill/
LOCATION:VA
END:VEVENT
BEGIN:VEVENT
DTSTART;TZID=America/New_York:20240226T140000
DTEND;TZID=America/New_York:20240226T150000
DTSTAMP:20260422T190014
CREATED:20240102T181637Z
LAST-MODIFIED:20240102T181637Z
UID:9470-1708956000-1708959600@artsconnectva.org
SUMMARY:Old Time Favorites with Tom and Rose Schlater
DESCRIPTION:Enjoy live with Tom and Rose Schlater as they play well known popular hits from 1900 to 1975!
URL:https://artsconnectva.org/event/old-time-favorites-with-tom-and-rose-schlater-8/
LOCATION:VA
CATEGORIES:Outreach Program
END:VEVENT
BEGIN:VEVENT
DTSTART;TZID=America/New_York:20240226T150000
DTEND;TZID=America/New_York:20240226T160000
DTSTAMP:20260422T190014
CREATED:20240115T185323Z
LAST-MODIFIED:20240115T185323Z
UID:9564-1708959600-1708963200@artsconnectva.org
SUMMARY:Classic Rock Jams with The Earthtones
DESCRIPTION:
URL:https://artsconnectva.org/event/classic-rock-jams-with-the-earthtones/
LOCATION:VA
CATEGORIES:Outreach Program
END:VEVENT
BEGIN:VEVENT
DTSTART;TZID=America/New_York:20240227T110000
DTEND;TZID=America/New_York:20240227T120000
DTSTAMP:20260422T190014
CREATED:20240206T155739Z
LAST-MODIFIED:20240206T155739Z
UID:9715-1709031600-1709035200@artsconnectva.org
SUMMARY:Collage Magnet with Concetta Morales
DESCRIPTION:Let’s create a fun collage magnet!
URL:https://artsconnectva.org/event/collage-magnet-with-concetta-morales-2/
LOCATION:VA
CATEGORIES:Outreach Program
END:VEVENT
BEGIN:VEVENT
DTSTART;TZID=America/New_York:20240227T130000
DTEND;TZID=America/New_York:20240227T140000
DTSTAMP:20260422T190014
CREATED:20240124T181618Z
LAST-MODIFIED:20240124T181618Z
UID:9663-1709038800-1709042400@artsconnectva.org
SUMMARY:Music\, Motown\, and More! with Richard Mekdeci
DESCRIPTION:Richard Mekdeci (mek-dee-see) is an award-winning songwriter and musician and a 22-year veteran of the Nashville songwriting community. He has produced\, written\, and recorded with such artists as Roseanne Cash\, Kathy Mattea\, Patty Loveless\, and others. \n 
URL:https://artsconnectva.org/event/music-motown-and-more-with-richard-mekdeci-32/
LOCATION:VA
CATEGORIES:Outreach Program
END:VEVENT
BEGIN:VEVENT
DTSTART;TZID=America/New_York:20240227T140000
DTEND;TZID=America/New_York:20240227T150000
DTSTAMP:20260422T190014
CREATED:20240102T182037Z
LAST-MODIFIED:20240102T182037Z
UID:9472-1709042400-1709046000@artsconnectva.org
SUMMARY:Most Requested with Tom and Becky
DESCRIPTION:Enjoy versatile live music with Tom on Trumpet and Flugelhorn and Becky on French Horn and keyboards.
URL:https://artsconnectva.org/event/most-requested-with-tom-and-becky-5/
LOCATION:VA
CATEGORIES:Outreach Program
END:VEVENT
BEGIN:VEVENT
DTSTART;TZID=America/New_York:20240227T140000
DTEND;TZID=America/New_York:20240227T150000
DTSTAMP:20260422T190014
CREATED:20240115T192059Z
LAST-MODIFIED:20240115T192059Z
UID:9576-1709042400-1709046000@artsconnectva.org
SUMMARY:Melody Magic with Dan Smith
DESCRIPTION:Enjoy live performance of popular music from the 1940s\, 1950s and 1960s featuring big band\, classic country\, Elvis Presley\, Pat Boone\, and other icons of the era.
URL:https://artsconnectva.org/event/melody-magic-with-dan-smith-3/
LOCATION:VA
CATEGORIES:Outreach Program
END:VEVENT
BEGIN:VEVENT
DTSTART;TZID=America/New_York:20240227T140000
DTEND;TZID=America/New_York:20240227T150000
DTSTAMP:20260422T190014
CREATED:20240117T210346Z
LAST-MODIFIED:20240117T210346Z
UID:9613-1709042400-1709046000@artsconnectva.org
SUMMARY:T-Shirts to Totes with Sonya Z Phillips
DESCRIPTION:Sonya will show you how you can live more sustainably by turning t-shirts into reusable tote bags using basic sewing techniques.
URL:https://artsconnectva.org/event/t-shirts-to-totes-with-sonya-z-phillips-8/
LOCATION:VA
CATEGORIES:Outreach Program
END:VEVENT
BEGIN:VEVENT
DTSTART;TZID=America/New_York:20240228T103000
DTEND;TZID=America/New_York:20240228T113000
DTSTAMP:20260422T190014
CREATED:20231227T210050Z
LAST-MODIFIED:20231227T210050Z
UID:9415-1709116200-1709119800@artsconnectva.org
SUMMARY:Love Songs on the Harp with Karen Stowe
DESCRIPTION:Enjoy listening to beautiful and elegant harp music!
URL:https://artsconnectva.org/event/love-songs-on-the-harp-with-karen-stowe-2/
LOCATION:VA
CATEGORIES:Outreach Program
END:VEVENT
BEGIN:VEVENT
DTSTART;TZID=America/New_York:20240228T111500
DTEND;TZID=America/New_York:20240228T121500
DTSTAMP:20260422T190014
CREATED:20231204T190230Z
LAST-MODIFIED:20231204T190230Z
UID:9278-1709118900-1709122500@artsconnectva.org
SUMMARY:Famous Hits! with Cory Laser
DESCRIPTION:Enjoy listening to famous hits from 50’s\, 60’s\, and 70’s that everyone knows and can easily sing along!
URL:https://artsconnectva.org/event/famous-hits-with-cory-laser-4/
LOCATION:VA
CATEGORIES:Outreach Program
END:VEVENT
BEGIN:VEVENT
DTSTART;TZID=America/New_York:20240228T140000
DTEND;TZID=America/New_York:20240228T150000
DTSTAMP:20260422T190014
CREATED:20231219T200001Z
LAST-MODIFIED:20231219T200001Z
UID:9375-1709128800-1709132400@artsconnectva.org
SUMMARY:Candle Making with Ginnie Stover
DESCRIPTION:Join Ginnie as she guides you through the process of creating your own decorative gel candle! \n 
URL:https://artsconnectva.org/event/candle-making-with-ginnie-stover-8/
LOCATION:VA
CATEGORIES:Outreach Program
END:VEVENT
BEGIN:VEVENT
DTSTART;TZID=America/New_York:20240228T153000
DTEND;TZID=America/New_York:20240228T163000
DTSTAMP:20260422T190014
CREATED:20240124T174744Z
LAST-MODIFIED:20240124T174744Z
UID:9652-1709134200-1709137800@artsconnectva.org
SUMMARY:Beats with a Bell with Jean Howard
DESCRIPTION:View Flyer
URL:https://artsconnectva.org/event/beats-with-a-bell-with-jean-howard/
LOCATION:VA
CATEGORIES:Outreach Program
END:VEVENT
BEGIN:VEVENT
DTSTART;TZID=America/New_York:20240229T110000
DTEND;TZID=America/New_York:20240229T120000
DTSTAMP:20260422T190014
CREATED:20231228T162522Z
LAST-MODIFIED:20231228T162522Z
UID:9428-1709204400-1709208000@artsconnectva.org
SUMMARY:Beatnik Bongo with Creative Connections
DESCRIPTION:Lets make a Beatnik Bongo with Creative Connections!
URL:https://artsconnectva.org/event/beatnik-bongo-with-creative-connections/
LOCATION:VA
CATEGORIES:Outreach Program
END:VEVENT
BEGIN:VEVENT
DTSTART;TZID=America/New_York:20240229T140000
DTEND;TZID=America/New_York:20240229T150000
DTSTAMP:20260422T190014
CREATED:20240222T141647Z
LAST-MODIFIED:20240222T141647Z
UID:9881-1709215200-1709218800@artsconnectva.org
SUMMARY:Fun Drums with Jean Howard
DESCRIPTION:View Flyer
URL:https://artsconnectva.org/event/fun-drums-with-jean-howard/
LOCATION:VA
CATEGORIES:Outreach Program
END:VEVENT
BEGIN:VEVENT
DTSTART;TZID=America/New_York:20240301T140000
DTEND;TZID=America/New_York:20240301T150000
DTSTAMP:20260422T190015
CREATED:20240207T202037Z
LAST-MODIFIED:20240207T202037Z
UID:9781-1709301600-1709305200@artsconnectva.org
SUMMARY:All of the Favorites with Tina and Jim
DESCRIPTION:Tina and Jim provide interactive singalongs with favorites including jazz standards\, acoustic favorites\, and even some show tunes!
URL:https://artsconnectva.org/event/all-of-the-favorites-with-tina-and-jim-5/
LOCATION:VA
CATEGORIES:Outreach Program
END:VEVENT
BEGIN:VEVENT
DTSTART;TZID=America/New_York:20240301T153000
DTEND;TZID=America/New_York:20240301T163000
DTSTAMP:20260422T190015
CREATED:20240206T160100Z
LAST-MODIFIED:20240206T160100Z
UID:9717-1709307000-1709310600@artsconnectva.org
SUMMARY:Famous Hits! with Cory Laser
DESCRIPTION:Enjoy listening to famous hits from 50’s\, 60’s\, and 70’s that everyone knows and can easily sing along!
URL:https://artsconnectva.org/event/famous-hits-with-cory-laser-5/
LOCATION:VA
CATEGORIES:Outreach Program
END:VEVENT
BEGIN:VEVENT
DTSTART;TZID=America/New_York:20240303T103000
DTEND;TZID=America/New_York:20240303T113000
DTSTAMP:20260422T190015
CREATED:20240422T165347Z
LAST-MODIFIED:20240422T165443Z
UID:10435-1709461800-1709465400@artsconnectva.org
SUMMARY:Sunday Social with Art Rowe
DESCRIPTION:Art is an acoustic Guitarist and Singer that plays and sings a variety of music from country\, classic rock\, and oldies.
URL:https://artsconnectva.org/event/sunday-social-with-art-rowe-4/
LOCATION:VA
CATEGORIES:Outreach Program
END:VEVENT
BEGIN:VEVENT
DTSTART;TZID=America/New_York:20240304T140000
DTEND;TZID=America/New_York:20240304T150000
DTSTAMP:20260422T190015
CREATED:20240129T194616Z
LAST-MODIFIED:20240129T194616Z
UID:9687-1709560800-1709564400@artsconnectva.org
SUMMARY:The Classics with Jimmy G Sings
DESCRIPTION:Join Jimmy as he performs the most popular Acoustic Rock and Pop songs from the past 5 decades and today!
URL:https://artsconnectva.org/event/the-classics-with-jimmy-g-sings-2/
LOCATION:VA
CATEGORIES:Outreach Program
END:VEVENT
BEGIN:VEVENT
DTSTART;TZID=America/New_York:20240304T180000
DTEND;TZID=America/New_York:20240304T193000
DTSTAMP:20260422T190015
CREATED:20240422T170439Z
LAST-MODIFIED:20240422T170439Z
UID:10439-1709575200-1709580600@artsconnectva.org
SUMMARY:Zumba For All with NewMan Fitness
DESCRIPTION:In partnership with FACT\, Tanecia Newman with NewMan fitness this class will get everyBODY moving\, within their individual capabilities! This dance fitness program is focused on what they CAN do!
URL:https://artsconnectva.org/event/zumba-for-all-with-newman-fitness/
LOCATION:Chesapeake\, VA\, Chesapeake\, VA\, United States
CATEGORIES:Outreach Program
END:VEVENT
BEGIN:VEVENT
DTSTART;TZID=America/New_York:20240305T110000
DTEND;TZID=America/New_York:20240305T120000
DTSTAMP:20260422T190015
CREATED:20240422T170947Z
LAST-MODIFIED:20240422T170947Z
UID:10442-1709636400-1709640000@artsconnectva.org
SUMMARY:Chair Fitness with Vaness Golson
DESCRIPTION:Chair Fitness is a fun\, effective\, low intensity\, seated physical movement experience enhanced by upbeat music.
URL:https://artsconnectva.org/event/chair-fitness-with-vaness-golson/
LOCATION:Norfolk\, VA\, Norfolk\, VA\, United States
CATEGORIES:Outreach Program
END:VEVENT
BEGIN:VEVENT
DTSTART;TZID=America/New_York:20240305T130000
DTEND;TZID=America/New_York:20240305T140000
DTSTAMP:20260422T190015
CREATED:20240104T151902Z
LAST-MODIFIED:20240104T151902Z
UID:9484-1709643600-1709647200@artsconnectva.org
SUMMARY:Singing and Smiling with David Jones and Bryan Martin
DESCRIPTION:David and Bryan’s sole objective is to interact with the audience via talking and singing with them and most important putting a “Smile” on their Face! They will be singing a variety of music including country and classic rock.
URL:https://artsconnectva.org/event/singing-and-smiling-with-david-jones-and-bryan-martin-2/
LOCATION:VA
CATEGORIES:Outreach Program
END:VEVENT
BEGIN:VEVENT
DTSTART;TZID=America/New_York:20240305T133000
DTEND;TZID=America/New_York:20240305T143000
DTSTAMP:20260422T190015
CREATED:20240102T182337Z
LAST-MODIFIED:20240102T182337Z
UID:9474-1709645400-1709649000@artsconnectva.org
SUMMARY:Keep the Beat Social with Cory Laser
DESCRIPTION:Enjoy famous hits from the 50’s\, 60’s 70’s that everyone knows and can easily sing along to!
URL:https://artsconnectva.org/event/keep-the-beat-social-with-cory-laser-4/
LOCATION:VA
CATEGORIES:Outreach Program
END:VEVENT
BEGIN:VEVENT
DTSTART;TZID=America/New_York:20240305T140000
DTEND;TZID=America/New_York:20240305T150000
DTSTAMP:20260422T190015
CREATED:20240115T193554Z
LAST-MODIFIED:20240115T193554Z
UID:9584-1709647200-1709650800@artsconnectva.org
SUMMARY:Irish Tunes with Alex
DESCRIPTION:Join Alex for this beautiful Irish music program on the violin!
URL:https://artsconnectva.org/event/irish-tunes-with-alex/
LOCATION:VA
CATEGORIES:Outreach Program
END:VEVENT
BEGIN:VEVENT
DTSTART;TZID=America/New_York:20240305T140000
DTEND;TZID=America/New_York:20240305T150000
DTSTAMP:20260422T190015
CREATED:20240207T145947Z
LAST-MODIFIED:20240207T145947Z
UID:9764-1709647200-1709650800@artsconnectva.org
SUMMARY:Throwbacks with Bryan Martin
DESCRIPTION:View Flyer
URL:https://artsconnectva.org/event/throwbacks-with-bryan-martin-6/
LOCATION:VA
CATEGORIES:Outreach Program
END:VEVENT
BEGIN:VEVENT
DTSTART;TZID=America/New_York:20240306T100000
DTEND;TZID=America/New_York:20240306T110000
DTSTAMP:20260422T190015
CREATED:20240207T204605Z
LAST-MODIFIED:20240207T204605Z
UID:9793-1709719200-1709722800@artsconnectva.org
SUMMARY:Strummin' and Pickin' with Ted and Eric
DESCRIPTION:Eric and Ted perform a variety of original and traditional songs accompanying themselves on guitar and mandolin\, bluegrass\, folk\, ragtime\, novelty.
URL:https://artsconnectva.org/event/strummin-and-pickin-with-ted-and-eric-9/
LOCATION:VA
CATEGORIES:Outreach Program
END:VEVENT
END:VCALENDAR