BEGIN:VCALENDAR
VERSION:2.0
PRODID:-//ArtsConnect Virginia - ECPv6.15.20//NONSGML v1.0//EN
CALSCALE:GREGORIAN
METHOD:PUBLISH
X-WR-CALNAME:ArtsConnect Virginia
X-ORIGINAL-URL:https://artsconnectva.org
X-WR-CALDESC:Events for ArtsConnect Virginia
REFRESH-INTERVAL;VALUE=DURATION:PT1H
X-Robots-Tag:noindex
X-PUBLISHED-TTL:PT1H
BEGIN:VTIMEZONE
TZID:America/New_York
BEGIN:DAYLIGHT
TZOFFSETFROM:-0500
TZOFFSETTO:-0400
TZNAME:EDT
DTSTART:20240310T070000
END:DAYLIGHT
BEGIN:STANDARD
TZOFFSETFROM:-0400
TZOFFSETTO:-0500
TZNAME:EST
DTSTART:20241103T060000
END:STANDARD
BEGIN:DAYLIGHT
TZOFFSETFROM:-0500
TZOFFSETTO:-0400
TZNAME:EDT
DTSTART:20250309T070000
END:DAYLIGHT
BEGIN:STANDARD
TZOFFSETFROM:-0400
TZOFFSETTO:-0500
TZNAME:EST
DTSTART:20251102T060000
END:STANDARD
BEGIN:DAYLIGHT
TZOFFSETFROM:-0500
TZOFFSETTO:-0400
TZNAME:EDT
DTSTART:20260308T070000
END:DAYLIGHT
BEGIN:STANDARD
TZOFFSETFROM:-0400
TZOFFSETTO:-0500
TZNAME:EST
DTSTART:20261101T060000
END:STANDARD
END:VTIMEZONE
BEGIN:VEVENT
DTSTART;TZID=America/New_York:20250508T111500
DTEND;TZID=America/New_York:20250508T121500
DTSTAMP:20260420T033617
CREATED:20250418T145957Z
LAST-MODIFIED:20250418T145957Z
UID:13767-1746702900-1746706500@artsconnectva.org
SUMMARY:Motown Memories & More with Richard Mekdeci
DESCRIPTION:View Flyer
URL:https://artsconnectva.org/event/motown-memories-more-with-richard-mekdeci/
LOCATION:VA
CATEGORIES:Open to the Public,Outreach Program
END:VEVENT
BEGIN:VEVENT
DTSTART;TZID=America/New_York:20250508T130000
DTEND;TZID=America/New_York:20250508T140000
DTSTAMP:20260420T033617
CREATED:20250418T151424Z
LAST-MODIFIED:20250418T151424Z
UID:13770-1746709200-1746712800@artsconnectva.org
SUMMARY:Classics Sing Along with Mary Saunders
DESCRIPTION:Mary Saunders has been playing guitar since she was ten years old.  She calls herself an old “folkie” who loves to lead sing-along.  Mary enjoys it best when people are smiling and singing with her. Join Mary Saunders singing popular songs from 40s to 80z.  Pick up a rhythm instrument or sing-along with her.
URL:https://artsconnectva.org/event/classics-sing-along-with-mary-saunders/
LOCATION:VA
CATEGORIES:Outreach Program
END:VEVENT
BEGIN:VEVENT
DTSTART;TZID=America/New_York:20250508T140000
DTEND;TZID=America/New_York:20250508T150000
DTSTAMP:20260420T033617
CREATED:20250428T143310Z
LAST-MODIFIED:20250428T143310Z
UID:13914-1746712800-1746716400@artsconnectva.org
SUMMARY:Traditional Bluegrass & Old-Time Music with Beverly Taylor
DESCRIPTION:Beverly Taylor has been entertaining audiences of all ages in the Tidewater area for over 30 years. Her programs include solo or ensemble sessions.  She performs traditional\, bluegrass\, old-time and Celtic music\, folk music\, oldies and have sing along accompanied on Concert and Bariton Ukuleles.
URL:https://artsconnectva.org/event/traditional-bluegrass-old-time-music-with-beverly-taylor/
LOCATION:VA
CATEGORIES:Outreach Program
END:VEVENT
BEGIN:VEVENT
DTSTART;TZID=America/New_York:20250508T150000
DTEND;TZID=America/New_York:20250508T160000
DTSTAMP:20260420T033617
CREATED:20250418T152759Z
LAST-MODIFIED:20250418T152759Z
UID:13777-1746716400-1746720000@artsconnectva.org
SUMMARY:Acoustic Afternoon with Will Brooks
DESCRIPTION:Will Brooks musical journey began in a car seat listening to The Beatles.  Will shares music that moved him in hopes of moving others.  He blends hits and lesser -known gems from the 60s & 70s with modern covers\, original works\, and spontaneous improvisations.   He infused folk\, blues and blue grass influences making his performances an engaging journey.
URL:https://artsconnectva.org/event/acoustic-afternoon-with-will-brooks-2/
LOCATION:VA
CATEGORIES:Outreach Program
END:VEVENT
BEGIN:VEVENT
DTSTART;TZID=America/New_York:20250509T100000
DTEND;TZID=America/New_York:20250509T120000
DTSTAMP:20260420T033617
CREATED:20250418T155947Z
LAST-MODIFIED:20250507T164705Z
UID:13787-1746784800-1746792000@artsconnectva.org
SUMMARY:Moms Mums and Mimosas with Heidi Ordaz
DESCRIPTION:Participants will be led through a flower arranging class and will leave with a perfect gift for Mom or yourself! Space is limited! \nPlease call Cierra Vann at (757) 754-4778 to register!
URL:https://artsconnectva.org/event/moms-mums-and-mimosa-with-heidi-ordaz/
LOCATION:Centerwell Senior Primary Care – Chesapeake\, 1653 Sentinel Dr\, Chesapeake\, VA\, 23320\, United States
CATEGORIES:Open to the Public,Outreach Program
END:VEVENT
BEGIN:VEVENT
DTSTART;TZID=America/New_York:20250509T103000
DTEND;TZID=America/New_York:20250509T113000
DTSTAMP:20260420T033617
CREATED:20250423T131502Z
LAST-MODIFIED:20250423T131502Z
UID:13831-1746786600-1746790200@artsconnectva.org
SUMMARY:Word Signs with Heather Queen
DESCRIPTION:Heather Queen is a visual artist inspired by nature\, glass\, and reflection. She belies in the power of art to foster community and spark meaningful conversations.  Heather will guide you to create inspired word signs.
URL:https://artsconnectva.org/event/word-signs-with-heather-queen/
LOCATION:VA
CATEGORIES:Outreach Program
END:VEVENT
BEGIN:VEVENT
DTSTART;TZID=America/New_York:20250509T110000
DTEND;TZID=America/New_York:20250509T120000
DTSTAMP:20260420T033617
CREATED:20250418T161743Z
LAST-MODIFIED:20250418T161743Z
UID:13792-1746788400-1746792000@artsconnectva.org
SUMMARY:Floral Arranging with Rhona Dawson
DESCRIPTION:See Flyer
URL:https://artsconnectva.org/event/floral-arranging-with-rhona-dawson/
LOCATION:VA
CATEGORIES:Outreach Program
END:VEVENT
BEGIN:VEVENT
DTSTART;TZID=America/New_York:20250509T110000
DTEND;TZID=America/New_York:20250509T120000
DTSTAMP:20260420T033617
CREATED:20250423T154550Z
LAST-MODIFIED:20250423T154550Z
UID:13864-1746788400-1746792000@artsconnectva.org
SUMMARY:Line Dancing with Valerie Mosby
DESCRIPTION:See Flyer
URL:https://artsconnectva.org/event/line-dancing-with-valerie-mosby/
LOCATION:VA
CATEGORIES:Outreach Program
END:VEVENT
BEGIN:VEVENT
DTSTART;TZID=America/New_York:20250509T110000
DTEND;TZID=America/New_York:20250509T140000
DTSTAMP:20260420T033617
CREATED:20250507T163613Z
LAST-MODIFIED:20250507T163613Z
UID:13981-1746788400-1746799200@artsconnectva.org
SUMMARY:Mother's Day Celebration with Chromatica
DESCRIPTION:View Flyer \nCall Curtis R. Milteer Recreation Center to register (757) 514-7100
URL:https://artsconnectva.org/event/mothers-day-celebration-with-chromatica/
LOCATION:Curtis R. Milteer\, Sr. Recreation Center\, 132 Roberston St\, Suffolk\, VA\, 23438\, United States
CATEGORIES:Open to the Public,Outreach Program
END:VEVENT
BEGIN:VEVENT
DTSTART;TZID=America/New_York:20250509T140000
DTEND;TZID=America/New_York:20250509T150000
DTSTAMP:20260420T033617
CREATED:20250418T153431Z
LAST-MODIFIED:20250418T153431Z
UID:13779-1746799200-1746802800@artsconnectva.org
SUMMARY:Groovin to Hits form the50s to the 70s with MaryAnn Toboz
DESCRIPTION:See Flyer
URL:https://artsconnectva.org/event/groovin-to-hits-form-the50s-to-the-70s-with-maryann-toboz/
LOCATION:VA
CATEGORIES:Outreach Program
END:VEVENT
BEGIN:VEVENT
DTSTART;TZID=America/New_York:20250509T140000
DTEND;TZID=America/New_York:20250509T150000
DTSTAMP:20260420T033617
CREATED:20250418T153745Z
LAST-MODIFIED:20250507T164746Z
UID:13782-1746799200-1746802800@artsconnectva.org
SUMMARY:Floral Bouquet Painting with Stephanie Slate
DESCRIPTION:See Flyer
URL:https://artsconnectva.org/event/floral-bouquet-painting-wit-stephanie-slate/
LOCATION:Norfolk\, VA\, Norfolk\, VA\, United States
CATEGORIES:Outreach Program
END:VEVENT
BEGIN:VEVENT
DTSTART;TZID=America/New_York:20250509T140000
DTEND;TZID=America/New_York:20250509T150000
DTSTAMP:20260420T033617
CREATED:20250418T154456Z
LAST-MODIFIED:20250418T154456Z
UID:13785-1746799200-1746802800@artsconnectva.org
SUMMARY:Music and Memories with Adrienne Searle
DESCRIPTION:Adrienne Searle is forging a path she loves by pairing her passion and talents for music and art with the needs and desires of the ever-aging population.  Her Melody Memories program is a great way to remember music of our past.  Adrianne is also a visual art artist\, and her programs include acrylic paints\, paint pens\, watercolors\, and more.
URL:https://artsconnectva.org/event/music-and-memories-with-adrienne-searle/
LOCATION:VA
CATEGORIES:Outreach Program
END:VEVENT
BEGIN:VEVENT
DTSTART;TZID=America/New_York:20250509T140000
DTEND;TZID=America/New_York:20250509T150000
DTSTAMP:20260420T033617
CREATED:20250507T164934Z
LAST-MODIFIED:20250507T164934Z
UID:13987-1746799200-1746802800@artsconnectva.org
SUMMARY:Happy Hour with Jim Bulleit
DESCRIPTION:Jim has been writing songs occasionally since his college days and have recorded two CDs–A Family Album in 2000 and Prufrock’s Blues in 2015–both of which have received some local radio play. During those years he taught English for the Virginia Beach Public Schools and performed only sporadically. Since retiring in 2012\, he has been working part-time as an adjunct professor at Tidewater Community College\, which has allowed him more time to focus on his songwriting. One of my songs\, “Parkland” was recognized as one of the best local releases from Hampton Roads in 2018.
URL:https://artsconnectva.org/event/happy-hour-with-jim-bulleit/
LOCATION:VA
CATEGORIES:Outreach Program
END:VEVENT
BEGIN:VEVENT
DTSTART;TZID=America/New_York:20250510T133000
DTEND;TZID=America/New_York:20250510T143000
DTSTAMP:20260420T033617
CREATED:20250418T170858Z
LAST-MODIFIED:20250507T165251Z
UID:13795-1746883800-1746887400@artsconnectva.org
SUMMARY:Art Show Reception with Sean Arawjo
DESCRIPTION:See Flyer
URL:https://artsconnectva.org/event/art-show-reception-with-sean-arawjo/
LOCATION:Downing Gross Cultural Arts Center\, 2410 Wickham Ave\, Newport News\, VA\, 23607\, United States
CATEGORIES:Open to the Public,Outreach Program
END:VEVENT
BEGIN:VEVENT
DTSTART;TZID=America/New_York:20250511T120000
DTEND;TZID=America/New_York:20250511T140000
DTSTAMP:20260420T033617
CREATED:20250418T171618Z
LAST-MODIFIED:20250418T171618Z
UID:13798-1746964800-1746972000@artsconnectva.org
SUMMARY:Movies Themes and Showtunes with Karen Stowe
DESCRIPTION:See Flyer
URL:https://artsconnectva.org/event/movies-themes-and-showtunes-with-karen-stowe/
LOCATION:VA
CATEGORIES:Outreach Program
END:VEVENT
BEGIN:VEVENT
DTSTART;TZID=America/New_York:20250512T140000
DTEND;TZID=America/New_York:20250512T150000
DTSTAMP:20260420T033617
CREATED:20250418T172144Z
LAST-MODIFIED:20250418T172144Z
UID:13801-1747058400-1747062000@artsconnectva.org
SUMMARY:Spring Watercolor with Heidi Ordaz
DESCRIPTION:See Flyer
URL:https://artsconnectva.org/event/spring-watercolor-with-heidi-ordaz/
LOCATION:VA
CATEGORIES:Outreach Program
END:VEVENT
BEGIN:VEVENT
DTSTART;TZID=America/New_York:20250512T140000
DTEND;TZID=America/New_York:20250512T150000
DTSTAMP:20260420T033617
CREATED:20250507T165156Z
LAST-MODIFIED:20250507T165156Z
UID:13989-1747058400-1747062000@artsconnectva.org
SUMMARY:Mother's Day Celebration with Alex Antonio
DESCRIPTION:Alex plays the violin and will provide classical and contemporary music for this Celebration of Mothers!
URL:https://artsconnectva.org/event/mothers-day-celebration-with-alex-antonio/
LOCATION:Newport News\, VA\, Newport News\, VA\, United States
CATEGORIES:Outreach Program
END:VEVENT
BEGIN:VEVENT
DTSTART;TZID=America/New_York:20250512T150000
DTEND;TZID=America/New_York:20250512T160000
DTSTAMP:20260420T033617
CREATED:20250418T172632Z
LAST-MODIFIED:20250418T172632Z
UID:13804-1747062000-1747065600@artsconnectva.org
SUMMARY:Celebrating National Nursing Home with Daniel Smith
DESCRIPTION:
URL:https://artsconnectva.org/event/celebrating-national-nursing-home-with-daniel-smith/
LOCATION:VA
CATEGORIES:Outreach Program
END:VEVENT
BEGIN:VEVENT
DTSTART;TZID=America/New_York:20250512T153000
DTEND;TZID=America/New_York:20250512T163000
DTSTAMP:20260420T033618
CREATED:20250418T173540Z
LAST-MODIFIED:20250418T173540Z
UID:13808-1747063800-1747067400@artsconnectva.org
SUMMARY:POP Divas! with Melissa Cartwright
DESCRIPTION:See Flyer
URL:https://artsconnectva.org/event/pop-divas-with-melissa-cartwright/
LOCATION:VA
CATEGORIES:Outreach Program
END:VEVENT
BEGIN:VEVENT
DTSTART;TZID=America/New_York:20250512T153000
DTEND;TZID=America/New_York:20250512T163000
DTSTAMP:20260420T033618
CREATED:20250423T133622Z
LAST-MODIFIED:20250423T133622Z
UID:13833-1747063800-1747067400@artsconnectva.org
SUMMARY:Songs Through the Decades with Karen Stowe
DESCRIPTION:Karen Stowe is a certified by the Music for Healing and Transition Program as a Certified Music Practitioner. She brings her unique gift of soothing harp music to the Tidewater area for nearly 20 years. Her program welcome participants to sing\, clap or laugh along\, or simply to sit in silence and listen.
URL:https://artsconnectva.org/event/songs-through-the-decades-with-karen-stowe/
LOCATION:VA
CATEGORIES:Outreach Program
END:VEVENT
BEGIN:VEVENT
DTSTART;TZID=America/New_York:20250513T133000
DTEND;TZID=America/New_York:20250513T143000
DTSTAMP:20260420T033618
CREATED:20250423T134652Z
LAST-MODIFIED:20250423T134652Z
UID:13835-1747143000-1747146600@artsconnectva.org
SUMMARY:Keep the Beat Social with Will Brooks
DESCRIPTION:Will Brooks is a musician whose journey began in a car seat listening to The Beatles.  He blends hits and lesser-known gems form the 60s and 70s with modern covers\, original works\, and spontaneous improvisations.  His performances offer dynamic and engaging musical journeys.
URL:https://artsconnectva.org/event/keep-the-beat-social-with-will-brooks/
LOCATION:VA
CATEGORIES:Outreach Program
END:VEVENT
BEGIN:VEVENT
DTSTART;TZID=America/New_York:20250513T144500
DTEND;TZID=America/New_York:20250513T154500
DTSTAMP:20260420T033618
CREATED:20250423T135351Z
LAST-MODIFIED:20250507T165535Z
UID:13838-1747147500-1747151100@artsconnectva.org
SUMMARY:Hits from the 70s with Dr. Chad McGill
DESCRIPTION:Dr. Chad is a trumpeter and music educator with over 22 years of military band experience. As a performer\, arranger\, and emcee\, he combines technical mastery and heartfelt artistry to connect with audiences through a variety of musical styles.
URL:https://artsconnectva.org/event/hits-from-the-70s-with-savannah-howell/
LOCATION:VA
CATEGORIES:Outreach Program
END:VEVENT
BEGIN:VEVENT
DTSTART;TZID=America/New_York:20250514T103000
DTEND;TZID=America/New_York:20250514T113000
DTSTAMP:20260420T033618
CREATED:20250423T191711Z
LAST-MODIFIED:20250507T165725Z
UID:13882-1747218600-1747222200@artsconnectva.org
SUMMARY:Hello Spring Cards with Myra Walton-Basnight
DESCRIPTION:See Flyer \nPlease call Bay Lake to register: Colin Kindred\, ( 757) 460-8868  \nLimited spaces available
URL:https://artsconnectva.org/event/hello-spring-cards-with-myra-walton-basnight/
LOCATION:Bay Lake Independent Living\, Assisted Living\, And Memory Care\, 4225 Shore Drive\, Virginia Beach\, VA\, 23455\, United States
CATEGORIES:Open to the Public,Outreach Program
END:VEVENT
BEGIN:VEVENT
DTSTART;TZID=America/New_York:20250514T110000
DTEND;TZID=America/New_York:20250514T120000
DTSTAMP:20260420T033618
CREATED:20250423T135759Z
LAST-MODIFIED:20250423T135759Z
UID:13840-1747220400-1747224000@artsconnectva.org
SUMMARY:Pour Painting Vase with Susan Owens
DESCRIPTION:See Flyer
URL:https://artsconnectva.org/event/pour-painting-vase-with-susan-owens/
LOCATION:VA
CATEGORIES:Outreach Program
END:VEVENT
BEGIN:VEVENT
DTSTART;TZID=America/New_York:20250514T140000
DTEND;TZID=America/New_York:20250514T150000
DTSTAMP:20260420T033618
CREATED:20250423T140938Z
LAST-MODIFIED:20250423T140938Z
UID:13843-1747231200-1747234800@artsconnectva.org
SUMMARY:Suncatcher with Heather Queen
DESCRIPTION:Heather Queen is a visual artist inspired by nature\, glass and reflection. She has been involved in the arts for more than thirty years and believes in the power of art to foster community and spark meaningful conversations.  Here projects delve into unique art topics\, inviting viewers to engage with textures\, transparency\, and beauty of found objects.
URL:https://artsconnectva.org/event/suncatcher-with-heather-queen/
LOCATION:VA
CATEGORIES:Outreach Program
END:VEVENT
BEGIN:VEVENT
DTSTART;TZID=America/New_York:20250514T140000
DTEND;TZID=America/New_York:20250514T150000
DTSTAMP:20260420T033618
CREATED:20250423T143656Z
LAST-MODIFIED:20250507T170014Z
UID:13846-1747231200-1747234800@artsconnectva.org
SUMMARY:Piano Tunes with Christian Flores
DESCRIPTION:See Flyer
URL:https://artsconnectva.org/event/piano-tunes-with-christian-flores-28/
LOCATION:Rokeby Center\, 1709 Rokeby Ave\, Chesapeake\, VA\, 23320\, United States
CATEGORIES:Open to the Public,Outreach Program
END:VEVENT
BEGIN:VEVENT
DTSTART;TZID=America/New_York:20250514T140000
DTEND;TZID=America/New_York:20250514T150000
DTSTAMP:20260420T033618
CREATED:20250423T144133Z
LAST-MODIFIED:20250507T170238Z
UID:13849-1747231200-1747234800@artsconnectva.org
SUMMARY:Tunes and Blooms with Ashley -Michele Cayon
DESCRIPTION:See Flyer
URL:https://artsconnectva.org/event/tunes-and-blooms-with-asheley-michele-cayon/
LOCATION:VA
CATEGORIES:Outreach Program
END:VEVENT
BEGIN:VEVENT
DTSTART;TZID=America/New_York:20250514T143000
DTEND;TZID=America/New_York:20250514T153000
DTSTAMP:20260420T033618
CREATED:20250423T144428Z
LAST-MODIFIED:20250423T144428Z
UID:13852-1747233000-1747236600@artsconnectva.org
SUMMARY:Trumpet Tunes with Chad McGill
DESCRIPTION:See Flyer
URL:https://artsconnectva.org/event/trumpet-tunes-with-chad-mcgill-35/
LOCATION:VA
CATEGORIES:Outreach Program
END:VEVENT
BEGIN:VEVENT
DTSTART;TZID=America/New_York:20250514T153000
DTEND;TZID=America/New_York:20250514T163000
DTSTAMP:20260420T033618
CREATED:20250423T151715Z
LAST-MODIFIED:20250507T170201Z
UID:13859-1747236600-1747240200@artsconnectva.org
SUMMARY:Magic & Mentalism with Sean McKenzie
DESCRIPTION:Sean McKenzie was fascinated with magic at an early age.  He has spent the last ten years studying the art of magic and now he performs a fun and mystifying Mentalism and Car Magic act.  Mentalis is the art of performing feats of memorization\, mind reading\, hypnosis\, psychometry\, and predictions appearing to be of supernatural means. Sean is not a psychic.
URL:https://artsconnectva.org/event/magic-mentalism-with-sean-mckenzie/
LOCATION:VA
CATEGORIES:Open to the Public,Outreach Program
END:VEVENT
BEGIN:VEVENT
DTSTART;TZID=America/New_York:20250514T170000
DTEND;TZID=America/New_York:20250514T183000
DTSTAMP:20260420T033618
CREATED:20250423T153103Z
LAST-MODIFIED:20250507T170355Z
UID:13861-1747242000-1747247400@artsconnectva.org
SUMMARY:Resin Shell Ecosystem with Heather Queen
DESCRIPTION:See Flyer \nCall Dyshae Norman\, (757) 823-4825 to register. Limited space available.
URL:https://artsconnectva.org/event/resin-shell-ecosystem-with-heather-queen-2/
LOCATION:Jordan-Newby Anchor Branch Library\, 1425 Norchester Ave\, Norfolk\, VA\, 23504\, United States
CATEGORIES:Open to the Public,Outreach Program
END:VEVENT
END:VCALENDAR