BEGIN:VCALENDAR
VERSION:2.0
PRODID:-//ArtsConnect Virginia - ECPv6.15.20//NONSGML v1.0//EN
CALSCALE:GREGORIAN
METHOD:PUBLISH
X-WR-CALNAME:ArtsConnect Virginia
X-ORIGINAL-URL:https://artsconnectva.org
X-WR-CALDESC:Events for ArtsConnect Virginia
REFRESH-INTERVAL;VALUE=DURATION:PT1H
X-Robots-Tag:noindex
X-PUBLISHED-TTL:PT1H
BEGIN:VTIMEZONE
TZID:America/New_York
BEGIN:DAYLIGHT
TZOFFSETFROM:-0500
TZOFFSETTO:-0400
TZNAME:EDT
DTSTART:20240310T070000
END:DAYLIGHT
BEGIN:STANDARD
TZOFFSETFROM:-0400
TZOFFSETTO:-0500
TZNAME:EST
DTSTART:20241103T060000
END:STANDARD
BEGIN:DAYLIGHT
TZOFFSETFROM:-0500
TZOFFSETTO:-0400
TZNAME:EDT
DTSTART:20250309T070000
END:DAYLIGHT
BEGIN:STANDARD
TZOFFSETFROM:-0400
TZOFFSETTO:-0500
TZNAME:EST
DTSTART:20251102T060000
END:STANDARD
BEGIN:DAYLIGHT
TZOFFSETFROM:-0500
TZOFFSETTO:-0400
TZNAME:EDT
DTSTART:20260308T070000
END:DAYLIGHT
BEGIN:STANDARD
TZOFFSETFROM:-0400
TZOFFSETTO:-0500
TZNAME:EST
DTSTART:20261101T060000
END:STANDARD
END:VTIMEZONE
BEGIN:VEVENT
DTSTART;TZID=America/New_York:20250327T140000
DTEND;TZID=America/New_York:20250327T150000
DTSTAMP:20260419T220847
CREATED:20250313T235850Z
LAST-MODIFIED:20250313T235850Z
UID:13348-1743084000-1743087600@artsconnectva.org
SUMMARY:All the Classics with Cory Laser
DESCRIPTION:Join Cory Laser and enjoy listening to famous hits from the 50’s\, 60’s\, and 70s that everyone knows and can easily sing along to!
URL:https://artsconnectva.org/event/all-the-classics-with-cory-laser-2/
LOCATION:VA
CATEGORIES:Outreach Program
END:VEVENT
BEGIN:VEVENT
DTSTART;TZID=America/New_York:20250327T130000
DTEND;TZID=America/New_York:20250327T140000
DTSTAMP:20260419T220847
CREATED:20250313T235637Z
LAST-MODIFIED:20250313T235637Z
UID:13344-1743080400-1743084000@artsconnectva.org
SUMMARY:Under the Sea Frame with Heather Queen
DESCRIPTION:View Flyer
URL:https://artsconnectva.org/event/under-the-sea-frame-with-heather-queen/
LOCATION:VA
CATEGORIES:Outreach Program
END:VEVENT
BEGIN:VEVENT
DTSTART;TZID=America/New_York:20250327T130000
DTEND;TZID=America/New_York:20250327T140000
DTSTAMP:20260419T220847
CREATED:20250313T235509Z
LAST-MODIFIED:20250313T235509Z
UID:13342-1743080400-1743084000@artsconnectva.org
SUMMARY:Let's Sing! with David Jones and Ron Vinson
DESCRIPTION:Join David Jones whose sole objective is to interact with the audience via talking and singing with them and most important putting a “Smile” on their Face.
URL:https://artsconnectva.org/event/lets-sing-with-david-jones-and-ron-vinson/
LOCATION:VA
CATEGORIES:Outreach Program
END:VEVENT
BEGIN:VEVENT
DTSTART;TZID=America/New_York:20250327T120000
DTEND;TZID=America/New_York:20250327T130000
DTSTAMP:20260419T220847
CREATED:20250307T172133Z
LAST-MODIFIED:20250307T172133Z
UID:13174-1743076800-1743080400@artsconnectva.org
SUMMARY:Virtual Event: The Art of Healthy Living
DESCRIPTION:Join AARP Virginia and Fit Goddess Tribe every Thursday in March at NOON for a Virtual Series explores ways to improve your overall health and well-being. \nIn the final week of the session attendees will engage in a comprehensive exploration of holistic health\, emphasizing the integration of physical fitness\, mental clarity\, and emotional balance. Participants will engage in interactive discussions on creating a healthy lifestyle that includes movement\, nutrition\, self-care\, and mindfulness practices. The Art of Healthy Living encourages participants to embrace a holistic approach to wellness\, focusing on the mind-body connection as the key to living a vibrant and fulfilling life. \nRegister here
URL:https://artsconnectva.org/event/virtual-event-the-art-of-healthy-living/
LOCATION:VA
CATEGORIES:Open to the Public,Outreach Program
END:VEVENT
BEGIN:VEVENT
DTSTART;TZID=America/New_York:20250326T150000
DTEND;TZID=America/New_York:20250326T160000
DTSTAMP:20260419T220847
CREATED:20250313T235233Z
LAST-MODIFIED:20250313T235233Z
UID:13338-1743001200-1743004800@artsconnectva.org
SUMMARY:Pages of Our Lives: Community Reading #2
DESCRIPTION:This is the second community reading of the Pages of Our Lives writing group. There will be a small reception following this program.
URL:https://artsconnectva.org/event/pages-of-our-lives-community-reading-2/
LOCATION:VA
CATEGORIES:Outreach Program
END:VEVENT
BEGIN:VEVENT
DTSTART;TZID=America/New_York:20250326T143000
DTEND;TZID=America/New_York:20250326T153000
DTSTAMP:20260419T220847
CREATED:20250313T235141Z
LAST-MODIFIED:20250313T235141Z
UID:13335-1742999400-1743003000@artsconnectva.org
SUMMARY:Card Making and More with Sandy Kinchen
DESCRIPTION:View Flyer
URL:https://artsconnectva.org/event/card-making-and-more-with-sandy-kinchen/
LOCATION:VA
CATEGORIES:Outreach Program
END:VEVENT
BEGIN:VEVENT
DTSTART;TZID=America/New_York:20250326T140000
DTEND;TZID=America/New_York:20250326T150000
DTSTAMP:20260419T220847
CREATED:20250313T234957Z
LAST-MODIFIED:20250313T234957Z
UID:13332-1742997600-1743001200@artsconnectva.org
SUMMARY:Gelli MonoPrints with Heidi
DESCRIPTION:View Flyer
URL:https://artsconnectva.org/event/gelli-monoprints-with-heidi/
LOCATION:VA
CATEGORIES:Outreach Program
END:VEVENT
BEGIN:VEVENT
DTSTART;TZID=America/New_York:20250326T113000
DTEND;TZID=America/New_York:20250326T123000
DTSTAMP:20260419T220847
CREATED:20250326T213214Z
LAST-MODIFIED:20250326T213214Z
UID:13458-1742988600-1742992200@artsconnectva.org
SUMMARY:Move and Groove with NewMan Fitness
DESCRIPTION:View Flyer
URL:https://artsconnectva.org/event/move-and-groove-with-newman-fitness/
LOCATION:Norfolk\, VA\, Norfolk\, VA\, United States
CATEGORIES:Outreach Program
END:VEVENT
BEGIN:VEVENT
DTSTART;TZID=America/New_York:20250325T150000
DTEND;TZID=America/New_York:20250325T160000
DTSTAMP:20260419T220847
CREATED:20250313T234834Z
LAST-MODIFIED:20250313T234834Z
UID:13330-1742914800-1742918400@artsconnectva.org
SUMMARY:Pages of Our Lives Community Reading #1
DESCRIPTION:This is the first of two Community Reading to be done as a culmination of the work that has been done by the participants in the Pages of Our Lives writing group.
URL:https://artsconnectva.org/event/pages-of-our-lives-community-reading-1/
LOCATION:VA
CATEGORIES:Outreach Program
END:VEVENT
BEGIN:VEVENT
DTSTART;TZID=America/New_York:20250325T140000
DTEND;TZID=America/New_York:20250325T150000
DTSTAMP:20260419T220847
CREATED:20250313T234733Z
LAST-MODIFIED:20250313T234733Z
UID:13327-1742911200-1742914800@artsconnectva.org
SUMMARY:Sing Along Favorites with Mary Saunders
DESCRIPTION:View Flyer
URL:https://artsconnectva.org/event/sing-along-favorites-with-mary-saunders/
LOCATION:VA
CATEGORIES:Outreach Program
END:VEVENT
BEGIN:VEVENT
DTSTART;TZID=America/New_York:20250325T140000
DTEND;TZID=America/New_York:20250325T150000
DTSTAMP:20260419T220847
CREATED:20250313T234555Z
LAST-MODIFIED:20250313T234555Z
UID:13324-1742911200-1742914800@artsconnectva.org
SUMMARY:Piano Tunes with Christian Flores
DESCRIPTION:View Flyer
URL:https://artsconnectva.org/event/piano-tunes-with-christian-flores-24/
LOCATION:VA
CATEGORIES:Outreach Program
END:VEVENT
BEGIN:VEVENT
DTSTART;TZID=America/New_York:20250325T140000
DTEND;TZID=America/New_York:20250325T150000
DTSTAMP:20260419T220847
CREATED:20250313T234444Z
LAST-MODIFIED:20250313T234444Z
UID:13321-1742911200-1742914800@artsconnectva.org
SUMMARY:Gel-Candle Making with Ginnie Stover
DESCRIPTION:View Flyer
URL:https://artsconnectva.org/event/gel-candle-making-with-ginnie-stover/
LOCATION:VA
CATEGORIES:Outreach Program
END:VEVENT
BEGIN:VEVENT
DTSTART;TZID=America/New_York:20250325T133000
DTEND;TZID=America/New_York:20250325T143000
DTSTAMP:20260419T220847
CREATED:20250313T234337Z
LAST-MODIFIED:20250313T234337Z
UID:13318-1742909400-1742913000@artsconnectva.org
SUMMARY:Keep the Beat Social with Ascension Melodies
DESCRIPTION:View Flyer
URL:https://artsconnectva.org/event/keep-the-beat-social-with-ascension-melodies-4/
LOCATION:VA
CATEGORIES:Outreach Program
END:VEVENT
BEGIN:VEVENT
DTSTART;TZID=America/New_York:20250325T130000
DTEND;TZID=America/New_York:20250325T140000
DTSTAMP:20260419T220847
CREATED:20250313T234229Z
LAST-MODIFIED:20250313T234229Z
UID:13315-1742907600-1742911200@artsconnectva.org
SUMMARY:Great Hits of '50's-'70's with Cory Laser
DESCRIPTION:View Flyer
URL:https://artsconnectva.org/event/great-hits-of-50s-70s-with-cory-laser/
LOCATION:VA
CATEGORIES:Outreach Program
END:VEVENT
BEGIN:VEVENT
DTSTART;TZID=America/New_York:20250325T110000
DTEND;TZID=America/New_York:20250325T120000
DTSTAMP:20260419T220847
CREATED:20250321T002855Z
LAST-MODIFIED:20250321T002855Z
UID:13435-1742900400-1742904000@artsconnectva.org
SUMMARY:Under the Sea Resin Frame with Heather Queen
DESCRIPTION:View Flyer
URL:https://artsconnectva.org/event/under-the-sea-resin-frame-with-heather-queen/
LOCATION:VA
CATEGORIES:Outreach Program
END:VEVENT
BEGIN:VEVENT
DTSTART;TZID=America/New_York:20250324T153000
DTEND;TZID=America/New_York:20250324T163000
DTSTAMP:20260419T220847
CREATED:20250313T234101Z
LAST-MODIFIED:20250313T234101Z
UID:13312-1742830200-1742833800@artsconnectva.org
SUMMARY:Stand Up Comedy with Rona Hyman
DESCRIPTION:View Flyer
URL:https://artsconnectva.org/event/stand-up-comedy-with-rona-hyman-8/
LOCATION:VA
CATEGORIES:Outreach Program
END:VEVENT
BEGIN:VEVENT
DTSTART;TZID=America/New_York:20250324T103000
DTEND;TZID=America/New_York:20250324T113000
DTSTAMP:20260419T220847
CREATED:20250313T233948Z
LAST-MODIFIED:20250313T233948Z
UID:13309-1742812200-1742815800@artsconnectva.org
SUMMARY:Air Dry Clay with Heidi Ordaz
DESCRIPTION:View Flyer
URL:https://artsconnectva.org/event/air-dry-clay-with-heidi-ordaz/
LOCATION:VA
CATEGORIES:Outreach Program
END:VEVENT
BEGIN:VEVENT
DTSTART;TZID=America/New_York:20250322T150000
DTEND;TZID=America/New_York:20250322T160000
DTSTAMP:20260419T220847
CREATED:20250313T233732Z
LAST-MODIFIED:20250313T233732Z
UID:13306-1742655600-1742659200@artsconnectva.org
SUMMARY:Traditional Irish Dancing with Moonlight Irish Dance Company
DESCRIPTION:View Flyer
URL:https://artsconnectva.org/event/traditional-irish-dancing-with-moonlight-irish-dance-company/
LOCATION:VA
CATEGORIES:Outreach Program
END:VEVENT
BEGIN:VEVENT
DTSTART;TZID=America/New_York:20250322T140000
DTEND;TZID=America/New_York:20250322T150000
DTSTAMP:20260419T220847
CREATED:20250313T233604Z
LAST-MODIFIED:20250313T233604Z
UID:13303-1742652000-1742655600@artsconnectva.org
SUMMARY:Spring Wreath with Delresa White
DESCRIPTION:View Flyer
URL:https://artsconnectva.org/event/spring-wreath-with-delresa-white/
LOCATION:VA
CATEGORIES:Outreach Program
END:VEVENT
BEGIN:VEVENT
DTSTART;TZID=America/New_York:20250321T163000
DTEND;TZID=America/New_York:20250321T173000
DTSTAMP:20260419T220847
CREATED:20250305T154635Z
LAST-MODIFIED:20250305T154635Z
UID:13141-1742574600-1742578200@artsconnectva.org
SUMMARY:Paint Night with Heidi Ordaz
DESCRIPTION:
URL:https://artsconnectva.org/event/paint-night-with-heidi-ordaz-2/
LOCATION:VA
CATEGORIES:Outreach Program
END:VEVENT
BEGIN:VEVENT
DTSTART;TZID=America/New_York:20250321T140000
DTEND;TZID=America/New_York:20250321T150000
DTSTAMP:20260419T220847
CREATED:20250313T233453Z
LAST-MODIFIED:20250313T233453Z
UID:13301-1742565600-1742569200@artsconnectva.org
SUMMARY:Visual Arts with Maggie Kerrigan
DESCRIPTION:Join Maggie for a themed visual arts program.
URL:https://artsconnectva.org/event/visual-arts-with-maggie-kerrigan/
LOCATION:VA
CATEGORIES:Outreach Program
END:VEVENT
BEGIN:VEVENT
DTSTART;TZID=America/New_York:20250321T140000
DTEND;TZID=America/New_York:20250321T150000
DTSTAMP:20260419T220847
CREATED:20250313T233321Z
LAST-MODIFIED:20250313T233321Z
UID:13298-1742565600-1742569200@artsconnectva.org
SUMMARY:Brass Tunes with Thalia Brass Quintet
DESCRIPTION:View Flyer
URL:https://artsconnectva.org/event/brass-tunes-with-thalia-brass-quintet-3/
LOCATION:VA
CATEGORIES:Outreach Program
END:VEVENT
BEGIN:VEVENT
DTSTART;TZID=America/New_York:20250321T140000
DTEND;TZID=America/New_York:20250321T150000
DTSTAMP:20260419T220847
CREATED:20250313T233214Z
LAST-MODIFIED:20250313T233214Z
UID:13295-1742565600-1742569200@artsconnectva.org
SUMMARY:All the Favorites with Dan Smith
DESCRIPTION:View Flyer
URL:https://artsconnectva.org/event/all-the-favorites-with-dan-smith-4/
LOCATION:VA
CATEGORIES:Outreach Program
END:VEVENT
BEGIN:VEVENT
DTSTART;TZID=America/New_York:20250321T130000
DTEND;TZID=America/New_York:20250321T140000
DTSTAMP:20260419T220847
CREATED:20250313T233108Z
LAST-MODIFIED:20250313T233108Z
UID:13292-1742562000-1742565600@artsconnectva.org
SUMMARY:Chair Exercise with Fit Goddess Tribe
DESCRIPTION:View Flyer
URL:https://artsconnectva.org/event/chair-exercise-with-fit-goddess-tribe/
LOCATION:VA
CATEGORIES:Outreach Program
END:VEVENT
BEGIN:VEVENT
DTSTART;TZID=America/New_York:20250321T130000
DTEND;TZID=America/New_York:20250321T140000
DTSTAMP:20260419T220847
CREATED:20250313T232958Z
LAST-MODIFIED:20250313T232958Z
UID:13289-1742562000-1742565600@artsconnectva.org
SUMMARY:Candle Making with Rhona Dawson
DESCRIPTION:View Flyer
URL:https://artsconnectva.org/event/candle-making-with-rhona-dawson-2/
LOCATION:VA
CATEGORIES:Outreach Program
END:VEVENT
BEGIN:VEVENT
DTSTART;TZID=America/New_York:20250320T140000
DTEND;TZID=America/New_York:20250320T150000
DTSTAMP:20260419T220847
CREATED:20250313T022538Z
LAST-MODIFIED:20250313T022538Z
UID:13285-1742479200-1742482800@artsconnectva.org
SUMMARY:A Musical Potpourri with Karen Stowe
DESCRIPTION:Karen Stowe\, as she plays a beautifully curated set list of songs on the harp.
URL:https://artsconnectva.org/event/a-musical-potpourri-with-karen-stowe-13/
LOCATION:VA
CATEGORIES:Outreach Program
END:VEVENT
BEGIN:VEVENT
DTSTART;TZID=America/New_York:20250320T130000
DTEND;TZID=America/New_York:20250320T140000
DTSTAMP:20260419T220847
CREATED:20250313T022154Z
LAST-MODIFIED:20250313T022154Z
UID:13283-1742475600-1742479200@artsconnectva.org
SUMMARY:St. Patrick's Day Celebration with Kevin Furey
DESCRIPTION:Alex Marlins\, is a trained violinist who specializes in classical\, jazz\, modern/pop\, and Celtic fiddle.
URL:https://artsconnectva.org/event/st-patricks-day-celebration-with-kevin-furey-2/
LOCATION:VA
CATEGORIES:Outreach Program
END:VEVENT
BEGIN:VEVENT
DTSTART;TZID=America/New_York:20250320T120000
DTEND;TZID=America/New_York:20250320T130000
DTSTAMP:20260419T220847
CREATED:20250307T171948Z
LAST-MODIFIED:20250307T171948Z
UID:13169-1742472000-1742475600@artsconnectva.org
SUMMARY:Virtual Event: Nourish and Nurture: Mindful Nutrition for Mental Clarity
DESCRIPTION:Join AARP Virginia and Fit Goddess Tribe every Thursday in March at NOON for a Virtual Series explores ways to improve your overall health and well-being. \nThis week’s session learn how to nourish your body and mind through mindful eating and nutrition practices that support mental clarity and cognitive function. Discover the essential nutrients that fuel the brain and improve emotional well-being\, as well as how to build mindful eating habits that can reduce stress and enhance overall health. \nRegister here
URL:https://artsconnectva.org/event/virtual-event-nourish-and-nurture-mindful-nutrition-for-mental-clarity/
LOCATION:VA
CATEGORIES:Open to the Public,Outreach Program
END:VEVENT
BEGIN:VEVENT
DTSTART;TZID=America/New_York:20250320T110000
DTEND;TZID=America/New_York:20250320T120000
DTSTAMP:20260419T220847
CREATED:20250313T021837Z
LAST-MODIFIED:20250313T021837Z
UID:13280-1742468400-1742472000@artsconnectva.org
SUMMARY:St. Patrick's Day Celebration with Kevin Furey
DESCRIPTION:View Flyer
URL:https://artsconnectva.org/event/st-patricks-day-celebration-with-kevin-furey/
LOCATION:VA
CATEGORIES:Outreach Program
END:VEVENT
BEGIN:VEVENT
DTSTART;TZID=America/New_York:20250320T100000
DTEND;TZID=America/New_York:20250320T110000
DTSTAMP:20260419T220847
CREATED:20250313T021533Z
LAST-MODIFIED:20250313T021533Z
UID:13276-1742464800-1742468400@artsconnectva.org
SUMMARY:Tunes and Blooms with Ashley Cayon
DESCRIPTION:View Flyer
URL:https://artsconnectva.org/event/tunes-and-blooms-with-ashley-cayon/
LOCATION:VA
CATEGORIES:Outreach Program
END:VEVENT
END:VCALENDAR