BEGIN:VCALENDAR
VERSION:2.0
PRODID:-//ArtsConnect Virginia - ECPv6.15.20//NONSGML v1.0//EN
CALSCALE:GREGORIAN
METHOD:PUBLISH
X-WR-CALNAME:ArtsConnect Virginia
X-ORIGINAL-URL:https://artsconnectva.org
X-WR-CALDESC:Events for ArtsConnect Virginia
REFRESH-INTERVAL;VALUE=DURATION:PT1H
X-Robots-Tag:noindex
X-PUBLISHED-TTL:PT1H
BEGIN:VTIMEZONE
TZID:America/New_York
BEGIN:DAYLIGHT
TZOFFSETFROM:-0500
TZOFFSETTO:-0400
TZNAME:EDT
DTSTART:20230312T070000
END:DAYLIGHT
BEGIN:STANDARD
TZOFFSETFROM:-0400
TZOFFSETTO:-0500
TZNAME:EST
DTSTART:20231105T060000
END:STANDARD
BEGIN:DAYLIGHT
TZOFFSETFROM:-0500
TZOFFSETTO:-0400
TZNAME:EDT
DTSTART:20240310T070000
END:DAYLIGHT
BEGIN:STANDARD
TZOFFSETFROM:-0400
TZOFFSETTO:-0500
TZNAME:EST
DTSTART:20241103T060000
END:STANDARD
BEGIN:DAYLIGHT
TZOFFSETFROM:-0500
TZOFFSETTO:-0400
TZNAME:EDT
DTSTART:20250309T070000
END:DAYLIGHT
BEGIN:STANDARD
TZOFFSETFROM:-0400
TZOFFSETTO:-0500
TZNAME:EST
DTSTART:20251102T060000
END:STANDARD
END:VTIMEZONE
BEGIN:VEVENT
DTSTART;TZID=America/New_York:20240711T140000
DTEND;TZID=America/New_York:20240711T150000
DTSTAMP:20260422T183356
CREATED:20240627T125825Z
LAST-MODIFIED:20240627T125825Z
UID:10923-1720706400-1720710000@artsconnectva.org
SUMMARY:All of the Favorites with Dan Smith
DESCRIPTION:
URL:https://artsconnectva.org/event/all-of-the-favorites-with-dan-smith-37/
LOCATION:VA
CATEGORIES:Outreach Program
END:VEVENT
BEGIN:VEVENT
DTSTART;TZID=America/New_York:20240712T103000
DTEND;TZID=America/New_York:20240712T113000
DTSTAMP:20260422T183356
CREATED:20240620T162150Z
LAST-MODIFIED:20240620T162150Z
UID:10847-1720780200-1720783800@artsconnectva.org
SUMMARY:Magic with Sean McKenzie
DESCRIPTION:
URL:https://artsconnectva.org/event/magic-with-sean-mckenzie/
LOCATION:VA
CATEGORIES:Outreach Program
END:VEVENT
BEGIN:VEVENT
DTSTART;TZID=America/New_York:20240712T140000
DTEND;TZID=America/New_York:20240712T150000
DTSTAMP:20260422T183356
CREATED:20240411T154029Z
LAST-MODIFIED:20240411T154029Z
UID:10348-1720792800-1720796400@artsconnectva.org
SUMMARY:Happy Hour with Adrienne and Jamie
DESCRIPTION:Join Adrienne and Jamie as they play some throwback tunes!
URL:https://artsconnectva.org/event/happy-hour-with-adrienne-and-jamie-7/
LOCATION:VA
END:VEVENT
BEGIN:VEVENT
DTSTART;TZID=America/New_York:20240712T140000
DTEND;TZID=America/New_York:20240712T150000
DTSTAMP:20260422T183356
CREATED:20240624T152019Z
LAST-MODIFIED:20240624T152019Z
UID:10872-1720792800-1720796400@artsconnectva.org
SUMMARY:Summer & Patriotic Music with Karen Stowe
DESCRIPTION:View Flyer
URL:https://artsconnectva.org/event/summer-patriotic-music-with-karen-stowe-2/
LOCATION:VA
CATEGORIES:Outreach Program
END:VEVENT
BEGIN:VEVENT
DTSTART;TZID=America/New_York:20240712T153000
DTEND;TZID=America/New_York:20240712T163000
DTSTAMP:20260422T183356
CREATED:20240624T151202Z
LAST-MODIFIED:20240624T151202Z
UID:10868-1720798200-1720801800@artsconnectva.org
SUMMARY:Famous Hits with Cory Laser
DESCRIPTION:
URL:https://artsconnectva.org/event/famous-hits-with-cory-laser-17/
LOCATION:VA
CATEGORIES:Outreach Program
END:VEVENT
BEGIN:VEVENT
DTSTART;TZID=America/New_York:20240713T170000
DTEND;TZID=America/New_York:20240713T180000
DTSTAMP:20260422T183356
CREATED:20240416T171623Z
LAST-MODIFIED:20240416T171623Z
UID:10378-1720890000-1720893600@artsconnectva.org
SUMMARY:Pour Paint with Vanessa Golson
DESCRIPTION:Enjoy a colorful\, art experience and walk away with a one-of-a-kind masterpiece\, with Vanessa’s step-by-step instructions of an acrylic paint pour technique!
URL:https://artsconnectva.org/event/pour-paint-with-vanessa-golson-13/
LOCATION:VA
CATEGORIES:Outreach Program
END:VEVENT
BEGIN:VEVENT
DTSTART;TZID=America/New_York:20240715T140000
DTEND;TZID=America/New_York:20240715T150000
DTSTAMP:20260422T183356
CREATED:20240618T125217Z
LAST-MODIFIED:20240618T125217Z
UID:10799-1721052000-1721055600@artsconnectva.org
SUMMARY:Favorite Throwbacks with Art Rowe
DESCRIPTION:
URL:https://artsconnectva.org/event/favorite-throwbacks-with-art-rowe-16/
LOCATION:VA
CATEGORIES:Outreach Program
END:VEVENT
BEGIN:VEVENT
DTSTART;TZID=America/New_York:20240715T140000
DTEND;TZID=America/New_York:20240715T150000
DTSTAMP:20260422T183356
CREATED:20240620T152514Z
LAST-MODIFIED:20240620T152514Z
UID:10826-1721052000-1721055600@artsconnectva.org
SUMMARY:Happy Hour with Ava and Bryan
DESCRIPTION:
URL:https://artsconnectva.org/event/happy-hour-with-ava-and-bryan/
LOCATION:VA
CATEGORIES:Outreach Program
END:VEVENT
BEGIN:VEVENT
DTSTART;TZID=America/New_York:20240715T140000
DTEND;TZID=America/New_York:20240715T150000
DTSTAMP:20260422T183356
CREATED:20240704T161831Z
LAST-MODIFIED:20240704T161831Z
UID:10967-1721052000-1721055600@artsconnectva.org
SUMMARY:Flower Pot Craft with Stephanie Slate
DESCRIPTION:
URL:https://artsconnectva.org/event/flower-pot-craft-with-stephanie-slate/
LOCATION:VA
CATEGORIES:Outreach Program
END:VEVENT
BEGIN:VEVENT
DTSTART;TZID=America/New_York:20240715T173000
DTEND;TZID=America/New_York:20240715T183000
DTSTAMP:20260422T183356
CREATED:20240618T101919Z
LAST-MODIFIED:20240705T174107Z
UID:10763-1721064600-1721068200@artsconnectva.org
SUMMARY:Pop Song Sing-Along with Melissa Cartwright
DESCRIPTION:Open to individuals living with a breast cancer diagnosis. \nView Flyer
URL:https://artsconnectva.org/event/pop-song-sing-along-with-melissa-cartwright-2/
LOCATION:Here for the Girls\, 1309 Jamestown Rd Suite 204\, Williamsburg\, VA\, 23185\, United States
CATEGORIES:Open to the Public,Outreach Program
END:VEVENT
BEGIN:VEVENT
DTSTART;TZID=America/New_York:20240716T130000
DTEND;TZID=America/New_York:20240716T140000
DTSTAMP:20260422T183356
CREATED:20240416T173743Z
LAST-MODIFIED:20240416T173743Z
UID:10382-1721134800-1721138400@artsconnectva.org
SUMMARY:All of the Favorites with Dan Smith
DESCRIPTION:Enjoy live performance of popular music from the 1940s\, 1950s and 1960s featuring big band\, classic country\, Elvis Presley\, Pat Boone\, and other icons of the era. Performances feature vocals with electronic keyboard and saxophone.
URL:https://artsconnectva.org/event/all-of-the-favorites-with-dan-smith-32/
LOCATION:VA
CATEGORIES:Outreach Program
END:VEVENT
BEGIN:VEVENT
DTSTART;TZID=America/New_York:20240716T133000
DTEND;TZID=America/New_York:20240716T143000
DTSTAMP:20260422T183356
CREATED:20240416T171951Z
LAST-MODIFIED:20240416T171951Z
UID:10380-1721136600-1721140200@artsconnectva.org
SUMMARY:Keep the Beat Social with Art Rowe
DESCRIPTION:Join Art as he plays classic rock and country hits!
URL:https://artsconnectva.org/event/keep-the-beat-social-with-art-rowe-9/
LOCATION:VA
CATEGORIES:Outreach Program
END:VEVENT
BEGIN:VEVENT
DTSTART;TZID=America/New_York:20240716T140000
DTEND;TZID=America/New_York:20240716T150000
DTSTAMP:20260422T183357
CREATED:20240618T131922Z
LAST-MODIFIED:20240618T131922Z
UID:10807-1721138400-1721142000@artsconnectva.org
SUMMARY:Summer Tunes with Karen Stowe
DESCRIPTION:View Flyer
URL:https://artsconnectva.org/event/summer-tunes-with-karen-stowe/
LOCATION:VA
CATEGORIES:Outreach Program
END:VEVENT
BEGIN:VEVENT
DTSTART;TZID=America/New_York:20240716T150000
DTEND;TZID=America/New_York:20240716T160000
DTSTAMP:20260422T183357
CREATED:20240618T122033Z
LAST-MODIFIED:20240618T122033Z
UID:10792-1721142000-1721145600@artsconnectva.org
SUMMARY:Throwbacks with Bryan Martin
DESCRIPTION:
URL:https://artsconnectva.org/event/throwbacks-with-bryan-martin-10/
LOCATION:VA
CATEGORIES:Outreach Program
END:VEVENT
BEGIN:VEVENT
DTSTART;TZID=America/New_York:20240716T150000
DTEND;TZID=America/New_York:20240716T160000
DTSTAMP:20260422T183357
CREATED:20240705T191437Z
LAST-MODIFIED:20240705T191636Z
UID:10978-1721142000-1721145600@artsconnectva.org
SUMMARY:Pages of Our Lives
DESCRIPTION:Residents come together with Kelly Sokol from Muse Writer’s Center to learn how to write the stories of their lives and experiences in creative ways.
URL:https://artsconnectva.org/event/pages-of-our-lives-11/
LOCATION:Norfolk\, VA\, Norfolk\, VA\, United States
CATEGORIES:Outreach Program
END:VEVENT
BEGIN:VEVENT
DTSTART;TZID=America/New_York:20240716T173000
DTEND;TZID=America/New_York:20240716T183000
DTSTAMP:20260422T183357
CREATED:20240626T135134Z
LAST-MODIFIED:20240626T135134Z
UID:10890-1721151000-1721154600@artsconnectva.org
SUMMARY:Decorate Sunglasses with Susan Owens
DESCRIPTION:View Flyer
URL:https://artsconnectva.org/event/decorate-sunglasses-with-susan-owens/
LOCATION:VA
CATEGORIES:Open to the Public
END:VEVENT
BEGIN:VEVENT
DTSTART;TZID=America/New_York:20240716T183000
DTEND;TZID=America/New_York:20240716T193000
DTSTAMP:20260422T183357
CREATED:20240618T130057Z
LAST-MODIFIED:20240618T130057Z
UID:10801-1721154600-1721158200@artsconnectva.org
SUMMARY:Painting with David Duck
DESCRIPTION:
URL:https://artsconnectva.org/event/painting-with-david-duck/
LOCATION:VA
CATEGORIES:Outreach Program
END:VEVENT
BEGIN:VEVENT
DTSTART;TZID=America/New_York:20240717T130000
DTEND;TZID=America/New_York:20240717T140000
DTSTAMP:20260422T183357
CREATED:20240627T130349Z
LAST-MODIFIED:20240627T130349Z
UID:10925-1721221200-1721224800@artsconnectva.org
SUMMARY:Summer Groovin/ with The Elderly Brothers
DESCRIPTION:
URL:https://artsconnectva.org/event/summer-groovin-with-the-elderly-brothers-3/
LOCATION:VA
CATEGORIES:Outreach Program
END:VEVENT
BEGIN:VEVENT
DTSTART;TZID=America/New_York:20240718T140000
DTEND;TZID=America/New_York:20240718T150000
DTSTAMP:20260422T183357
CREATED:20240618T133821Z
LAST-MODIFIED:20240618T133821Z
UID:10810-1721311200-1721314800@artsconnectva.org
SUMMARY:Mosaic Coasters with Stephanie Slate
DESCRIPTION:
URL:https://artsconnectva.org/event/mosaic-coasters-with-stephanie-slate/
LOCATION:VA
CATEGORIES:Outreach Program
END:VEVENT
BEGIN:VEVENT
DTSTART;TZID=America/New_York:20240718T140000
DTEND;TZID=America/New_York:20240718T150000
DTSTAMP:20260422T183357
CREATED:20240627T131956Z
LAST-MODIFIED:20240627T131956Z
UID:10947-1721311200-1721314800@artsconnectva.org
SUMMARY:Famous Hits with Cory Laser
DESCRIPTION:
URL:https://artsconnectva.org/event/famous-hits-with-cory-laser-19/
LOCATION:VA
CATEGORIES:Outreach Program
END:VEVENT
BEGIN:VEVENT
DTSTART;TZID=America/New_York:20240718T140000
DTEND;TZID=America/New_York:20240718T150000
DTSTAMP:20260422T183357
CREATED:20240703T150746Z
LAST-MODIFIED:20240705T205446Z
UID:10958-1721311200-1721314800@artsconnectva.org
SUMMARY:Acrylic Paint Pour with Vanessa Golson
DESCRIPTION:View Flyer
URL:https://artsconnectva.org/event/acrylic-paint-pour-with-vanessa-golson-36/
LOCATION:VA
CATEGORIES:Outreach Program
END:VEVENT
BEGIN:VEVENT
DTSTART;TZID=America/New_York:20240719T100000
DTEND;TZID=America/New_York:20240719T110000
DTSTAMP:20260422T183357
CREATED:20240618T104847Z
LAST-MODIFIED:20240705T191831Z
UID:10769-1721383200-1721386800@artsconnectva.org
SUMMARY:Hula with Alicia Edwards
DESCRIPTION:View Flyer
URL:https://artsconnectva.org/event/hula-with-alicia-edwards/
LOCATION:Brittingham-Midtown Community Center\, 570 McLawhorne Dr\, Newport News\, VA\, 23601\, United States
CATEGORIES:Open to the Public,Outreach Program
END:VEVENT
BEGIN:VEVENT
DTSTART;TZID=America/New_York:20240719T120000
DTEND;TZID=America/New_York:20240719T130000
DTSTAMP:20260422T183357
CREATED:20240618T103943Z
LAST-MODIFIED:20240705T192006Z
UID:10766-1721390400-1721394000@artsconnectva.org
SUMMARY:Clay Bird Feeders with Camille Donne
DESCRIPTION:View Flyer
URL:https://artsconnectva.org/event/clay-bird-feeders-with-camille-donne/
LOCATION:VA
CATEGORIES:Open to the Public,Outreach Program
END:VEVENT
BEGIN:VEVENT
DTSTART;TZID=America/New_York:20240719T140000
DTEND;TZID=America/New_York:20240719T150000
DTSTAMP:20260422T183357
CREATED:20240605T171509Z
LAST-MODIFIED:20240614T171316Z
UID:10698-1721397600-1721401200@artsconnectva.org
SUMMARY:Wildflower Lanterns with Stephanie Slate
DESCRIPTION:
URL:https://artsconnectva.org/event/wildflower-lanterns-with-stephanie-slate/
LOCATION:VA
CATEGORIES:Outreach Program
END:VEVENT
BEGIN:VEVENT
DTSTART;TZID=America/New_York:20240719T140000
DTEND;TZID=America/New_York:20240719T150000
DTSTAMP:20260422T183357
CREATED:20240627T132226Z
LAST-MODIFIED:20240705T194328Z
UID:10949-1721397600-1721401200@artsconnectva.org
SUMMARY:Finger Painting with Susan Owens
DESCRIPTION:Residents are putting their paintbrushes aside for this creative program aimed to bring some child-like fun into the art making space!
URL:https://artsconnectva.org/event/finger-painting-with-susan-owens/
LOCATION:VA
CATEGORIES:Outreach Program
END:VEVENT
BEGIN:VEVENT
DTSTART;TZID=America/New_York:20240719T150000
DTEND;TZID=America/New_York:20240719T160000
DTSTAMP:20260422T183357
CREATED:20240620T162556Z
LAST-MODIFIED:20240620T162556Z
UID:10854-1721401200-1721404800@artsconnectva.org
SUMMARY:Sing-Along Hits of 50's & 60's with Adrienne and Bernie
DESCRIPTION:
URL:https://artsconnectva.org/event/sing-along-hits-of-50s-60s-with-adrienne-and-bernie/
LOCATION:VA
CATEGORIES:Outreach Program
END:VEVENT
BEGIN:VEVENT
DTSTART;TZID=America/New_York:20240721T140000
DTEND;TZID=America/New_York:20240721T150000
DTSTAMP:20260422T183357
CREATED:20240416T174407Z
LAST-MODIFIED:20240416T174407Z
UID:10384-1721570400-1721574000@artsconnectva.org
SUMMARY:Sunday Social with Dan Smith
DESCRIPTION:Enjoy live performance of popular music from the 1940s\, 1950s and 1960s featuring big band\, classic country\, Elvis Presley\, Pat Boone\, and other icons of the era. Performances feature vocals with electronic keyboard and saxophone.
URL:https://artsconnectva.org/event/sunday-social-with-dan-smith-4/
LOCATION:VA
CATEGORIES:Outreach Program
END:VEVENT
BEGIN:VEVENT
DTSTART;TZID=America/New_York:20240722T130000
DTEND;TZID=America/New_York:20240722T140000
DTSTAMP:20260422T183357
CREATED:20240618T105635Z
LAST-MODIFIED:20240618T105635Z
UID:10772-1721653200-1721656800@artsconnectva.org
SUMMARY:Pop Song Sing-Along with Melissa Cartwright
DESCRIPTION:View Flyer
URL:https://artsconnectva.org/event/pop-song-sing-along-with-melissa-cartwright-3/
LOCATION:VA
CATEGORIES:Outreach Program
END:VEVENT
BEGIN:VEVENT
DTSTART;TZID=America/New_York:20240722T130000
DTEND;TZID=America/New_York:20240722T140000
DTSTAMP:20260422T183357
CREATED:20240618T112314Z
LAST-MODIFIED:20240618T112314Z
UID:10778-1721653200-1721656800@artsconnectva.org
SUMMARY:Acrylic Paint Pour with Vanessa Golson
DESCRIPTION:View Flyer
URL:https://artsconnectva.org/event/acrylic-paint-pour-with-vanessa-golson-31/
LOCATION:VA
CATEGORIES:Outreach Program
END:VEVENT
BEGIN:VEVENT
DTSTART;TZID=America/New_York:20240722T140000
DTEND;TZID=America/New_York:20240722T150000
DTSTAMP:20260422T183357
CREATED:20240621T170442Z
LAST-MODIFIED:20240621T170442Z
UID:10861-1721656800-1721660400@artsconnectva.org
SUMMARY:Improv and Poetry with Leila Stephanie
DESCRIPTION:
URL:https://artsconnectva.org/event/improv-and-poetry-with-leila-stephanie/
LOCATION:VA
CATEGORIES:Outreach Program
END:VEVENT
END:VCALENDAR