BEGIN:VCALENDAR
VERSION:2.0
PRODID:-//ArtsConnect Virginia - ECPv6.15.20//NONSGML v1.0//EN
CALSCALE:GREGORIAN
METHOD:PUBLISH
X-WR-CALNAME:ArtsConnect Virginia
X-ORIGINAL-URL:https://artsconnectva.org
X-WR-CALDESC:Events for ArtsConnect Virginia
REFRESH-INTERVAL;VALUE=DURATION:PT1H
X-Robots-Tag:noindex
X-PUBLISHED-TTL:PT1H
BEGIN:VTIMEZONE
TZID:America/New_York
BEGIN:DAYLIGHT
TZOFFSETFROM:-0500
TZOFFSETTO:-0400
TZNAME:EDT
DTSTART:20230312T070000
END:DAYLIGHT
BEGIN:STANDARD
TZOFFSETFROM:-0400
TZOFFSETTO:-0500
TZNAME:EST
DTSTART:20231105T060000
END:STANDARD
BEGIN:DAYLIGHT
TZOFFSETFROM:-0500
TZOFFSETTO:-0400
TZNAME:EDT
DTSTART:20240310T070000
END:DAYLIGHT
BEGIN:STANDARD
TZOFFSETFROM:-0400
TZOFFSETTO:-0500
TZNAME:EST
DTSTART:20241103T060000
END:STANDARD
BEGIN:DAYLIGHT
TZOFFSETFROM:-0500
TZOFFSETTO:-0400
TZNAME:EDT
DTSTART:20250309T070000
END:DAYLIGHT
BEGIN:STANDARD
TZOFFSETFROM:-0400
TZOFFSETTO:-0500
TZNAME:EST
DTSTART:20251102T060000
END:STANDARD
END:VTIMEZONE
BEGIN:VEVENT
DTSTART;TZID=America/New_York:20240213T133000
DTEND;TZID=America/New_York:20240213T143000
DTSTAMP:20260422T174952
CREATED:20240124T165205Z
LAST-MODIFIED:20240124T165205Z
UID:9643-1707831000-1707834600@artsconnectva.org
SUMMARY:New Orleans Jazz with Hugh Spain & Glen Lavender
DESCRIPTION:View Flyer
URL:https://artsconnectva.org/event/new-orleans-jazz-with-hugh-spain-glen-lavender/
LOCATION:VA
CATEGORIES:Outreach Program
END:VEVENT
BEGIN:VEVENT
DTSTART;TZID=America/New_York:20240214T104500
DTEND;TZID=America/New_York:20240214T114500
DTSTAMP:20260422T174952
CREATED:20240108T185500Z
LAST-MODIFIED:20240108T185500Z
UID:9507-1707907500-1707911100@artsconnectva.org
SUMMARY:Valentine's Magnet with Concetta Morales
DESCRIPTION:We will create a magnet to celebrate Valentine’s Day!
URL:https://artsconnectva.org/event/valentines-magnet-with-concetta-morales/
LOCATION:VA
CATEGORIES:Outreach Program
END:VEVENT
BEGIN:VEVENT
DTSTART;TZID=America/New_York:20240214T114500
DTEND;TZID=America/New_York:20240214T124500
DTSTAMP:20260422T174952
CREATED:20240116T161640Z
LAST-MODIFIED:20240116T161640Z
UID:9592-1707911100-1707914700@artsconnectva.org
SUMMARY:Love Songs on the Harp with Karen Stowe
DESCRIPTION:Enjoy listening to beautiful and elegant harp music!
URL:https://artsconnectva.org/event/love-songs-on-the-harp-with-karen-stowe-4/
LOCATION:VA
CATEGORIES:Outreach Program
END:VEVENT
BEGIN:VEVENT
DTSTART;TZID=America/New_York:20240214T133000
DTEND;TZID=America/New_York:20240214T143000
DTSTAMP:20260422T174952
CREATED:20240124T200021Z
LAST-MODIFIED:20240124T200021Z
UID:9669-1707917400-1707921000@artsconnectva.org
SUMMARY:Acrylic Paint Pour with Vanessa Golson
DESCRIPTION:Acrylic Paint Pour is a interactive art experience that allows the participant to create a colorful\, one-of-a-kind masterpiece.
URL:https://artsconnectva.org/event/acrylic-paint-pour-with-vanessa-golson-19/
LOCATION:VA
CATEGORIES:Outreach Program
END:VEVENT
BEGIN:VEVENT
DTSTART;TZID=America/New_York:20240214T140000
DTEND;TZID=America/New_York:20240214T150000
DTSTAMP:20260422T174952
CREATED:20231228T212046Z
LAST-MODIFIED:20231228T212046Z
UID:9438-1707919200-1707922800@artsconnectva.org
SUMMARY:Love Songs on the Harp with Karen Stowe
DESCRIPTION:Enjoy listening to beautiful and elegant harp music!
URL:https://artsconnectva.org/event/love-songs-on-the-harp-with-karen-stowe-3/
LOCATION:VA
CATEGORIES:Outreach Program
END:VEVENT
BEGIN:VEVENT
DTSTART;TZID=America/New_York:20240214T140000
DTEND;TZID=America/New_York:20240214T150000
DTSTAMP:20260422T174952
CREATED:20240111T161310Z
LAST-MODIFIED:20240111T161330Z
UID:9542-1707919200-1707922800@artsconnectva.org
SUMMARY:Sweetheart Social with Dan Smith
DESCRIPTION:Enjoy live performance of popular music from the 1940s\, 1950s and 1960s featuring big band\, classic country\, Elvis Presley\, Pat Boone\, and other icons of the era. Performances feature vocals with electronic keyboard and saxophone. \n 
URL:https://artsconnectva.org/event/sweetheart-social-with-dan-smith/
LOCATION:VA
CATEGORIES:Outreach Program
END:VEVENT
BEGIN:VEVENT
DTSTART;TZID=America/New_York:20240214T140000
DTEND;TZID=America/New_York:20240214T150000
DTSTAMP:20260422T174952
CREATED:20240115T183922Z
LAST-MODIFIED:20240115T183922Z
UID:9558-1707919200-1707922800@artsconnectva.org
SUMMARY:Romantic Love Songs with Jena Chenkin
DESCRIPTION:
URL:https://artsconnectva.org/event/romantic-love-songs-with-jena-chenkin/
LOCATION:VA
CATEGORIES:Outreach Program
END:VEVENT
BEGIN:VEVENT
DTSTART;TZID=America/New_York:20240214T140000
DTEND;TZID=America/New_York:20240214T150000
DTSTAMP:20260422T174952
CREATED:20240124T180224Z
LAST-MODIFIED:20240124T180224Z
UID:9655-1707919200-1707922800@artsconnectva.org
SUMMARY:Valentine's Painting with Creative Connections
DESCRIPTION:Let’s celebrate Valentine’s Day with this fun paint-a-long!
URL:https://artsconnectva.org/event/valentines-painting-with-creative-connections/
LOCATION:VA
CATEGORIES:Outreach Program
END:VEVENT
BEGIN:VEVENT
DTSTART;TZID=America/New_York:20240214T173000
DTEND;TZID=America/New_York:20240214T183000
DTSTAMP:20260422T174952
CREATED:20231204T182808Z
LAST-MODIFIED:20231204T182808Z
UID:9268-1707931800-1707935400@artsconnectva.org
SUMMARY:Valentine's Classic Harp with Karen Stowe
DESCRIPTION:Enjoy listening to beautiful and elegant harp music!
URL:https://artsconnectva.org/event/valentines-classic-harp-with-karen-stowe/
LOCATION:VA
CATEGORIES:Outreach Program
END:VEVENT
BEGIN:VEVENT
DTSTART;TZID=America/New_York:20240215T140000
DTEND;TZID=America/New_York:20240215T150000
DTSTAMP:20260422T174952
CREATED:20231204T183103Z
LAST-MODIFIED:20231204T183103Z
UID:9270-1708005600-1708009200@artsconnectva.org
SUMMARY:Fletcher and Friends
DESCRIPTION:Fletcher and Friends are a guitar\, bass and drums trio that play a variety of music genres. They play old and new jazz as well as blues\, rhythm and blues\, and Latins. They also include tunes from mainstream pop.
URL:https://artsconnectva.org/event/fletcher-and-friends-17/
LOCATION:VA
CATEGORIES:Outreach Program
END:VEVENT
BEGIN:VEVENT
DTSTART;TZID=America/New_York:20240216T103000
DTEND;TZID=America/New_York:20240216T113000
DTSTAMP:20260422T174952
CREATED:20240115T190606Z
LAST-MODIFIED:20240115T190606Z
UID:9572-1708079400-1708083000@artsconnectva.org
SUMMARY:T-Shirts to Totes with Sonya Z Phillips
DESCRIPTION:Sonya will show you how you can live more sustainably by turning t-shirts into reusable tote bags using basic sewing techniques.
URL:https://artsconnectva.org/event/t-shirts-to-totes-with-sonya-z-phillips-7/
LOCATION:VA
CATEGORIES:Outreach Program
END:VEVENT
BEGIN:VEVENT
DTSTART;TZID=America/New_York:20240216T140000
DTEND;TZID=America/New_York:20240216T150000
DTSTAMP:20260422T174952
CREATED:20240115T185329Z
LAST-MODIFIED:20240115T185329Z
UID:9565-1708092000-1708095600@artsconnectva.org
SUMMARY:The Classics with Mary M Saunders
DESCRIPTION:Join Mary as she plays music from the 40s to the 80s!
URL:https://artsconnectva.org/event/the-classics-with-mary-m-saunders/
LOCATION:VA
CATEGORIES:Outreach Program
END:VEVENT
BEGIN:VEVENT
DTSTART;TZID=America/New_York:20240216T143000
DTEND;TZID=America/New_York:20240216T153000
DTSTAMP:20260422T174952
CREATED:20231206T214503Z
LAST-MODIFIED:20231206T214503Z
UID:9282-1708093800-1708097400@artsconnectva.org
SUMMARY:Love Songs on the Harp with Karen Stowe
DESCRIPTION:Enjoy listening to beautiful and elegant harp music!
URL:https://artsconnectva.org/event/love-songs-on-the-harp-with-karen-stowe/
LOCATION:VA
CATEGORIES:Outreach Program
END:VEVENT
BEGIN:VEVENT
DTSTART;TZID=America/New_York:20240216T143000
DTEND;TZID=America/New_York:20240216T153000
DTSTAMP:20260422T174952
CREATED:20240119T153024Z
LAST-MODIFIED:20240119T153024Z
UID:9627-1708093800-1708097400@artsconnectva.org
SUMMARY:Music with Mary
DESCRIPTION:
URL:https://artsconnectva.org/event/music-with-mary/
LOCATION:VA
CATEGORIES:Outreach Program
END:VEVENT
BEGIN:VEVENT
DTSTART;TZID=America/New_York:20240216T143000
DTEND;TZID=America/New_York:20240216T153000
DTSTAMP:20260422T174952
CREATED:20240124T181704Z
LAST-MODIFIED:20240124T181704Z
UID:9665-1708093800-1708097400@artsconnectva.org
SUMMARY:Jazz with Hugh Spain & Gary Spanik
DESCRIPTION:
URL:https://artsconnectva.org/event/jazz-with-hugh-spain-gary-spanik/
LOCATION:VA
CATEGORIES:Outreach Program
END:VEVENT
BEGIN:VEVENT
DTSTART;TZID=America/New_York:20240216T150000
DTEND;TZID=America/New_York:20240216T160000
DTSTAMP:20260422T174952
CREATED:20240102T180635Z
LAST-MODIFIED:20240102T180635Z
UID:9466-1708095600-1708099200@artsconnectva.org
SUMMARY:All of the Favorites with Art Rowe
DESCRIPTION:Art is an acoustic guitarist and singer that plays and sings a variety of music from country\, classic rock\, and oldies. \n 
URL:https://artsconnectva.org/event/all-of-the-favorites-with-art-rowe-3/
LOCATION:VA
CATEGORIES:Outreach Program
END:VEVENT
BEGIN:VEVENT
DTSTART;TZID=America/New_York:20240216T153000
DTEND;TZID=America/New_York:20240216T163000
DTSTAMP:20260422T174952
CREATED:20240115T185721Z
LAST-MODIFIED:20240115T185721Z
UID:9568-1708097400-1708101000@artsconnectva.org
SUMMARY:Throwbacks with Bryan Martin
DESCRIPTION:Join Bryan for all of these fun sing-a-longs from the 60s -2000s. Bryan will be singing country\, rock\, bluegrass and spirituals!
URL:https://artsconnectva.org/event/throwbacks-with-bryan-martin-5/
LOCATION:VA
CATEGORIES:Outreach Program
END:VEVENT
BEGIN:VEVENT
DTSTART;TZID=America/New_York:20240216T160000
DTEND;TZID=America/New_York:20240216T180000
DTSTAMP:20260422T174952
CREATED:20240201T192609Z
LAST-MODIFIED:20240201T192609Z
UID:9697-1708099200-1708106400@artsconnectva.org
SUMMARY:Hoedown with Bryan Martin
DESCRIPTION:Join Bryan as he sings all of your favorite country music for this hoedown!
URL:https://artsconnectva.org/event/hoedown-with-bryan-martin/
LOCATION:VA
CATEGORIES:Outreach Program
END:VEVENT
BEGIN:VEVENT
DTSTART;TZID=America/New_York:20240217T140000
DTEND;TZID=America/New_York:20240217T150000
DTSTAMP:20260422T174952
CREATED:20240115T203311Z
LAST-MODIFIED:20240115T203311Z
UID:9590-1708178400-1708182000@artsconnectva.org
SUMMARY:Poodle Arrangement with Delresa White
DESCRIPTION:Have you ever seen a poodle flower arrangement? You will not want to miss it! Join Delresa as she guides you through this adorable and creative arrangement!
URL:https://artsconnectva.org/event/poodle-arrangement-with-delresa-white/
LOCATION:VA
CATEGORIES:Outreach Program
END:VEVENT
BEGIN:VEVENT
DTSTART;TZID=America/New_York:20240218T140000
DTEND;TZID=America/New_York:20240218T150000
DTSTAMP:20260422T174952
CREATED:20231204T183753Z
LAST-MODIFIED:20231204T183753Z
UID:9272-1708264800-1708268400@artsconnectva.org
SUMMARY:Sunday Social with Adrienne and Jamie
DESCRIPTION:Join Adrienne and Jamie as they play some throwback tunes!
URL:https://artsconnectva.org/event/sunday-social-with-adrienne-and-jamie/
LOCATION:VA
CATEGORIES:Outreach Program
END:VEVENT
BEGIN:VEVENT
DTSTART;TZID=America/New_York:20240219T140000
DTEND;TZID=America/New_York:20240219T150000
DTSTAMP:20260422T174952
CREATED:20240115T191134Z
LAST-MODIFIED:20240115T191134Z
UID:9574-1708351200-1708354800@artsconnectva.org
SUMMARY:Paint Like Picasso with Creative Connections
DESCRIPTION:Let’s paint like Picasso with creative connections! \n 
URL:https://artsconnectva.org/event/paint-like-picasso-with-creative-connections-5/
LOCATION:VA
CATEGORIES:Outreach Program
END:VEVENT
BEGIN:VEVENT
DTSTART;TZID=America/New_York:20240219T140000
DTEND;TZID=America/New_York:20240219T150000
DTSTAMP:20260422T174952
CREATED:20240201T193016Z
LAST-MODIFIED:20240201T193016Z
UID:9699-1708351200-1708354800@artsconnectva.org
SUMMARY:Music\, Motown\, and More! with Richard Mekdeci
DESCRIPTION:Richard Mekdeci (mek-dee-see) is an award-winning songwriter and musician and a 22 year veteran of the Nashville songwriting community. He has produced\, written and recorded with such artists as Roseanne Cash\, Kathy Mattea\, Patty Loveless\, and others.
URL:https://artsconnectva.org/event/music-motown-and-more-with-richard-mekdeci-33/
LOCATION:VA
CATEGORIES:Outreach Program
END:VEVENT
BEGIN:VEVENT
DTSTART;TZID=America/New_York:20240220T113000
DTEND;TZID=America/New_York:20240220T123000
DTSTAMP:20260422T174952
CREATED:20240115T195420Z
LAST-MODIFIED:20240115T195420Z
UID:9588-1708428600-1708432200@artsconnectva.org
SUMMARY:Paint like Picasso with Creative Connections
DESCRIPTION:Let’s paint like Picasso with creative connections!
URL:https://artsconnectva.org/event/paint-like-picasso-with-creative-connections-6/
LOCATION:VA
CATEGORIES:Outreach Program
END:VEVENT
BEGIN:VEVENT
DTSTART;TZID=America/New_York:20240220T113000
DTEND;TZID=America/New_York:20240220T123000
DTSTAMP:20260422T174952
CREATED:20240117T182124Z
LAST-MODIFIED:20240117T182124Z
UID:9605-1708428600-1708432200@artsconnectva.org
SUMMARY:Acrylic Paint Pour with Vanessa Golson
DESCRIPTION:Acrylic Paint Pour is a interactive art experience that allows the participant to create a colorful\, one-of-a-kind masterpiece.
URL:https://artsconnectva.org/event/acrylic-paint-pour-with-vanessa-golson-18/
LOCATION:VA
CATEGORIES:Outreach Program
END:VEVENT
BEGIN:VEVENT
DTSTART;TZID=America/New_York:20240220T130000
DTEND;TZID=America/New_York:20240220T140000
DTSTAMP:20260422T174952
CREATED:20240115T190116Z
LAST-MODIFIED:20240115T190116Z
UID:9570-1708434000-1708437600@artsconnectva.org
SUMMARY:Singing and Smiles with David and Art
DESCRIPTION:David and Art’s sole objective is to interact with the audience via talking and singing with them and most important putting a “Smile” on their Face! They will be singing a variety of music including country and classic rock.
URL:https://artsconnectva.org/event/singing-and-smiles-with-david-and-art-2/
LOCATION:VA
CATEGORIES:Outreach Program
END:VEVENT
BEGIN:VEVENT
DTSTART;TZID=America/New_York:20240220T133000
DTEND;TZID=America/New_York:20240220T143000
DTSTAMP:20260422T174952
CREATED:20231204T184316Z
LAST-MODIFIED:20231204T184316Z
UID:9274-1708435800-1708439400@artsconnectva.org
SUMMARY:Keep the Beat Social with Tom and Becky
DESCRIPTION:With Tom on trumpet and Flugelhorn and Becky on Keyboards and French horn\, they play and demonstrate all aspects of brass performance.
URL:https://artsconnectva.org/event/keep-the-beat-social-with-tom-and-becky-8/
LOCATION:VA
CATEGORIES:Outreach Program
END:VEVENT
BEGIN:VEVENT
DTSTART;TZID=America/New_York:20240220T133000
DTEND;TZID=America/New_York:20240220T143000
DTSTAMP:20260422T174952
CREATED:20240124T180818Z
LAST-MODIFIED:20240124T180818Z
UID:9659-1708435800-1708439400@artsconnectva.org
SUMMARY:Keep the Beat Social with Alex Marlins
DESCRIPTION:Alex is trained in various musical styles on the violin\, including classical\, jazz\, modern/pop\, and Celtic fiddle. Alex will string together music for any occasion! \n 
URL:https://artsconnectva.org/event/keep-the-beat-social-with-alex-marlins-6/
LOCATION:VA
CATEGORIES:Outreach Program
END:VEVENT
BEGIN:VEVENT
DTSTART;TZID=America/New_York:20240220T143000
DTEND;TZID=America/New_York:20240220T153000
DTSTAMP:20260422T174952
CREATED:20231206T215442Z
LAST-MODIFIED:20231206T215442Z
UID:9286-1708439400-1708443000@artsconnectva.org
SUMMARY:Music\, Motown\, and More! with Richard Mekdeci
DESCRIPTION:Richard Mekdeci (mek-dee-see) is an award-winning songwriter and musician and a 22-year veteran of the Nashville songwriting community. He has produced\, written\, and recorded with such artists as Roseanne Cash\, Kathy Mattea\, Patty Loveless\, and others.
URL:https://artsconnectva.org/event/music-motown-and-more-with-richard-mekdeci-27/
LOCATION:VA
CATEGORIES:Outreach Program
END:VEVENT
BEGIN:VEVENT
DTSTART;TZID=America/New_York:20240220T170000
DTEND;TZID=America/New_York:20240220T180000
DTSTAMP:20260422T174953
CREATED:20240117T215812Z
LAST-MODIFIED:20240117T215812Z
UID:9617-1708448400-1708452000@artsconnectva.org
SUMMARY:Collage Wooden Box with Susan Owens
DESCRIPTION:Join Susan as she guides you through creating a fun wooden box collage!
URL:https://artsconnectva.org/event/collage-wooden-box-with-susan-owens/
LOCATION:VA
CATEGORIES:Outreach Program
END:VEVENT
BEGIN:VEVENT
DTSTART;TZID=America/New_York:20240222T140000
DTEND;TZID=America/New_York:20240222T150000
DTSTAMP:20260422T174953
CREATED:20231204T185017Z
LAST-MODIFIED:20231204T185017Z
UID:9276-1708610400-1708614000@artsconnectva.org
SUMMARY:Old Time Favorites with Tom and Rose Schlater
DESCRIPTION:Enjoy living with Tom and Rose Schlater as they play well known popular hits from 1900 to 1975!
URL:https://artsconnectva.org/event/old-time-favorites-with-tom-and-rose-schlater-6/
LOCATION:VA
CATEGORIES:Outreach Program
END:VEVENT
END:VCALENDAR