BEGIN:VCALENDAR
VERSION:2.0
PRODID:-//ArtsConnect Virginia - ECPv6.15.20//NONSGML v1.0//EN
CALSCALE:GREGORIAN
METHOD:PUBLISH
X-WR-CALNAME:ArtsConnect Virginia
X-ORIGINAL-URL:https://artsconnectva.org
X-WR-CALDESC:Events for ArtsConnect Virginia
REFRESH-INTERVAL;VALUE=DURATION:PT1H
X-Robots-Tag:noindex
X-PUBLISHED-TTL:PT1H
BEGIN:VTIMEZONE
TZID:America/New_York
BEGIN:DAYLIGHT
TZOFFSETFROM:-0500
TZOFFSETTO:-0400
TZNAME:EDT
DTSTART:20220313T070000
END:DAYLIGHT
BEGIN:STANDARD
TZOFFSETFROM:-0400
TZOFFSETTO:-0500
TZNAME:EST
DTSTART:20221106T060000
END:STANDARD
BEGIN:DAYLIGHT
TZOFFSETFROM:-0500
TZOFFSETTO:-0400
TZNAME:EDT
DTSTART:20230312T070000
END:DAYLIGHT
BEGIN:STANDARD
TZOFFSETFROM:-0400
TZOFFSETTO:-0500
TZNAME:EST
DTSTART:20231105T060000
END:STANDARD
BEGIN:DAYLIGHT
TZOFFSETFROM:-0500
TZOFFSETTO:-0400
TZNAME:EDT
DTSTART:20240310T070000
END:DAYLIGHT
BEGIN:STANDARD
TZOFFSETFROM:-0400
TZOFFSETTO:-0500
TZNAME:EST
DTSTART:20241103T060000
END:STANDARD
END:VTIMEZONE
BEGIN:VEVENT
DTSTART;TZID=America/New_York:20231024T140000
DTEND;TZID=America/New_York:20231024T150000
DTSTAMP:20260422T224013
CREATED:20230920T153422Z
LAST-MODIFIED:20230920T153422Z
UID:8580-1698156000-1698159600@artsconnectva.org
SUMMARY:Pumpkin Apron with Creative Connections
DESCRIPTION:View Flyer
URL:https://artsconnectva.org/event/pumpkin-apron-with-creative-connections/
LOCATION:VA
CATEGORIES:Outreach Program
END:VEVENT
BEGIN:VEVENT
DTSTART;TZID=America/New_York:20231024T140000
DTEND;TZID=America/New_York:20231024T150000
DTSTAMP:20260422T224013
CREATED:20230831T132555Z
LAST-MODIFIED:20230831T132555Z
UID:8406-1698156000-1698159600@artsconnectva.org
SUMMARY:Fall Acrylic paint Pour with Vanessa Golson
DESCRIPTION:Acrylic Paint Pour is a interactive art experience that allows the participant to create a colorful\, one-of-a-kind masterpiece!
URL:https://artsconnectva.org/event/fall-acrylic-paint-pour-with-vanessa-golson/
LOCATION:VA
CATEGORIES:Outreach Program
END:VEVENT
BEGIN:VEVENT
DTSTART;TZID=America/New_York:20231024T140000
DTEND;TZID=America/New_York:20231024T150000
DTSTAMP:20260422T224013
CREATED:20230815T171507Z
LAST-MODIFIED:20230815T171507Z
UID:8187-1698156000-1698159600@artsconnectva.org
SUMMARY:Violin Serenade with Alex Marlins
DESCRIPTION:Alex is trained in various musical styles on the violin\, including classical\, jazz\, modern/pop\, and Celtic fiddle. Alex will string together music for any occasion!
URL:https://artsconnectva.org/event/violin-serenade-with-alex-marlins-10/
LOCATION:VA
CATEGORIES:Outreach Program
END:VEVENT
BEGIN:VEVENT
DTSTART;TZID=America/New_York:20231024T133000
DTEND;TZID=America/New_York:20231024T143000
DTSTAMP:20260422T224013
CREATED:20230814T172226Z
LAST-MODIFIED:20230814T172226Z
UID:8173-1698154200-1698157800@artsconnectva.org
SUMMARY:Keep the Beat Social with Cory Laser
DESCRIPTION:Enjoy famous hits from the 50’s\, 60’s 70’s that everyone knows and can easily sing along to! \n 
URL:https://artsconnectva.org/event/keep-the-beat-social-with-cory-laser-3/
LOCATION:VA
CATEGORIES:Outreach Program
END:VEVENT
BEGIN:VEVENT
DTSTART;TZID=America/New_York:20231024T130000
DTEND;TZID=America/New_York:20231024T140000
DTSTAMP:20260422T224013
CREATED:20230808T160849Z
LAST-MODIFIED:20230808T160849Z
UID:8108-1698152400-1698156000@artsconnectva.org
SUMMARY:The Classics with Tom and Becky
DESCRIPTION:Enjoy versatile live music with Tom on Trumpet and Flugelhorn and Becky on French Horn and keyboards.
URL:https://artsconnectva.org/event/the-classics-with-tom-and-becky/
LOCATION:VA
CATEGORIES:Outreach Program
END:VEVENT
BEGIN:VEVENT
DTSTART;TZID=America/New_York:20231024T103000
DTEND;TZID=America/New_York:20231024T113000
DTSTAMP:20260422T224013
CREATED:20230830T174226Z
LAST-MODIFIED:20230830T174226Z
UID:8384-1698143400-1698147000@artsconnectva.org
SUMMARY:Comedy and Improv with PUSH Comedy Theatre
DESCRIPTION:Join PUSH Comedy Theatre as they teach you the basics of comedy and improv! These fun skills can be used every day. You will love learning these techniques and playing fun games!
URL:https://artsconnectva.org/event/comedy-and-improv-with-push-comedy-theatre-5/
LOCATION:VA
CATEGORIES:Outreach Program
END:VEVENT
BEGIN:VEVENT
DTSTART;TZID=America/New_York:20231023T150000
DTEND;TZID=America/New_York:20231023T160000
DTSTAMP:20260422T224013
CREATED:20230921T142218Z
LAST-MODIFIED:20230921T142235Z
UID:8604-1698073200-1698076800@artsconnectva.org
SUMMARY:Songs that Make You Move with Jena Chenkin
DESCRIPTION:View Flyer
URL:https://artsconnectva.org/event/songs-that-make-you-move-with-jena-chenkin/
LOCATION:VA
CATEGORIES:Outreach Program
END:VEVENT
BEGIN:VEVENT
DTSTART;TZID=America/New_York:20231022T140000
DTEND;TZID=America/New_York:20231022T150000
DTSTAMP:20260422T224013
CREATED:20230905T201314Z
LAST-MODIFIED:20230905T201314Z
UID:8450-1697983200-1697986800@artsconnectva.org
SUMMARY:Sunday Social with Tom and Becky
DESCRIPTION:Enjoy listening to versatile live music with Tom on Trumpet and Flugelhorn and Becky on French Horn and keyboards.
URL:https://artsconnectva.org/event/sunday-social-with-tom-and-becky-2/
LOCATION:VA
CATEGORIES:Outreach Program
END:VEVENT
BEGIN:VEVENT
DTSTART;TZID=America/New_York:20231021T140000
DTEND;TZID=America/New_York:20231021T150000
DTSTAMP:20260422T224013
CREATED:20230918T185909Z
LAST-MODIFIED:20230918T185909Z
UID:8565-1697896800-1697900400@artsconnectva.org
SUMMARY:Floral Hanging Arrangement with Delresa White
DESCRIPTION:Join Delresa as she guides you through creating a beautiful live flower arrangement!
URL:https://artsconnectva.org/event/floral-hanging-arrangement-with-delresa-white/
LOCATION:VA
CATEGORIES:Outreach Program
END:VEVENT
BEGIN:VEVENT
DTSTART;TZID=America/New_York:20231020T150000
DTEND;TZID=America/New_York:20231020T160000
DTSTAMP:20260422T224013
CREATED:20230926T164147Z
LAST-MODIFIED:20230926T164147Z
UID:8628-1697814000-1697817600@artsconnectva.org
SUMMARY:All of the Hits! with David Jacobs
DESCRIPTION:Enjoy popular songs across multiple genres from the ’50s\, ‘60s\,’70s through today!
URL:https://artsconnectva.org/event/all-of-the-hits-with-david-jacobs/
LOCATION:VA
CATEGORIES:Outreach Program
END:VEVENT
BEGIN:VEVENT
DTSTART;TZID=America/New_York:20231020T150000
DTEND;TZID=America/New_York:20231020T160000
DTSTAMP:20260422T224013
CREATED:20230918T183356Z
LAST-MODIFIED:20230918T183356Z
UID:8557-1697814000-1697817600@artsconnectva.org
SUMMARY:Classic Throwbacks with Cory Laser - Inspiritas Memory Care
DESCRIPTION:Enjoy listening to famous hits from 50’s\, 60’s 70’s that everyone knows and can easily sing along!
URL:https://artsconnectva.org/event/classic-throwbacks-with-cory-laser-inspiritas-memory-care/
LOCATION:VA
CATEGORIES:Outreach Program
END:VEVENT
BEGIN:VEVENT
DTSTART;TZID=America/New_York:20231020T140000
DTEND;TZID=America/New_York:20231020T150000
DTSTAMP:20260422T224013
CREATED:20230920T152431Z
LAST-MODIFIED:20230920T152431Z
UID:8577-1697810400-1697814000@artsconnectva.org
SUMMARY:Favorite Throwbacks with Art Rowe
DESCRIPTION:View Flyer
URL:https://artsconnectva.org/event/favorite-throwbacks-with-art-rowe-7/
LOCATION:VA
CATEGORIES:Outreach Program
END:VEVENT
BEGIN:VEVENT
DTSTART;TZID=America/New_York:20231020T140000
DTEND;TZID=America/New_York:20231020T150000
DTSTAMP:20260422T224013
CREATED:20230808T162355Z
LAST-MODIFIED:20230808T162355Z
UID:8110-1697810400-1697814000@artsconnectva.org
SUMMARY:Stuffed Pumpkins with Creative Connections
DESCRIPTION:Join Tina and Mike as they show you how to make poop-kins. Poop-Kins are fun fabric pumpkins with functional toilet paper center! These make for a perfect fall decoration!
URL:https://artsconnectva.org/event/stuffed-pumpkins-with-creative-connections-2/
LOCATION:VA
CATEGORIES:Outreach Program
END:VEVENT
BEGIN:VEVENT
DTSTART;TZID=America/New_York:20231020T130000
DTEND;TZID=America/New_York:20231020T140000
DTSTAMP:20260422T224013
CREATED:20230818T160948Z
LAST-MODIFIED:20230818T160948Z
UID:8229-1697806800-1697810400@artsconnectva.org
SUMMARY:Jazz Roots with Tom and Becky
DESCRIPTION:Enjoy listening to live jazz music with Tom on Trumpet and Flugelhorn and Becky on French Horn and keyboards.
URL:https://artsconnectva.org/event/jazz-roots-with-tom-and-becky-4/
LOCATION:VA
CATEGORIES:Outreach Program
END:VEVENT
BEGIN:VEVENT
DTSTART;TZID=America/New_York:20231020T100000
DTEND;TZID=America/New_York:20231020T120000
DTSTAMP:20260422T224013
CREATED:20230920T151611Z
LAST-MODIFIED:20230920T151611Z
UID:8575-1697796000-1697803200@artsconnectva.org
SUMMARY:Fletcher and Friends
DESCRIPTION:Fletcher and Friends are a guitar\, bass and drums trio that play a variety of music genres. They play old and new jazz as well as blues\, rhythm and blues\, and Latin rhythms.
URL:https://artsconnectva.org/event/fletcher-and-friends-14/
LOCATION:VA
CATEGORIES:Outreach Program
END:VEVENT
BEGIN:VEVENT
DTSTART;TZID=America/New_York:20231019T170000
DTEND;TZID=America/New_York:20231019T180000
DTSTAMP:20260422T224013
CREATED:20230921T134528Z
LAST-MODIFIED:20230921T134528Z
UID:8601-1697734800-1697738400@artsconnectva.org
SUMMARY:Favorite Throwbacks with Dan Smith
DESCRIPTION:2023.10.19 Cambridge Crossing
URL:https://artsconnectva.org/event/favorite-throwbacks-with-dan-smith-3/
LOCATION:VA
CATEGORIES:Outreach Program
END:VEVENT
BEGIN:VEVENT
DTSTART;TZID=America/New_York:20231019T140000
DTEND;TZID=America/New_York:20231019T150000
DTSTAMP:20260422T224013
CREATED:20231013T154746Z
LAST-MODIFIED:20231013T154746Z
UID:8762-1697724000-1697727600@artsconnectva.org
SUMMARY:Patriotic Tunes with Tom and Becky
DESCRIPTION:With Tom on trumpet and Flugelhorn and Becky on Keyboards and French horn. They will be playing patriotic tunes in the dining room!
URL:https://artsconnectva.org/event/patriotic-tunes-with-tom-and-becky-2/
LOCATION:VA
CATEGORIES:Outreach Program
END:VEVENT
BEGIN:VEVENT
DTSTART;TZID=America/New_York:20231019T140000
DTEND;TZID=America/New_York:20231019T150000
DTSTAMP:20260422T224013
CREATED:20230804T171909Z
LAST-MODIFIED:20230804T171909Z
UID:8077-1697724000-1697727600@artsconnectva.org
SUMMARY:Famous Hits! with Cory Laser
DESCRIPTION:Enjoy listening to famous hits from 50’s\, 60’s\, and 70’s that everyone knows and can easily sing along!
URL:https://artsconnectva.org/event/famous-hits-with-cory-laser-2/
LOCATION:VA
CATEGORIES:Outreach Program
END:VEVENT
BEGIN:VEVENT
DTSTART;TZID=America/New_York:20231019T111500
DTEND;TZID=America/New_York:20231019T121500
DTSTAMP:20260422T224014
CREATED:20230920T150733Z
LAST-MODIFIED:20230920T150950Z
UID:8573-1697714100-1697717700@artsconnectva.org
SUMMARY:Best of Yesteryear with Mike Finn
DESCRIPTION:Join in the fun and bring back fond memories with Mike’s engaging mix of mellow rock classics and sing-along oldies. From the Beatles to Jimmy Buffett\, audiences will be singing choruses and swaying to the beat of their favorite songs from yesteryear.
URL:https://artsconnectva.org/event/best-of-yesteryear-with-mike-finn-35/
LOCATION:VA
CATEGORIES:Outreach Program
END:VEVENT
BEGIN:VEVENT
DTSTART;TZID=America/New_York:20231019T103000
DTEND;TZID=America/New_York:20231019T113000
DTSTAMP:20260422T224014
CREATED:20230812T160110Z
LAST-MODIFIED:20230812T160110Z
UID:8156-1697711400-1697715000@artsconnectva.org
SUMMARY:Candy Corn Trio with Creative Connections
DESCRIPTION:View Flyer
URL:https://artsconnectva.org/event/candy-corn-trio-with-creative-connections/
LOCATION:VA
CATEGORIES:Outreach Program
END:VEVENT
BEGIN:VEVENT
DTSTART;TZID=America/New_York:20231018T153000
DTEND;TZID=America/New_York:20231018T163000
DTSTAMP:20260422T224014
CREATED:20230803T155346Z
LAST-MODIFIED:20230803T155346Z
UID:8056-1697643000-1697646600@artsconnectva.org
SUMMARY:Positive Drum Beating with Jean Howard
DESCRIPTION:Enjoy a positive activity with drums that gets you engaged with rhythm and positivity.
URL:https://artsconnectva.org/event/positive-drum-beating-with-jean-howard/
LOCATION:VA
CATEGORIES:Outreach Program
END:VEVENT
BEGIN:VEVENT
DTSTART;TZID=America/New_York:20231018T100000
DTEND;TZID=America/New_York:20231018T120000
DTSTAMP:20260422T224014
CREATED:20230808T154106Z
LAST-MODIFIED:20230808T154106Z
UID:8101-1697623200-1697630400@artsconnectva.org
SUMMARY:Fall Ink Tile Making
DESCRIPTION:Enjoy this fun ink tile making program!
URL:https://artsconnectva.org/event/fall-ink-tile-making/
LOCATION:VA
CATEGORIES:Outreach Program
END:VEVENT
BEGIN:VEVENT
DTSTART;TZID=America/New_York:20231017T150000
DTEND;TZID=America/New_York:20231017T160000
DTSTAMP:20260422T224014
CREATED:20230918T184329Z
LAST-MODIFIED:20230918T184329Z
UID:8561-1697554800-1697558400@artsconnectva.org
SUMMARY:Funny Face Jars with Kym Bach
DESCRIPTION:This is a reminder to both parties. The program has been scheduled via the partner and the artist.
URL:https://artsconnectva.org/event/funny-face-jars-with-kym-bach/
LOCATION:VA
CATEGORIES:Outreach Program
END:VEVENT
BEGIN:VEVENT
DTSTART;TZID=America/New_York:20231017T133000
DTEND;TZID=America/New_York:20231017T143000
DTSTAMP:20260422T224014
CREATED:20230814T171241Z
LAST-MODIFIED:20230814T171241Z
UID:8171-1697549400-1697553000@artsconnectva.org
SUMMARY:Keep the Beat Social with Dan Smith
DESCRIPTION:Dan sings popular music from the 1940s\, 1950s and 1960s featuring big band\, classic country\, Elvis Presley\, Pat Boone\, and other icons of the era.
URL:https://artsconnectva.org/event/keep-the-beat-social-with-dan-smith-7/
LOCATION:VA
CATEGORIES:Outreach Program
END:VEVENT
BEGIN:VEVENT
DTSTART;TZID=America/New_York:20231017T130000
DTEND;TZID=America/New_York:20231017T140000
DTSTAMP:20260422T224014
CREATED:20230803T160337Z
LAST-MODIFIED:20230803T160337Z
UID:8058-1697547600-1697551200@artsconnectva.org
SUMMARY:Singing and Smiling with David and Ron
DESCRIPTION:David and Ron’s sole objective is to interact with the audience via talking and singing with them and most important putting a “Smile” on their Face!
URL:https://artsconnectva.org/event/singing-and-smiling-with-david-and-ron-2/
LOCATION:VA
CATEGORIES:Outreach Program
END:VEVENT
BEGIN:VEVENT
DTSTART;TZID=America/New_York:20231017T120000
DTEND;TZID=America/New_York:20231017T130000
DTSTAMP:20260422T224014
CREATED:20230812T152714Z
LAST-MODIFIED:20230812T152714Z
UID:8150-1697544000-1697547600@artsconnectva.org
SUMMARY:Acrylic Paint Pour with Vanessa Golson
DESCRIPTION:View Flyer
URL:https://artsconnectva.org/event/acrylic-paint-pour-with-vanessa-golson-6/
LOCATION:VA
CATEGORIES:Outreach Program
END:VEVENT
BEGIN:VEVENT
DTSTART;TZID=America/New_York:20231016T153000
DTEND;TZID=America/New_York:20231016T163000
DTSTAMP:20260422T224014
CREATED:20231012T135824Z
LAST-MODIFIED:20231012T135824Z
UID:8754-1697470200-1697473800@artsconnectva.org
SUMMARY:Stuffed Pumpkins with Creative Connections
DESCRIPTION:Join Tina and Mike as they show you how to make poop-kins. Poop-Kins are fun fabric pumpkins with functional toilet paper center! These make for a perfect fall decoration!
URL:https://artsconnectva.org/event/stuffed-pumpkins-with-creative-connections-8/
LOCATION:VA
CATEGORIES:Outreach Program
END:VEVENT
BEGIN:VEVENT
DTSTART;TZID=America/New_York:20231016T103000
DTEND;TZID=America/New_York:20231016T113000
DTSTAMP:20260422T224014
CREATED:20230926T155714Z
LAST-MODIFIED:20230926T155714Z
UID:8619-1697452200-1697455800@artsconnectva.org
SUMMARY:Christmas Ornaments with Stephanie Slate
DESCRIPTION:Lets get in the Christmas spirit! Join Stephanie as she helps you make some beautiful wood ornaments!
URL:https://artsconnectva.org/event/christmas-ornaments-with-stephanie-slate/
LOCATION:VA
CATEGORIES:Outreach Program
END:VEVENT
BEGIN:VEVENT
DTSTART;TZID=America/New_York:20231016T100000
DTEND;TZID=America/New_York:20231016T110000
DTSTAMP:20260422T224014
CREATED:20230907T171156Z
LAST-MODIFIED:20230907T171156Z
UID:8483-1697450400-1697454000@artsconnectva.org
SUMMARY:Bra Ha Ha with Susan Owens
DESCRIPTION:In honor of Breast Cancer Awareness Month\, Lake Prince Woods will be hosting their very own Bra Ha Ha! Come out and decorate a bra with Susan Owens. You will not want to miss this! \n 
URL:https://artsconnectva.org/event/bra-ha-ha-with-susan-owens/
LOCATION:VA
CATEGORIES:Outreach Program
END:VEVENT
BEGIN:VEVENT
DTSTART;TZID=America/New_York:20231016T020000
DTEND;TZID=America/New_York:20231016T150000
DTSTAMP:20260422T224014
CREATED:20230824T165757Z
LAST-MODIFIED:20230824T165757Z
UID:8312-1697421600-1697468400@artsconnectva.org
SUMMARY:Oktoberfest Tunes! with Dan Smith
DESCRIPTION:Enjoy a live performance in celebration of Oktoberfest!
URL:https://artsconnectva.org/event/oktoberfest-tunes-with-dan-smith-4/
LOCATION:VA
CATEGORIES:Outreach Program
END:VEVENT
END:VCALENDAR