BEGIN:VCALENDAR
VERSION:2.0
PRODID:-//ArtsConnect Virginia - ECPv6.15.20//NONSGML v1.0//EN
CALSCALE:GREGORIAN
METHOD:PUBLISH
X-ORIGINAL-URL:https://artsconnectva.org
X-WR-CALDESC:Events for ArtsConnect Virginia
REFRESH-INTERVAL;VALUE=DURATION:PT1H
X-Robots-Tag:noindex
X-PUBLISHED-TTL:PT1H
BEGIN:VTIMEZONE
TZID:America/New_York
BEGIN:DAYLIGHT
TZOFFSETFROM:-0500
TZOFFSETTO:-0400
TZNAME:EDT
DTSTART:20230312T070000
END:DAYLIGHT
BEGIN:STANDARD
TZOFFSETFROM:-0400
TZOFFSETTO:-0500
TZNAME:EST
DTSTART:20231105T060000
END:STANDARD
BEGIN:DAYLIGHT
TZOFFSETFROM:-0500
TZOFFSETTO:-0400
TZNAME:EDT
DTSTART:20240310T070000
END:DAYLIGHT
BEGIN:STANDARD
TZOFFSETFROM:-0400
TZOFFSETTO:-0500
TZNAME:EST
DTSTART:20241103T060000
END:STANDARD
BEGIN:DAYLIGHT
TZOFFSETFROM:-0500
TZOFFSETTO:-0400
TZNAME:EDT
DTSTART:20250309T070000
END:DAYLIGHT
BEGIN:STANDARD
TZOFFSETFROM:-0400
TZOFFSETTO:-0500
TZNAME:EST
DTSTART:20251102T060000
END:STANDARD
END:VTIMEZONE
BEGIN:VEVENT
DTSTART;TZID=America/New_York:20240426T140000
DTEND;TZID=America/New_York:20240426T150000
DTSTAMP:20260422T175331
CREATED:20240313T161631Z
LAST-MODIFIED:20240313T161631Z
UID:10040-1714140000-1714143600@artsconnectva.org
SUMMARY:Summer Carnival with Richard Mekdeci
DESCRIPTION:Richard Mekdeci (mek-dee-see) is an award-winning songwriter and musician and a 22 year veteran of the Nashville songwriting community. He has produced\, written and recorded with such artists as Roseanne Cash\, Kathy Mattea\, Patty Loveless\, and others.
URL:https://artsconnectva.org/event/summer-carnival-with-richard-mekdeci/
LOCATION:VA
CATEGORIES:Outreach Program
END:VEVENT
BEGIN:VEVENT
DTSTART;TZID=America/New_York:20240426T150000
DTEND;TZID=America/New_York:20240426T160000
DTSTAMP:20260422T175331
CREATED:20240312T160437Z
LAST-MODIFIED:20240312T160437Z
UID:10010-1714143600-1714147200@artsconnectva.org
SUMMARY:Hits of the 50s and 60s with Adrienne and Jamie
DESCRIPTION:View Flyer
URL:https://artsconnectva.org/event/hits-of-the-50s-and-60s-with-adrienne-and-jamie-4/
LOCATION:VA
CATEGORIES:Outreach Program
END:VEVENT
BEGIN:VEVENT
DTSTART;TZID=America/New_York:20240426T150000
DTEND;TZID=America/New_York:20240426T160000
DTSTAMP:20260422T175331
CREATED:20240327T161830Z
LAST-MODIFIED:20240327T161830Z
UID:10099-1714143600-1714147200@artsconnectva.org
SUMMARY:Timeless Tunes with Rick Seguso
DESCRIPTION:Rick plays a blend of old and new folk. rock\, blues and country music\, and storytelling songs on guitar and harmonica!
URL:https://artsconnectva.org/event/timeless-tunes-with-rick-seguso-3/
LOCATION:VA
CATEGORIES:Outreach Program
END:VEVENT
BEGIN:VEVENT
DTSTART;TZID=America/New_York:20240426T153000
DTEND;TZID=America/New_York:20240426T163000
DTSTAMP:20260422T175331
CREATED:20240312T160902Z
LAST-MODIFIED:20240312T160902Z
UID:10013-1714145400-1714149000@artsconnectva.org
SUMMARY:Trumpet Tunes with Chad McGill
DESCRIPTION:Join Chad as he plays a variety of music on the trumpet! From light jazz to The Beatles\, you will find his music has something for everyone!
URL:https://artsconnectva.org/event/trumpet-tunes-with-chad-mcgill-9/
LOCATION:VA
CATEGORIES:Outreach Program
END:VEVENT
BEGIN:VEVENT
DTSTART;TZID=America/New_York:20240428T133000
DTEND;TZID=America/New_York:20240428T143000
DTSTAMP:20260422T175331
CREATED:20240312T164519Z
LAST-MODIFIED:20240312T164519Z
UID:10028-1714311000-1714314600@artsconnectva.org
SUMMARY:Violin Serenade with Alex Marlins
DESCRIPTION:Enjoy a beautiful violin serenade by Alex Marlins! Alex is trained in various musical styles on the violin\, including classical\, jazz\, modern/pop\, and Celtic fiddle.
URL:https://artsconnectva.org/event/violin-serenade-with-alex-marlins-16/
LOCATION:VA
CATEGORIES:Outreach Program
END:VEVENT
BEGIN:VEVENT
DTSTART;TZID=America/New_York:20240429T153000
DTEND;TZID=America/New_York:20240429T163000
DTSTAMP:20260422T175331
CREATED:20240329T125247Z
LAST-MODIFIED:20240329T125247Z
UID:10140-1714404600-1714408200@artsconnectva.org
SUMMARY:Favorite Throwbacks with Art Rowe
DESCRIPTION:View Flyer
URL:https://artsconnectva.org/event/favorite-throwbacks-with-art-rowe-13/
LOCATION:VA
CATEGORIES:Outreach Program
END:VEVENT
BEGIN:VEVENT
DTSTART;TZID=America/New_York:20240430T130000
DTEND;TZID=America/New_York:20240430T140000
DTSTAMP:20260422T175331
CREATED:20240206T174610Z
LAST-MODIFIED:20240206T174610Z
UID:9754-1714482000-1714485600@artsconnectva.org
SUMMARY:Singing and Smiles with David and Art
DESCRIPTION:David and Art’s sole objective is to interact with the audience via talking and singing with them and most important putting a “Smile” on their Face! They will be singing a variety of music including country and classic rock.
URL:https://artsconnectva.org/event/singing-and-smiles-with-david-and-art-3/
LOCATION:VA
CATEGORIES:Outreach Program
END:VEVENT
BEGIN:VEVENT
DTSTART;TZID=America/New_York:20240430T133000
DTEND;TZID=America/New_York:20240430T143000
DTSTAMP:20260422T175331
CREATED:20240206T172123Z
LAST-MODIFIED:20240206T172123Z
UID:9744-1714483800-1714487400@artsconnectva.org
SUMMARY:Keep the Beat Social with Dan Smith
DESCRIPTION:Join Dan Smith. Dan sings popular music from the 1940s\, 1950s and 1960s featuring big band\, classic country\, Elvis Presley\, Pat Boone\, and other icons of the era.
URL:https://artsconnectva.org/event/keep-the-beat-social-with-dan-smith-11/
LOCATION:VA
CATEGORIES:Outreach Program
END:VEVENT
BEGIN:VEVENT
DTSTART;TZID=America/New_York:20240430T140000
DTEND;TZID=America/New_York:20240430T150000
DTSTAMP:20260422T175331
CREATED:20240226T220837Z
LAST-MODIFIED:20240226T220837Z
UID:9911-1714485600-1714489200@artsconnectva.org
SUMMARY:Favorite Throwbacks with MaryAnn Toboz
DESCRIPTION:MaryAnn sings and accompanies herself on guitar. She shares songbooks with large print lyrics to familiar songs spanning genres and decades. The lively\, upbeat program has participants singing\, dancing\, and reminiscing!
URL:https://artsconnectva.org/event/favorite-throwbacks-with-maryann-toboz-4/
LOCATION:VA
CATEGORIES:Outreach Program
END:VEVENT
BEGIN:VEVENT
DTSTART;TZID=America/New_York:20240430T140000
DTEND;TZID=America/New_York:20240430T150000
DTSTAMP:20260422T175331
CREATED:20240312T161227Z
LAST-MODIFIED:20240312T161227Z
UID:10015-1714485600-1714489200@artsconnectva.org
SUMMARY:All of the Favorites! with Cory Laser
DESCRIPTION:Famous hits from 50’s\, 60’s 70’s that everyone knows and can easily sing along.
URL:https://artsconnectva.org/event/all-of-the-favorites-with-cory-laser-3/
LOCATION:VA
CATEGORIES:Outreach Program
END:VEVENT
BEGIN:VEVENT
DTSTART;TZID=America/New_York:20240430T140000
DTEND;TZID=America/New_York:20240430T150000
DTSTAMP:20260422T175331
CREATED:20240327T161945Z
LAST-MODIFIED:20240327T161945Z
UID:10101-1714485600-1714489200@artsconnectva.org
SUMMARY:Acrylic Paint Pour with Vanessa Golson
DESCRIPTION:Enjoy a colorful\, art experience and walk away with a one-of-a-kind masterpiece\, with Vanessa’s step-by-step instructions of an acrylic paint pour technique!
URL:https://artsconnectva.org/event/acrylic-paint-pour-with-vanessa-golson-25/
LOCATION:VA
CATEGORIES:Outreach Program
END:VEVENT
BEGIN:VEVENT
DTSTART;TZID=America/New_York:20240430T160000
DTEND;TZID=America/New_York:20240430T170000
DTSTAMP:20260422T175331
CREATED:20240419T143537Z
LAST-MODIFIED:20240419T143537Z
UID:10410-1714492800-1714496400@artsconnectva.org
SUMMARY:Evening Garden Party with Jena Chenkin
DESCRIPTION:
URL:https://artsconnectva.org/event/evening-garden-party-with-jena-chenkin/
LOCATION:VA
CATEGORIES:Outreach Program
END:VEVENT
BEGIN:VEVENT
DTSTART;TZID=America/New_York:20240501T100000
DTEND;TZID=America/New_York:20240501T110000
DTSTAMP:20260422T175331
CREATED:20240423T135300Z
LAST-MODIFIED:20240423T135300Z
UID:10469-1714557600-1714561200@artsconnectva.org
SUMMARY:All of the Favorites with Dan Smith
DESCRIPTION:View Flyer
URL:https://artsconnectva.org/event/all-of-the-favorites-with-dan-smith-34/
LOCATION:VA
CATEGORIES:Outreach Program
END:VEVENT
BEGIN:VEVENT
DTSTART;TZID=America/New_York:20240501T120000
DTEND;TZID=America/New_York:20240501T130000
DTSTAMP:20260422T175331
CREATED:20240418T144619Z
LAST-MODIFIED:20240418T144619Z
UID:10400-1714564800-1714568400@artsconnectva.org
SUMMARY:Music\, Motown\, and More! with Richard Mekdeci
DESCRIPTION:Richard Mekdeci (mek-dee-see) is an award-winning songwriter and musician and a 22-year veteran of the Nashville songwriting community. He has produced\, written\, and recorded with such artists as Roseanne Cash\, Kathy Mattea\, Patty Loveless\, and others.
URL:https://artsconnectva.org/event/music-motown-and-more-with-richard-mekdeci-37/
LOCATION:VA
CATEGORIES:Outreach Program
END:VEVENT
BEGIN:VEVENT
DTSTART;TZID=America/New_York:20240501T140000
DTEND;TZID=America/New_York:20240501T150000
DTSTAMP:20260422T175331
CREATED:20240402T142334Z
LAST-MODIFIED:20240402T142334Z
UID:10152-1714572000-1714575600@artsconnectva.org
SUMMARY:Stand Up Comedy with Rona Hyman
DESCRIPTION:Enjoy relatable and entertaining live\, performance\, for people growing older performed by people growing older.
URL:https://artsconnectva.org/event/stand-up-comedy-with-rona-hyman-4/
LOCATION:VA
CATEGORIES:Outreach Program
END:VEVENT
BEGIN:VEVENT
DTSTART;TZID=America/New_York:20240501T150000
DTEND;TZID=America/New_York:20240501T160000
DTSTAMP:20260422T175331
CREATED:20240327T162649Z
LAST-MODIFIED:20240327T162649Z
UID:10103-1714575600-1714579200@artsconnectva.org
SUMMARY:Barbershop Quartet with The Elderly Brothers
DESCRIPTION:Enjoy listening to this barber shop quartet as they sing all the classics for you! \n 
URL:https://artsconnectva.org/event/barbershop-quartet-with-the-elderly-brothers-3/
LOCATION:VA
CATEGORIES:Outreach Program
END:VEVENT
BEGIN:VEVENT
DTSTART;TZID=America/New_York:20240503T130000
DTEND;TZID=America/New_York:20240503T140000
DTSTAMP:20260422T175331
CREATED:20240419T144753Z
LAST-MODIFIED:20240419T144753Z
UID:10412-1714741200-1714744800@artsconnectva.org
SUMMARY:Cinco de Mayo with Dan Smith
DESCRIPTION:
URL:https://artsconnectva.org/event/cinco-de-mayo-with-dan-smith/
LOCATION:VA
CATEGORIES:Outreach Program
END:VEVENT
BEGIN:VEVENT
DTSTART;TZID=America/New_York:20240503T140000
DTEND;TZID=America/New_York:20240503T150000
DTSTAMP:20260422T175331
CREATED:20240306T195530Z
LAST-MODIFIED:20240306T195530Z
UID:9981-1714744800-1714748400@artsconnectva.org
SUMMARY:Happy Hour with Bryan Martin
DESCRIPTION:Join Bryan as he sings all of your favorite country\, bluegrass\, 70’s\, 80’s\, and 90’s hits\, and spirituals.
URL:https://artsconnectva.org/event/happy-hour-with-bryan-martin-7/
LOCATION:VA
CATEGORIES:Outreach Program
END:VEVENT
BEGIN:VEVENT
DTSTART;TZID=America/New_York:20240503T140000
DTEND;TZID=America/New_York:20240503T150000
DTSTAMP:20260422T175331
CREATED:20240327T163200Z
LAST-MODIFIED:20240327T163200Z
UID:10105-1714744800-1714748400@artsconnectva.org
SUMMARY:Classic Bluegrass with Tracy Stover
DESCRIPTION:Enjoy live music with Tracy stover as he plays Appalachian Roots\, Bluegrass\, and Contemporary folk music!
URL:https://artsconnectva.org/event/classic-bluegrass-with-tracy-stover-2/
LOCATION:VA
CATEGORIES:Outreach Program
END:VEVENT
BEGIN:VEVENT
DTSTART;TZID=America/New_York:20240503T140000
DTEND;TZID=America/New_York:20240503T150000
DTSTAMP:20260422T175331
CREATED:20240424T141800Z
LAST-MODIFIED:20240424T141800Z
UID:10484-1714744800-1714748400@artsconnectva.org
SUMMARY:Improv Fun! with Leila Stephanie
DESCRIPTION:The programs that I will implement include: improvisation\, literary readings\, poetry\, and sensory visual arts. The programs will consist of implementing movement and mobility\, fostering positive social interactions\, and encouraging creativity.
URL:https://artsconnectva.org/event/improv-fun-with-leila-stephanie-3/
LOCATION:VA
CATEGORIES:Outreach Program
END:VEVENT
BEGIN:VEVENT
DTSTART;TZID=America/New_York:20240504T173000
DTEND;TZID=America/New_York:20240504T193000
DTSTAMP:20260422T175331
CREATED:20240312T162045Z
LAST-MODIFIED:20240315T172936Z
UID:10017-1714843800-1714851000@artsconnectva.org
SUMMARY:Older Americans Month Celebration Concert with Thyme and Beats
DESCRIPTION:Thyme & Beats plays a genre of 60s and 70s covers with some originals mixed in.
URL:https://artsconnectva.org/event/older-americans-month-celebration-concert-with-fletcher-and-friends/
LOCATION:VA
CATEGORIES:Outreach Program
END:VEVENT
BEGIN:VEVENT
DTSTART;TZID=America/New_York:20240505T103000
DTEND;TZID=America/New_York:20240505T113000
DTSTAMP:20260422T175331
CREATED:20240312T162641Z
LAST-MODIFIED:20240312T162641Z
UID:10020-1714905000-1714908600@artsconnectva.org
SUMMARY:Sunday Social with Chad McGill
DESCRIPTION:Join Chad as he plays a variety of music on the trumpet! From light jazz to The Beatles\, you will find his music has something for everyone!
URL:https://artsconnectva.org/event/sunday-social-with-chad-mcgill/
LOCATION:VA
CATEGORIES:Outreach Program
END:VEVENT
BEGIN:VEVENT
DTSTART;TZID=America/New_York:20240506T103000
DTEND;TZID=America/New_York:20240506T113000
DTSTAMP:20260422T175331
CREATED:20240425T182012Z
LAST-MODIFIED:20240425T182012Z
UID:10489-1714991400-1714995000@artsconnectva.org
SUMMARY:Rings N Things with Rhona Dawson
DESCRIPTION:View Flyer
URL:https://artsconnectva.org/event/rings-n-things-with-rhona-dawson/
LOCATION:VA
CATEGORIES:Outreach Program
END:VEVENT
BEGIN:VEVENT
DTSTART;TZID=America/New_York:20240506T140000
DTEND;TZID=America/New_York:20240506T150000
DTSTAMP:20260422T175331
CREATED:20240411T145719Z
LAST-MODIFIED:20240411T145719Z
UID:10327-1715004000-1715007600@artsconnectva.org
SUMMARY:Paint-A-Long with Susan Owens
DESCRIPTION:Join Susan as she guides you through this beautiful paint-a-long!
URL:https://artsconnectva.org/event/paint-a-long-with-susan-owens-3/
LOCATION:VA
CATEGORIES:Outreach Program
END:VEVENT
BEGIN:VEVENT
DTSTART;TZID=America/New_York:20240506T140000
DTEND;TZID=America/New_York:20240506T150000
DTSTAMP:20260422T175332
CREATED:20240418T201717Z
LAST-MODIFIED:20240418T201717Z
UID:10407-1715004000-1715007600@artsconnectva.org
SUMMARY:Fairy Garden with Stephanie Slate
DESCRIPTION:Join Stephanie as she helps you create a beautiful fairy garden using live succulents!
URL:https://artsconnectva.org/event/fairy-garden-with-stephanie-slate-3/
LOCATION:VA
CATEGORIES:Outreach Program
END:VEVENT
BEGIN:VEVENT
DTSTART;TZID=America/New_York:20240507T013000
DTEND;TZID=America/New_York:20240507T143000
DTSTAMP:20260422T175332
CREATED:20240227T151029Z
LAST-MODIFIED:20240227T151029Z
UID:9922-1715045400-1715092200@artsconnectva.org
SUMMARY:Keep the Beat Social with Chad McGill
DESCRIPTION:Join Chad as he plays a variety of music on the trumpet! From light jazz to The Beatles\, you will find his music has something for everyone!
URL:https://artsconnectva.org/event/keep-the-beat-social-with-chad-mcgill/
LOCATION:VA
CATEGORIES:Outreach Program
END:VEVENT
BEGIN:VEVENT
DTSTART;TZID=America/New_York:20240507T130000
DTEND;TZID=America/New_York:20240507T140000
DTSTAMP:20260422T175332
CREATED:20240226T221204Z
LAST-MODIFIED:20240226T221204Z
UID:9913-1715086800-1715090400@artsconnectva.org
SUMMARY:Sing-A-Long with Cory Laser
DESCRIPTION:Famous hits from 50s\, 60s 70s that everyone knows and can easily sing along.
URL:https://artsconnectva.org/event/sing-a-long-with-cory-laser-4/
LOCATION:VA
CATEGORIES:Outreach Program
END:VEVENT
BEGIN:VEVENT
DTSTART;TZID=America/New_York:20240507T133000
DTEND;TZID=America/New_York:20240507T143000
DTSTAMP:20260422T175332
CREATED:20240312T163034Z
LAST-MODIFIED:20240312T163034Z
UID:10022-1715088600-1715092200@artsconnectva.org
SUMMARY:The Classics with Jimmy G Sings
DESCRIPTION:Join Jimmy as he performs the most popular Acoustic Rock and Pop songs from the past 5 decades and today!
URL:https://artsconnectva.org/event/the-classics-with-jimmy-g-sings-4/
LOCATION:VA
CATEGORIES:Outreach Program
END:VEVENT
BEGIN:VEVENT
DTSTART;TZID=America/New_York:20240507T140000
DTEND;TZID=America/New_York:20240507T150000
DTSTAMP:20260422T175332
CREATED:20240402T142759Z
LAST-MODIFIED:20240402T142759Z
UID:10154-1715090400-1715094000@artsconnectva.org
SUMMARY:Old Time Favorites with Tom and Rose
DESCRIPTION:Enjoy listening to your favorite well known hits from 1900 to 1975! \n 
URL:https://artsconnectva.org/event/old-time-favorites-with-tom-and-rose-3/
LOCATION:VA
CATEGORIES:Outreach Program
END:VEVENT
BEGIN:VEVENT
DTSTART;TZID=America/New_York:20240507T140000
DTEND;TZID=America/New_York:20240507T150000
DTSTAMP:20260422T175332
CREATED:20240409T185622Z
LAST-MODIFIED:20240409T185622Z
UID:10313-1715090400-1715094000@artsconnectva.org
SUMMARY:Music Through the Decades with Karen Stowe
DESCRIPTION:View Flyer
URL:https://artsconnectva.org/event/music-through-the-decades-with-karen-stowe-2/
LOCATION:VA
CATEGORIES:Outreach Program
END:VEVENT
END:VCALENDAR