BEGIN:VCALENDAR
VERSION:2.0
PRODID:-//ArtsConnect Virginia - ECPv6.15.20//NONSGML v1.0//EN
CALSCALE:GREGORIAN
METHOD:PUBLISH
X-ORIGINAL-URL:https://artsconnectva.org
X-WR-CALDESC:Events for ArtsConnect Virginia
REFRESH-INTERVAL;VALUE=DURATION:PT1H
X-Robots-Tag:noindex
X-PUBLISHED-TTL:PT1H
BEGIN:VTIMEZONE
TZID:America/New_York
BEGIN:DAYLIGHT
TZOFFSETFROM:-0500
TZOFFSETTO:-0400
TZNAME:EDT
DTSTART:20220313T070000
END:DAYLIGHT
BEGIN:STANDARD
TZOFFSETFROM:-0400
TZOFFSETTO:-0500
TZNAME:EST
DTSTART:20221106T060000
END:STANDARD
BEGIN:DAYLIGHT
TZOFFSETFROM:-0500
TZOFFSETTO:-0400
TZNAME:EDT
DTSTART:20230312T070000
END:DAYLIGHT
BEGIN:STANDARD
TZOFFSETFROM:-0400
TZOFFSETTO:-0500
TZNAME:EST
DTSTART:20231105T060000
END:STANDARD
BEGIN:DAYLIGHT
TZOFFSETFROM:-0500
TZOFFSETTO:-0400
TZNAME:EDT
DTSTART:20240310T070000
END:DAYLIGHT
BEGIN:STANDARD
TZOFFSETFROM:-0400
TZOFFSETTO:-0500
TZNAME:EST
DTSTART:20241103T060000
END:STANDARD
END:VTIMEZONE
BEGIN:VEVENT
DTSTART;TZID=America/New_York:20231122T111500
DTEND;TZID=America/New_York:20231122T121500
DTSTAMP:20260422T175418
CREATED:20230907T172728Z
LAST-MODIFIED:20230907T172728Z
UID:8487-1700651700-1700655300@artsconnectva.org
SUMMARY:Fiddlin' and Pickin with Tidewater Bluegrass Revival
DESCRIPTION:Tidewater Bluegrass Revival is a 5-person band focusing on bluegrass music that will be sure to get feet moving and heads swaying! The group features a fiddle\, guitar\, mandolin\, banjo\, and bass.
URL:https://artsconnectva.org/event/fiddlin-and-pickin-with-tidewater-bluegrass-revival-9/
LOCATION:VA
CATEGORIES:Outreach Program
END:VEVENT
BEGIN:VEVENT
DTSTART;TZID=America/New_York:20231122T140000
DTEND;TZID=America/New_York:20231122T150000
DTSTAMP:20260422T175418
CREATED:20231011T152552Z
LAST-MODIFIED:20231011T152552Z
UID:8748-1700661600-1700665200@artsconnectva.org
SUMMARY:Favorite Throwbacks with Lyle and Linda Dowling
DESCRIPTION:Lyle and Linda love entertaining seniors and performing a combination of styles of music!
URL:https://artsconnectva.org/event/favorite-throwbacks-with-lyle-and-linda-dowling-4/
LOCATION:VA
CATEGORIES:Outreach Program
END:VEVENT
BEGIN:VEVENT
DTSTART;TZID=America/New_York:20231123T140000
DTEND;TZID=America/New_York:20231123T150000
DTSTAMP:20260422T175418
CREATED:20230913T160303Z
LAST-MODIFIED:20230913T160303Z
UID:8516-1700748000-1700751600@artsconnectva.org
SUMMARY:Thanksgiving Day Tunes with Thyme and Beat
DESCRIPTION:Thyme & Beats plays a genre of 60s and 70s covers with some Christmas Tunes mixed in!
URL:https://artsconnectva.org/event/thanksgiving-day-tunes-with-thyme-and-beat/
LOCATION:VA
CATEGORIES:Outreach Program
END:VEVENT
BEGIN:VEVENT
DTSTART;TZID=America/New_York:20231124T140000
DTEND;TZID=America/New_York:20231124T150000
DTSTAMP:20260422T175418
CREATED:20230911T184827Z
LAST-MODIFIED:20230911T184827Z
UID:8502-1700834400-1700838000@artsconnectva.org
SUMMARY:Horns and Tunes with Tom and Becky
DESCRIPTION:Enjoy listening to versatile live music with Tom on Trumpet and Flugelhorn and Becky on French Horn and keyboards.
URL:https://artsconnectva.org/event/horns-and-tunes-with-tom-and-becky-2/
LOCATION:VA
CATEGORIES:Outreach Program
END:VEVENT
BEGIN:VEVENT
DTSTART;TZID=America/New_York:20231124T140000
DTEND;TZID=America/New_York:20231124T150000
DTSTAMP:20260422T175418
CREATED:20230914T161934Z
LAST-MODIFIED:20230914T161934Z
UID:8545-1700834400-1700838000@artsconnectva.org
SUMMARY:Fletcher and Friends
DESCRIPTION:Fletcher and Friends are a guitar\, bass and drums trio that play a variety of music genres. They play old and new jazz as well as blues\, rhythm and blues\, and Latin rhythms.
URL:https://artsconnectva.org/event/fletcher-and-friends-13/
LOCATION:VA
CATEGORIES:Outreach Program
END:VEVENT
BEGIN:VEVENT
DTSTART;TZID=America/New_York:20231124T150000
DTEND;TZID=America/New_York:20231124T160000
DTSTAMP:20260422T175418
CREATED:20231107T164431Z
LAST-MODIFIED:20231107T164431Z
UID:8892-1700838000-1700841600@artsconnectva.org
SUMMARY:Holiday Totes with Susan Owens
DESCRIPTION:Join Susan for this holiday tote program!
URL:https://artsconnectva.org/event/holiday-totes-with-susan-owens/
LOCATION:VA
CATEGORIES:Outreach Program
END:VEVENT
BEGIN:VEVENT
DTSTART;TZID=America/New_York:20231127T140000
DTEND;TZID=America/New_York:20231127T150000
DTSTAMP:20260422T175418
CREATED:20231018T153355Z
LAST-MODIFIED:20231018T153355Z
UID:8803-1701093600-1701097200@artsconnectva.org
SUMMARY:All of the Favorites with Dan Smith
DESCRIPTION:Enjoy live performance of popular music from the 1940s\, 1950s and 1960s featuring big band\, classic country\, Elvis Presley\, Pat Boone\, and other icons of the era.
URL:https://artsconnectva.org/event/all-of-the-favorites-with-dan-smith-24/
LOCATION:VA
CATEGORIES:Outreach Program
END:VEVENT
BEGIN:VEVENT
DTSTART;TZID=America/New_York:20231128T103000
DTEND;TZID=America/New_York:20231128T113000
DTSTAMP:20260422T175418
CREATED:20230901T192507Z
LAST-MODIFIED:20230901T192507Z
UID:8437-1701167400-1701171000@artsconnectva.org
SUMMARY:Comedy and Improv with PUSH Comedy Theatre
DESCRIPTION:Join PUSH Comedy Theatre as they teach you the basics of comedy and improv! These fun skills can be used every day. You will love learning these techniques and playing fun games!
URL:https://artsconnectva.org/event/comedy-and-improv-with-push-comedy-theatre-6/
LOCATION:VA
CATEGORIES:Outreach Program
END:VEVENT
BEGIN:VEVENT
DTSTART;TZID=America/New_York:20231128T130000
DTEND;TZID=America/New_York:20231128T140000
DTSTAMP:20260422T175418
CREATED:20230831T123953Z
LAST-MODIFIED:20230831T123953Z
UID:8396-1701176400-1701180000@artsconnectva.org
SUMMARY:Singing and Smiling with Art and David
DESCRIPTION:David and Art’s sole objective is to interact with the audience via talking and singing with them and most important putting a “Smile” on their Face! They will be singing a variety of music including country and classic rock.
URL:https://artsconnectva.org/event/singing-and-smiling-with-art-and-david/
LOCATION:VA
CATEGORIES:Outreach Program
END:VEVENT
BEGIN:VEVENT
DTSTART;TZID=America/New_York:20231128T133000
DTEND;TZID=America/New_York:20231128T143000
DTSTAMP:20260422T175418
CREATED:20231127T171828Z
LAST-MODIFIED:20231127T171828Z
UID:9162-1701178200-1701181800@artsconnectva.org
SUMMARY:Keep the Beat Social with Dan Smith
DESCRIPTION:Dan sings popular music from the 1940s\, 1950s and 1960s featuring big band\, classic country\, Elvis Presley\, Pat Boone\, and other icons of the era.
URL:https://artsconnectva.org/event/keep-the-beat-social-with-dan-smith-9/
LOCATION:VA
CATEGORIES:Outreach Program
END:VEVENT
BEGIN:VEVENT
DTSTART;TZID=America/New_York:20231128T140000
DTEND;TZID=America/New_York:20231128T150000
DTSTAMP:20260422T175418
CREATED:20230913T160830Z
LAST-MODIFIED:20230913T160830Z
UID:8518-1701180000-1701183600@artsconnectva.org
SUMMARY:Christmas Favorites with Karen Stowe
DESCRIPTION:Join Karen as she plays a beautiful Christmas serenade on the harp!
URL:https://artsconnectva.org/event/christmas-favorites-with-karen-stowe/
LOCATION:VA
CATEGORIES:Outreach Program
END:VEVENT
BEGIN:VEVENT
DTSTART;TZID=America/New_York:20231128T140000
DTEND;TZID=America/New_York:20231128T150000
DTSTAMP:20260422T175418
CREATED:20231017T170451Z
LAST-MODIFIED:20231017T170451Z
UID:8792-1701180000-1701183600@artsconnectva.org
SUMMARY:Watercolors with Concetta Morales
DESCRIPTION:We will create a beautiful watercolor paint-a-long!
URL:https://artsconnectva.org/event/watercolors-with-concetta-morales/
LOCATION:VA
CATEGORIES:Outreach Program
END:VEVENT
BEGIN:VEVENT
DTSTART;TZID=America/New_York:20231129T140000
DTEND;TZID=America/New_York:20231129T150000
DTSTAMP:20260422T175418
CREATED:20231018T152922Z
LAST-MODIFIED:20231018T152922Z
UID:8801-1701266400-1701270000@artsconnectva.org
SUMMARY:Line Dancing with NewMan Fitness
DESCRIPTION:Join NewMan Fitness as they guide you through a fun line dance program! Make sure to wear your dancing shoes!
URL:https://artsconnectva.org/event/line-dancing-with-newman-fitness-9/
LOCATION:VA
CATEGORIES:Outreach Program
END:VEVENT
BEGIN:VEVENT
DTSTART;TZID=America/New_York:20231129T143000
DTEND;TZID=America/New_York:20231129T153000
DTSTAMP:20260422T175418
CREATED:20231107T162803Z
LAST-MODIFIED:20231107T162803Z
UID:8890-1701268200-1701271800@artsconnectva.org
SUMMARY:Holiday-Themed Chair Fitness with Vanessa Golson
DESCRIPTION:Chair Fitness is a fun\, effective\, seated\, low intensity\, physical movement experience enhanced by upbeat music.
URL:https://artsconnectva.org/event/holiday-themed-chair-fitness-with-vanessa-golson/
LOCATION:VA
CATEGORIES:Outreach Program
END:VEVENT
BEGIN:VEVENT
DTSTART;TZID=America/New_York:20231130T103000
DTEND;TZID=America/New_York:20231130T113000
DTSTAMP:20260422T175418
CREATED:20231005T144609Z
LAST-MODIFIED:20231005T144609Z
UID:8701-1701340200-1701343800@artsconnectva.org
SUMMARY:Poetry Workshop #4 with Debra Frech
DESCRIPTION:Join Debra for this poetry program! You will learn new and fun way to express yourself.
URL:https://artsconnectva.org/event/poetry-workshop-4-with-debra-frech/
LOCATION:VA
CATEGORIES:Outreach Program
END:VEVENT
BEGIN:VEVENT
DTSTART;TZID=America/New_York:20231130T140000
DTEND;TZID=America/New_York:20231130T150000
DTSTAMP:20260422T175418
CREATED:20230906T142813Z
LAST-MODIFIED:20230906T142813Z
UID:8462-1701352800-1701356400@artsconnectva.org
SUMMARY:Let's Sing! with Art Rowe
DESCRIPTION:Art is an acoustic guitarist and singer that plays and sings a variety of music from country\, classic rock\, and oldies.
URL:https://artsconnectva.org/event/lets-sing-with-art-rowe-2/
LOCATION:VA
CATEGORIES:Outreach Program
END:VEVENT
BEGIN:VEVENT
DTSTART;TZID=America/New_York:20231130T140000
DTEND;TZID=America/New_York:20231130T150000
DTSTAMP:20260422T175418
CREATED:20231003T181105Z
LAST-MODIFIED:20231003T181105Z
UID:8682-1701352800-1701356400@artsconnectva.org
SUMMARY:Kandinsky Circles with Maggie Kerrigan
DESCRIPTION:Join Maggie in creating beautiful Kandinsky Circles. This art project will leave you with your own masterpiece.
URL:https://artsconnectva.org/event/kandinsky-circles-with-maggie-kerrigan-2/
LOCATION:VA
CATEGORIES:Outreach Program
END:VEVENT
BEGIN:VEVENT
DTSTART;TZID=America/New_York:20231130T143000
DTEND;TZID=America/New_York:20231130T153000
DTSTAMP:20260422T175418
CREATED:20231114T195813Z
LAST-MODIFIED:20231114T195813Z
UID:8923-1701354600-1701358200@artsconnectva.org
SUMMARY:Ornament Decorating with Stephanie Slate
DESCRIPTION:Let’s get in the Christmas spirit! Join Stephanie as she helps you make some beautiful wood ornaments! \n 
URL:https://artsconnectva.org/event/ornament-decorating-with-stephanie-slate-2/
LOCATION:VA
CATEGORIES:Outreach Program
END:VEVENT
BEGIN:VEVENT
DTSTART;TZID=America/New_York:20231130T150000
DTEND;TZID=America/New_York:20231130T160000
DTSTAMP:20260422T175418
CREATED:20231025T160935Z
LAST-MODIFIED:20231025T160935Z
UID:8823-1701356400-1701360000@artsconnectva.org
SUMMARY:Decoupage Jars with Susan Owens
DESCRIPTION:Join Susan as she guides you through creating your own decoupage fall jar!
URL:https://artsconnectva.org/event/decoupage-jars-with-susan-owens/
LOCATION:VA
CATEGORIES:Outreach Program
END:VEVENT
BEGIN:VEVENT
DTSTART;TZID=America/New_York:20231201T140000
DTEND;TZID=America/New_York:20231201T150000
DTSTAMP:20260422T175418
CREATED:20231109T181507Z
LAST-MODIFIED:20231109T181507Z
UID:8894-1701439200-1701442800@artsconnectva.org
SUMMARY:All of the Favorites with Tina and Jim
DESCRIPTION:Tina and Jim provide interactive singalongs with favorites including jazz standards\, acoustic favorites\, and even some show tunes! \n  \n  \n  \n 
URL:https://artsconnectva.org/event/all-of-the-favorites-with-tina-and-jim-4/
LOCATION:VA
CATEGORIES:Outreach Program
END:VEVENT
BEGIN:VEVENT
DTSTART;TZID=America/New_York:20231201T143000
DTEND;TZID=America/New_York:20231201T153000
DTSTAMP:20260422T175418
CREATED:20230913T174004Z
LAST-MODIFIED:20230913T174004Z
UID:8522-1701441000-1701444600@artsconnectva.org
SUMMARY:Christmas Favorites with Karen Stowe
DESCRIPTION:Join Karen as she plays some of your favorites Christmas tunes on the harp! This will be a beautiful fall themed program!
URL:https://artsconnectva.org/event/christmas-favorites-with-karen-stowe-2/
LOCATION:VA
CATEGORIES:Outreach Program
END:VEVENT
BEGIN:VEVENT
DTSTART;TZID=America/New_York:20231201T153000
DTEND;TZID=America/New_York:20231201T163000
DTSTAMP:20260422T175418
CREATED:20231114T200510Z
LAST-MODIFIED:20231114T200510Z
UID:8925-1701444600-1701448200@artsconnectva.org
SUMMARY:Christmas Rock with Art Rowe
DESCRIPTION:Join Art as he plays classic rock and Christmas hits!
URL:https://artsconnectva.org/event/christmas-rock-with-art-rowe/
LOCATION:VA
CATEGORIES:Outreach Program
END:VEVENT
BEGIN:VEVENT
DTSTART;TZID=America/New_York:20231202T140000
DTEND;TZID=America/New_York:20231202T150000
DTSTAMP:20260422T175418
CREATED:20231116T173932Z
LAST-MODIFIED:20231116T173932Z
UID:8940-1701525600-1701529200@artsconnectva.org
SUMMARY:Fletcher and Friends
DESCRIPTION:Fletcher and Friends are a guitar\, bass and drums trio that play a variety of music genres. They play old and new jazz as well as blues\, rhythm and blues\, and Latin rhythms.
URL:https://artsconnectva.org/event/fletcher-and-friends-16/
LOCATION:VA
CATEGORIES:Outreach Program
END:VEVENT
BEGIN:VEVENT
DTSTART;TZID=America/New_York:20231203T103000
DTEND;TZID=America/New_York:20231203T113000
DTSTAMP:20260422T175418
CREATED:20230927T155015Z
LAST-MODIFIED:20230927T155015Z
UID:8636-1701599400-1701603000@artsconnectva.org
SUMMARY:Sunday Social with Thyme and Beat
DESCRIPTION:Thyme & Beats plays a genre of 60s and 70s covers with some originals mixed in.
URL:https://artsconnectva.org/event/sunday-social-with-thyme-and-beat/
LOCATION:VA
CATEGORIES:Outreach Program
END:VEVENT
BEGIN:VEVENT
DTSTART;TZID=America/New_York:20231204T103000
DTEND;TZID=America/New_York:20231204T113000
DTSTAMP:20260422T175418
CREATED:20231116T174419Z
LAST-MODIFIED:20231116T174419Z
UID:8942-1701685800-1701689400@artsconnectva.org
SUMMARY:Holiday Wreath with Amanda Wallace
DESCRIPTION:Join Amanda Wallace in creating your very own holiday wreath to celebrate the most wonderful time of the year!
URL:https://artsconnectva.org/event/holiday-wreath-with-amanda-wallace/
LOCATION:VA
CATEGORIES:Outreach Program
END:VEVENT
BEGIN:VEVENT
DTSTART;TZID=America/New_York:20231204T103000
DTEND;TZID=America/New_York:20231204T113000
DTSTAMP:20260422T175418
CREATED:20231204T180321Z
LAST-MODIFIED:20231204T180321Z
UID:9260-1701685800-1701689400@artsconnectva.org
SUMMARY:Sunday Social with Alex Marlins
DESCRIPTION:Come listen to Alex Marlins as she plays beautiful music on the violin.
URL:https://artsconnectva.org/event/sunday-social-with-alex-marlins-3/
LOCATION:VA
CATEGORIES:Outreach Program
END:VEVENT
BEGIN:VEVENT
DTSTART;TZID=America/New_York:20231204T140000
DTEND;TZID=America/New_York:20231204T150000
DTSTAMP:20260422T175418
CREATED:20231109T181840Z
LAST-MODIFIED:20231109T181840Z
UID:8896-1701698400-1701702000@artsconnectva.org
SUMMARY:Happy Hour with Lyle and Linda Dowling
DESCRIPTION:Join Lyle and Linda as they perform a combination of styles of music from the 1940s-1980s! You will not want to miss this!
URL:https://artsconnectva.org/event/happy-hour-with-lyle-and-linda-dowling-2/
LOCATION:VA
CATEGORIES:Outreach Program
END:VEVENT
BEGIN:VEVENT
DTSTART;TZID=America/New_York:20231204T153000
DTEND;TZID=America/New_York:20231204T163000
DTSTAMP:20260422T175418
CREATED:20231109T182247Z
LAST-MODIFIED:20231109T182247Z
UID:8898-1701703800-1701707400@artsconnectva.org
SUMMARY:Live Wreath Making with Creative Connections
DESCRIPTION:Join Tina and Mike as they guide you through creating a beautiful wreath! This is the perfect decoration that you can customize to make unique! See you there! \n 
URL:https://artsconnectva.org/event/live-wreath-making-with-creative-connections/
LOCATION:VA
CATEGORIES:Outreach Program
END:VEVENT
BEGIN:VEVENT
DTSTART;TZID=America/New_York:20231205T130000
DTEND;TZID=America/New_York:20231205T140000
DTSTAMP:20260422T175418
CREATED:20230913T174330Z
LAST-MODIFIED:20230913T174330Z
UID:8524-1701781200-1701784800@artsconnectva.org
SUMMARY:Singing and Smiling with David Jones and Bryan Martin
DESCRIPTION:David and Bryans sole objective is to interact with the audience via talking and singing with them and most important putting a “Smile” on their Face! They will be singing a variety of music including country and classic rock.
URL:https://artsconnectva.org/event/singing-and-smiling-with-david-jones-and-bryan-martin/
LOCATION:VA
CATEGORIES:Outreach Program
END:VEVENT
BEGIN:VEVENT
DTSTART;TZID=America/New_York:20231205T133000
DTEND;TZID=America/New_York:20231205T143000
DTSTAMP:20260422T175419
CREATED:20231017T165306Z
LAST-MODIFIED:20231017T165306Z
UID:8786-1701783000-1701786600@artsconnectva.org
SUMMARY:Keep the Beat Social with Adrienne and Jamie
DESCRIPTION:Join Adrienne and Jamie as they play some throwback tunes!
URL:https://artsconnectva.org/event/keep-the-beat-social-with-adrienne-and-jamie/
LOCATION:VA
CATEGORIES:Outreach Program
END:VEVENT
END:VCALENDAR