BEGIN:VCALENDAR
VERSION:2.0
PRODID:-//ArtsConnect Virginia - ECPv6.15.20//NONSGML v1.0//EN
CALSCALE:GREGORIAN
METHOD:PUBLISH
X-ORIGINAL-URL:https://artsconnectva.org
X-WR-CALDESC:Events for ArtsConnect Virginia
REFRESH-INTERVAL;VALUE=DURATION:PT1H
X-Robots-Tag:noindex
X-PUBLISHED-TTL:PT1H
BEGIN:VTIMEZONE
TZID:America/New_York
BEGIN:DAYLIGHT
TZOFFSETFROM:-0500
TZOFFSETTO:-0400
TZNAME:EDT
DTSTART:20230312T070000
END:DAYLIGHT
BEGIN:STANDARD
TZOFFSETFROM:-0400
TZOFFSETTO:-0500
TZNAME:EST
DTSTART:20231105T060000
END:STANDARD
BEGIN:DAYLIGHT
TZOFFSETFROM:-0500
TZOFFSETTO:-0400
TZNAME:EDT
DTSTART:20240310T070000
END:DAYLIGHT
BEGIN:STANDARD
TZOFFSETFROM:-0400
TZOFFSETTO:-0500
TZNAME:EST
DTSTART:20241103T060000
END:STANDARD
BEGIN:DAYLIGHT
TZOFFSETFROM:-0500
TZOFFSETTO:-0400
TZNAME:EDT
DTSTART:20250309T070000
END:DAYLIGHT
BEGIN:STANDARD
TZOFFSETFROM:-0400
TZOFFSETTO:-0500
TZNAME:EST
DTSTART:20251102T060000
END:STANDARD
END:VTIMEZONE
BEGIN:VEVENT
DTSTART;TZID=America/New_York:20240704T140000
DTEND;TZID=America/New_York:20240704T150000
DTSTAMP:20260421T195000
CREATED:20240627T125407Z
LAST-MODIFIED:20240627T125407Z
UID:10921-1720101600-1720105200@artsconnectva.org
SUMMARY:Let's Sing with Art Rowe
DESCRIPTION:
URL:https://artsconnectva.org/event/lets-sing-with-art-rowe-7/
LOCATION:VA
CATEGORIES:Outreach Program
END:VEVENT
BEGIN:VEVENT
DTSTART;TZID=America/New_York:20240704T150000
DTEND;TZID=America/New_York:20240704T160000
DTSTAMP:20260421T195000
CREATED:20240416T170208Z
LAST-MODIFIED:20240416T170208Z
UID:10372-1720105200-1720108800@artsconnectva.org
SUMMARY:Patriotic Tunes with Tom and Rose Schlater
DESCRIPTION:Enjoy listening to well-known popular hits from 1900 to 1975!
URL:https://artsconnectva.org/event/patriotic-tunes-with-tom-and-rose-schlater/
LOCATION:VA
CATEGORIES:Outreach Program
END:VEVENT
BEGIN:VEVENT
DTSTART;TZID=America/New_York:20240705T140000
DTEND;TZID=America/New_York:20240705T150000
DTSTAMP:20260421T195000
CREATED:20240618T130845Z
LAST-MODIFIED:20240618T131058Z
UID:10803-1720188000-1720191600@artsconnectva.org
SUMMARY:All of the Classics with Dan Smith
DESCRIPTION:
URL:https://artsconnectva.org/event/all-of-the-classics-with-dan-smith/
LOCATION:VA
CATEGORIES:Outreach Program
END:VEVENT
BEGIN:VEVENT
DTSTART;TZID=America/New_York:20240707T103000
DTEND;TZID=America/New_York:20240707T113000
DTSTAMP:20260421T195000
CREATED:20240416T170601Z
LAST-MODIFIED:20240416T170601Z
UID:10374-1720348200-1720351800@artsconnectva.org
SUMMARY:Sunday Social with Art Rowe
DESCRIPTION:Art is an acoustic guitarist and singer that plays and sings a variety of music from country\, classic rock\, and oldies.
URL:https://artsconnectva.org/event/sunday-social-with-art-rowe-3/
LOCATION:VA
CATEGORIES:Outreach Program
END:VEVENT
BEGIN:VEVENT
DTSTART;TZID=America/New_York:20240709T130000
DTEND;TZID=America/New_York:20240709T140000
DTSTAMP:20260421T195000
CREATED:20240411T151945Z
LAST-MODIFIED:20240411T151945Z
UID:10336-1720530000-1720533600@artsconnectva.org
SUMMARY:Singing and Smiles with David and Art
DESCRIPTION:David and Art’s sole objective is to interact with the audience via talking and singing with them and most important putting a “Smile” on their Face! They will be singing a variety of music including country and classic rock.
URL:https://artsconnectva.org/event/singing-and-smiles-with-david-and-art-7/
LOCATION:VA
CATEGORIES:Outreach Program
END:VEVENT
BEGIN:VEVENT
DTSTART;TZID=America/New_York:20240709T133000
DTEND;TZID=America/New_York:20240709T143000
DTSTAMP:20260421T195000
CREATED:20240416T170939Z
LAST-MODIFIED:20240416T170939Z
UID:10376-1720531800-1720535400@artsconnectva.org
SUMMARY:Keep the Beat Social with Tom and Rose Schlater
DESCRIPTION:Enjoy living with Tom and Rose Schlater as they play well known popular hits from 1900 to 1975!
URL:https://artsconnectva.org/event/keep-the-beat-social-with-tom-and-rose-schlater-5/
LOCATION:VA
CATEGORIES:Outreach Program
END:VEVENT
BEGIN:VEVENT
DTSTART;TZID=America/New_York:20240709T140000
DTEND;TZID=America/New_York:20240709T150000
DTSTAMP:20260421T195000
CREATED:20240618T095252Z
LAST-MODIFIED:20240618T095252Z
UID:10754-1720533600-1720537200@artsconnectva.org
SUMMARY:Birthday Social with Dan Smith
DESCRIPTION:View Flyer
URL:https://artsconnectva.org/event/birthday-social-with-dan-smith-2/
LOCATION:VA
CATEGORIES:Outreach Program
END:VEVENT
BEGIN:VEVENT
DTSTART;TZID=America/New_York:20240709T140000
DTEND;TZID=America/New_York:20240709T150000
DTSTAMP:20260421T195000
CREATED:20240626T143147Z
LAST-MODIFIED:20240626T143147Z
UID:10893-1720533600-1720537200@artsconnectva.org
SUMMARY:Acrylic Paint Pour with Vanessa Golson
DESCRIPTION:View Flyer
URL:https://artsconnectva.org/event/acrylic-paint-pour-with-vanessa-golson-33/
LOCATION:VA
CATEGORIES:Outreach Program
END:VEVENT
BEGIN:VEVENT
DTSTART;TZID=America/New_York:20240709T143000
DTEND;TZID=America/New_York:20240709T153000
DTSTAMP:20260421T195000
CREATED:20240618T122825Z
LAST-MODIFIED:20240618T122825Z
UID:10794-1720535400-1720539000@artsconnectva.org
SUMMARY:Music with Ascension Melodies
DESCRIPTION:
URL:https://artsconnectva.org/event/music-with-ascension-melodies/
LOCATION:VA
CATEGORIES:Outreach Program
END:VEVENT
BEGIN:VEVENT
DTSTART;TZID=America/New_York:20240710T123000
DTEND;TZID=America/New_York:20240710T133000
DTSTAMP:20260421T195000
CREATED:20240620T162058Z
LAST-MODIFIED:20240705T174205Z
UID:10844-1720614600-1720618200@artsconnectva.org
SUMMARY:Let's Sing with Art Rowe
DESCRIPTION:Please Call 757-382-6411 to register. \nView Flyer
URL:https://artsconnectva.org/event/lets-sing-with-art-rowe-6/
LOCATION:Rokeby Senior Center\, 1709 Rokeby Ave\, Chesapeake\, VA\, 23320\, United States
CATEGORIES:Open to the Public,Outreach Program
END:VEVENT
BEGIN:VEVENT
DTSTART;TZID=America/New_York:20240710T133000
DTEND;TZID=America/New_York:20240710T143000
DTSTAMP:20260421T195000
CREATED:20240618T100030Z
LAST-MODIFIED:20240618T100030Z
UID:10757-1720618200-1720621800@artsconnectva.org
SUMMARY:Summer Celebration with Dan Smith
DESCRIPTION:View Flyer
URL:https://artsconnectva.org/event/summer-celebration-with-dan-smith/
LOCATION:VA
CATEGORIES:Outreach Program
END:VEVENT
BEGIN:VEVENT
DTSTART;TZID=America/New_York:20240710T140000
DTEND;TZID=America/New_York:20240710T150000
DTSTAMP:20260421T195000
CREATED:20240618T124137Z
LAST-MODIFIED:20240618T124137Z
UID:10796-1720620000-1720623600@artsconnectva.org
SUMMARY:Summer & Patriotic Music with Karen Stowe
DESCRIPTION:View Flyer
URL:https://artsconnectva.org/event/summer-patriotic-music-with-karen-stowe/
LOCATION:VA
CATEGORIES:Outreach Program
END:VEVENT
BEGIN:VEVENT
DTSTART;TZID=America/New_York:20240710T140000
DTEND;TZID=America/New_York:20240710T150000
DTSTAMP:20260421T195000
CREATED:20240628T143703Z
LAST-MODIFIED:20240628T143703Z
UID:10953-1720620000-1720623600@artsconnectva.org
SUMMARY:Line Dancing with Alicia Edwards
DESCRIPTION:
URL:https://artsconnectva.org/event/line-dancing-with-alicia-edwards/
LOCATION:VA
CATEGORIES:Outreach Program
END:VEVENT
BEGIN:VEVENT
DTSTART;TZID=America/New_York:20240710T150000
DTEND;TZID=America/New_York:20240710T160000
DTSTAMP:20260421T195000
CREATED:20240529T152329Z
LAST-MODIFIED:20240529T152329Z
UID:10663-1720623600-1720627200@artsconnectva.org
SUMMARY:Candle Making with Ginnie & Tracy
DESCRIPTION:
URL:https://artsconnectva.org/event/candle-making-with-ginnie-tracy/
LOCATION:VA
CATEGORIES:Outreach Program
END:VEVENT
BEGIN:VEVENT
DTSTART;TZID=America/New_York:20240711T120000
DTEND;TZID=America/New_York:20240711T130000
DTSTAMP:20260421T195000
CREATED:20240430T201023Z
LAST-MODIFIED:20240430T201023Z
UID:10527-1720699200-1720702800@artsconnectva.org
SUMMARY:Summer Bash with Adrienne and Jamie
DESCRIPTION:Join Adrienne and Jamie as they play some throwback tunes!
URL:https://artsconnectva.org/event/summer-bash-with-adrienne-and-jamie/
LOCATION:VA
CATEGORIES:Outreach Program
END:VEVENT
BEGIN:VEVENT
DTSTART;TZID=America/New_York:20240711T130000
DTEND;TZID=America/New_York:20240711T140000
DTSTAMP:20260421T195000
CREATED:20240618T101147Z
LAST-MODIFIED:20240618T101147Z
UID:10760-1720702800-1720706400@artsconnectva.org
SUMMARY:Tape Painting with Vivian Davis
DESCRIPTION:View Flyer
URL:https://artsconnectva.org/event/tape-painting-with-vivian-davis-2/
LOCATION:VA
CATEGORIES:Outreach Program
END:VEVENT
BEGIN:VEVENT
DTSTART;TZID=America/New_York:20240711T140000
DTEND;TZID=America/New_York:20240711T150000
DTSTAMP:20260421T195000
CREATED:20240605T165947Z
LAST-MODIFIED:20240605T165947Z
UID:10696-1720706400-1720710000@artsconnectva.org
SUMMARY:Rock Painting with Adrienne Searle
DESCRIPTION:
URL:https://artsconnectva.org/event/rock-painting-with-adrienne-searle-2/
LOCATION:VA
CATEGORIES:Outreach Program
END:VEVENT
BEGIN:VEVENT
DTSTART;TZID=America/New_York:20240711T140000
DTEND;TZID=America/New_York:20240711T150000
DTSTAMP:20260421T195000
CREATED:20240627T125825Z
LAST-MODIFIED:20240627T125825Z
UID:10923-1720706400-1720710000@artsconnectva.org
SUMMARY:All of the Favorites with Dan Smith
DESCRIPTION:
URL:https://artsconnectva.org/event/all-of-the-favorites-with-dan-smith-37/
LOCATION:VA
CATEGORIES:Outreach Program
END:VEVENT
BEGIN:VEVENT
DTSTART;TZID=America/New_York:20240712T103000
DTEND;TZID=America/New_York:20240712T113000
DTSTAMP:20260421T195000
CREATED:20240620T162150Z
LAST-MODIFIED:20240620T162150Z
UID:10847-1720780200-1720783800@artsconnectva.org
SUMMARY:Magic with Sean McKenzie
DESCRIPTION:
URL:https://artsconnectva.org/event/magic-with-sean-mckenzie/
LOCATION:VA
CATEGORIES:Outreach Program
END:VEVENT
BEGIN:VEVENT
DTSTART;TZID=America/New_York:20240712T140000
DTEND;TZID=America/New_York:20240712T150000
DTSTAMP:20260421T195000
CREATED:20240411T154029Z
LAST-MODIFIED:20240411T154029Z
UID:10348-1720792800-1720796400@artsconnectva.org
SUMMARY:Happy Hour with Adrienne and Jamie
DESCRIPTION:Join Adrienne and Jamie as they play some throwback tunes!
URL:https://artsconnectva.org/event/happy-hour-with-adrienne-and-jamie-7/
LOCATION:VA
END:VEVENT
BEGIN:VEVENT
DTSTART;TZID=America/New_York:20240712T140000
DTEND;TZID=America/New_York:20240712T150000
DTSTAMP:20260421T195000
CREATED:20240624T152019Z
LAST-MODIFIED:20240624T152019Z
UID:10872-1720792800-1720796400@artsconnectva.org
SUMMARY:Summer & Patriotic Music with Karen Stowe
DESCRIPTION:View Flyer
URL:https://artsconnectva.org/event/summer-patriotic-music-with-karen-stowe-2/
LOCATION:VA
CATEGORIES:Outreach Program
END:VEVENT
BEGIN:VEVENT
DTSTART;TZID=America/New_York:20240712T153000
DTEND;TZID=America/New_York:20240712T163000
DTSTAMP:20260421T195000
CREATED:20240624T151202Z
LAST-MODIFIED:20240624T151202Z
UID:10868-1720798200-1720801800@artsconnectva.org
SUMMARY:Famous Hits with Cory Laser
DESCRIPTION:
URL:https://artsconnectva.org/event/famous-hits-with-cory-laser-17/
LOCATION:VA
CATEGORIES:Outreach Program
END:VEVENT
BEGIN:VEVENT
DTSTART;TZID=America/New_York:20240713T170000
DTEND;TZID=America/New_York:20240713T180000
DTSTAMP:20260421T195000
CREATED:20240416T171623Z
LAST-MODIFIED:20240416T171623Z
UID:10378-1720890000-1720893600@artsconnectva.org
SUMMARY:Pour Paint with Vanessa Golson
DESCRIPTION:Enjoy a colorful\, art experience and walk away with a one-of-a-kind masterpiece\, with Vanessa’s step-by-step instructions of an acrylic paint pour technique!
URL:https://artsconnectva.org/event/pour-paint-with-vanessa-golson-13/
LOCATION:VA
CATEGORIES:Outreach Program
END:VEVENT
BEGIN:VEVENT
DTSTART;TZID=America/New_York:20240715T140000
DTEND;TZID=America/New_York:20240715T150000
DTSTAMP:20260421T195000
CREATED:20240618T125217Z
LAST-MODIFIED:20240618T125217Z
UID:10799-1721052000-1721055600@artsconnectva.org
SUMMARY:Favorite Throwbacks with Art Rowe
DESCRIPTION:
URL:https://artsconnectva.org/event/favorite-throwbacks-with-art-rowe-16/
LOCATION:VA
CATEGORIES:Outreach Program
END:VEVENT
BEGIN:VEVENT
DTSTART;TZID=America/New_York:20240715T140000
DTEND;TZID=America/New_York:20240715T150000
DTSTAMP:20260421T195000
CREATED:20240620T152514Z
LAST-MODIFIED:20240620T152514Z
UID:10826-1721052000-1721055600@artsconnectva.org
SUMMARY:Happy Hour with Ava and Bryan
DESCRIPTION:
URL:https://artsconnectva.org/event/happy-hour-with-ava-and-bryan/
LOCATION:VA
CATEGORIES:Outreach Program
END:VEVENT
BEGIN:VEVENT
DTSTART;TZID=America/New_York:20240715T140000
DTEND;TZID=America/New_York:20240715T150000
DTSTAMP:20260421T195000
CREATED:20240704T161831Z
LAST-MODIFIED:20240704T161831Z
UID:10967-1721052000-1721055600@artsconnectva.org
SUMMARY:Flower Pot Craft with Stephanie Slate
DESCRIPTION:
URL:https://artsconnectva.org/event/flower-pot-craft-with-stephanie-slate/
LOCATION:VA
CATEGORIES:Outreach Program
END:VEVENT
BEGIN:VEVENT
DTSTART;TZID=America/New_York:20240715T173000
DTEND;TZID=America/New_York:20240715T183000
DTSTAMP:20260421T195000
CREATED:20240618T101919Z
LAST-MODIFIED:20240705T174107Z
UID:10763-1721064600-1721068200@artsconnectva.org
SUMMARY:Pop Song Sing-Along with Melissa Cartwright
DESCRIPTION:Open to individuals living with a breast cancer diagnosis. \nView Flyer
URL:https://artsconnectva.org/event/pop-song-sing-along-with-melissa-cartwright-2/
LOCATION:Here for the Girls\, 1309 Jamestown Rd Suite 204\, Williamsburg\, VA\, 23185\, United States
CATEGORIES:Open to the Public,Outreach Program
END:VEVENT
BEGIN:VEVENT
DTSTART;TZID=America/New_York:20240716T130000
DTEND;TZID=America/New_York:20240716T140000
DTSTAMP:20260421T195000
CREATED:20240416T173743Z
LAST-MODIFIED:20240416T173743Z
UID:10382-1721134800-1721138400@artsconnectva.org
SUMMARY:All of the Favorites with Dan Smith
DESCRIPTION:Enjoy live performance of popular music from the 1940s\, 1950s and 1960s featuring big band\, classic country\, Elvis Presley\, Pat Boone\, and other icons of the era. Performances feature vocals with electronic keyboard and saxophone.
URL:https://artsconnectva.org/event/all-of-the-favorites-with-dan-smith-32/
LOCATION:VA
CATEGORIES:Outreach Program
END:VEVENT
BEGIN:VEVENT
DTSTART;TZID=America/New_York:20240716T133000
DTEND;TZID=America/New_York:20240716T143000
DTSTAMP:20260421T195000
CREATED:20240416T171951Z
LAST-MODIFIED:20240416T171951Z
UID:10380-1721136600-1721140200@artsconnectva.org
SUMMARY:Keep the Beat Social with Art Rowe
DESCRIPTION:Join Art as he plays classic rock and country hits!
URL:https://artsconnectva.org/event/keep-the-beat-social-with-art-rowe-9/
LOCATION:VA
CATEGORIES:Outreach Program
END:VEVENT
BEGIN:VEVENT
DTSTART;TZID=America/New_York:20240716T140000
DTEND;TZID=America/New_York:20240716T150000
DTSTAMP:20260421T195000
CREATED:20240618T131922Z
LAST-MODIFIED:20240618T131922Z
UID:10807-1721138400-1721142000@artsconnectva.org
SUMMARY:Summer Tunes with Karen Stowe
DESCRIPTION:View Flyer
URL:https://artsconnectva.org/event/summer-tunes-with-karen-stowe/
LOCATION:VA
CATEGORIES:Outreach Program
END:VEVENT
END:VCALENDAR