BEGIN:VCALENDAR
VERSION:2.0
PRODID:-//ArtsConnect Virginia - ECPv6.15.20//NONSGML v1.0//EN
CALSCALE:GREGORIAN
METHOD:PUBLISH
X-ORIGINAL-URL:https://artsconnectva.org
X-WR-CALDESC:Events for ArtsConnect Virginia
REFRESH-INTERVAL;VALUE=DURATION:PT1H
X-Robots-Tag:noindex
X-PUBLISHED-TTL:PT1H
BEGIN:VTIMEZONE
TZID:America/New_York
BEGIN:DAYLIGHT
TZOFFSETFROM:-0500
TZOFFSETTO:-0400
TZNAME:EDT
DTSTART:20220313T070000
END:DAYLIGHT
BEGIN:STANDARD
TZOFFSETFROM:-0400
TZOFFSETTO:-0500
TZNAME:EST
DTSTART:20221106T060000
END:STANDARD
BEGIN:DAYLIGHT
TZOFFSETFROM:-0500
TZOFFSETTO:-0400
TZNAME:EDT
DTSTART:20230312T070000
END:DAYLIGHT
BEGIN:STANDARD
TZOFFSETFROM:-0400
TZOFFSETTO:-0500
TZNAME:EST
DTSTART:20231105T060000
END:STANDARD
BEGIN:DAYLIGHT
TZOFFSETFROM:-0500
TZOFFSETTO:-0400
TZNAME:EDT
DTSTART:20240310T070000
END:DAYLIGHT
BEGIN:STANDARD
TZOFFSETFROM:-0400
TZOFFSETTO:-0500
TZNAME:EST
DTSTART:20241103T060000
END:STANDARD
END:VTIMEZONE
BEGIN:VEVENT
DTSTART;TZID=America/New_York:20231110T103000
DTEND;TZID=America/New_York:20231110T113000
DTSTAMP:20260422T041824
CREATED:20231017T162554Z
LAST-MODIFIED:20231017T162554Z
UID:8778-1699612200-1699615800@artsconnectva.org
SUMMARY:Pour Paint: Marble Effect with Vanessa Golson
DESCRIPTION:Join Vanessa as she guides you through a beautiful pour paint program!
URL:https://artsconnectva.org/event/pour-paint-marble-effect-with-vanessa-golson/
LOCATION:VA
CATEGORIES:Outreach Program
END:VEVENT
BEGIN:VEVENT
DTSTART;TZID=America/New_York:20231110T113000
DTEND;TZID=America/New_York:20231110T123000
DTSTAMP:20260422T041824
CREATED:20231018T152416Z
LAST-MODIFIED:20231018T152416Z
UID:8799-1699615800-1699619400@artsconnectva.org
SUMMARY:Movement\, Music\, and Yoga as Self Care with The DAY Program
DESCRIPTION:This program works to expand awareness\, access energy\, cultivate transformation\, and have a really good time. The DAY Program fuses yoga\, meditation\, and mindfulness with African Drumming to improve wellness.
URL:https://artsconnectva.org/event/movement-music-and-yoga-as-self-care-with-the-day-program-2/
LOCATION:VA
CATEGORIES:Outreach Program
END:VEVENT
BEGIN:VEVENT
DTSTART;TZID=America/New_York:20231110T140000
DTEND;TZID=America/New_York:20231110T150000
DTSTAMP:20260422T041824
CREATED:20231017T162102Z
LAST-MODIFIED:20231017T162102Z
UID:8776-1699624800-1699628400@artsconnectva.org
SUMMARY:Patriotic Tunes with Tom and Becky
DESCRIPTION:With Tom on trumpet and Flugelhorn and Becky on Keyboards and French horn. They will be playing patriotic tunes in the dining room!
URL:https://artsconnectva.org/event/patriotic-tunes-with-tom-and-becky-3/
LOCATION:VA
CATEGORIES:Outreach Program
END:VEVENT
BEGIN:VEVENT
DTSTART;TZID=America/New_York:20231110T140000
DTEND;TZID=America/New_York:20231110T150000
DTSTAMP:20260422T041824
CREATED:20231017T163341Z
LAST-MODIFIED:20231017T163341Z
UID:8780-1699624800-1699628400@artsconnectva.org
SUMMARY:All of the Favorites! with Jimmy G Sings
DESCRIPTION:Join Jimmy as he sings most popular Acoustic Rock and Pop songs from the past 5 decades and today!
URL:https://artsconnectva.org/event/all-of-the-favorites-with-jimmy-g-sings/
LOCATION:VA
CATEGORIES:Outreach Program
END:VEVENT
BEGIN:VEVENT
DTSTART;TZID=America/New_York:20231110T143000
DTEND;TZID=America/New_York:20231110T153000
DTSTAMP:20260422T041824
CREATED:20230926T165642Z
LAST-MODIFIED:20230926T165642Z
UID:8632-1699626600-1699630200@artsconnectva.org
SUMMARY:Veteran's Day Tunes with Dan Smith
DESCRIPTION:Join Dan for this Veteran’s Day program!
URL:https://artsconnectva.org/event/veterans-day-tunes-with-dan-smith-2/
LOCATION:VA
CATEGORIES:Outreach Program
END:VEVENT
BEGIN:VEVENT
DTSTART;TZID=America/New_York:20231110T150000
DTEND;TZID=America/New_York:20231110T160000
DTSTAMP:20260422T041824
CREATED:20231003T171700Z
LAST-MODIFIED:20231003T171700Z
UID:8668-1699628400-1699632000@artsconnectva.org
SUMMARY:Songs of Autumn with Karen Stowe
DESCRIPTION:Enjoy all your favorite Autumn songs played on the harp by Karen Stowe!
URL:https://artsconnectva.org/event/songs-of-autumn-with-karen-stowe/
LOCATION:VA
CATEGORIES:Outreach Program
END:VEVENT
BEGIN:VEVENT
DTSTART;TZID=America/New_York:20231110T153000
DTEND;TZID=America/New_York:20231110T163000
DTSTAMP:20260422T041824
CREATED:20231003T173046Z
LAST-MODIFIED:20231003T173046Z
UID:8672-1699630200-1699633800@artsconnectva.org
SUMMARY:Let's Sing! with Art Rowe
DESCRIPTION:Art is an acoustic guitarist and singer that plays and sings a variety of music from country\, classic rock\, and oldies.
URL:https://artsconnectva.org/event/lets-sing-with-art-rowe-3/
LOCATION:VA
CATEGORIES:Outreach Program
END:VEVENT
BEGIN:VEVENT
DTSTART;TZID=America/New_York:20231110T190000
DTEND;TZID=America/New_York:20231110T210000
DTSTAMP:20260422T041824
CREATED:20230920T154151Z
LAST-MODIFIED:20230920T154151Z
UID:8583-1699642800-1699650000@artsconnectva.org
SUMMARY:Pub Night with Richard Mekdeci
DESCRIPTION:Richard Mekdeci (mek-dee-see) is an award-winning songwriter and musician and a 22-year veteran of the Nashville songwriting community. He has produced\, written\, and recorded with such artists as Roseanne Cash\, Kathy Mattea\, Patty Loveless\, and others.
URL:https://artsconnectva.org/event/pub-night-with-richard-mekdeci-6/
LOCATION:VA
CATEGORIES:Outreach Program
END:VEVENT
BEGIN:VEVENT
DTSTART;TZID=America/New_York:20231114T103000
DTEND;TZID=America/New_York:20231114T113000
DTSTAMP:20260422T041824
CREATED:20230927T153757Z
LAST-MODIFIED:20230927T153757Z
UID:8634-1699957800-1699961400@artsconnectva.org
SUMMARY:Stand Up Comedy with Rona Hyman
DESCRIPTION:Enjoy relatable and entertaining live\, performance\, for people growing older performed by people growing older.
URL:https://artsconnectva.org/event/stand-up-comedy-with-rona-hyman-2/
LOCATION:VA
CATEGORIES:Outreach Program
END:VEVENT
BEGIN:VEVENT
DTSTART;TZID=America/New_York:20231114T130000
DTEND;TZID=America/New_York:20231114T140000
DTSTAMP:20260422T041824
CREATED:20230831T123543Z
LAST-MODIFIED:20230831T123543Z
UID:8394-1699966800-1699970400@artsconnectva.org
SUMMARY:Singing and Smiling with Ron and David
DESCRIPTION:David and Ron’s sole objective is to interact with the audience via talking and singing with them and most important putting a “Smile” on their Face!
URL:https://artsconnectva.org/event/singing-and-smiling-with-ron-and-david/
LOCATION:VA
CATEGORIES:Outreach Program
END:VEVENT
BEGIN:VEVENT
DTSTART;TZID=America/New_York:20231114T133000
DTEND;TZID=America/New_York:20231114T143000
DTSTAMP:20260422T041824
CREATED:20230906T152754Z
LAST-MODIFIED:20230906T152754Z
UID:8472-1699968600-1699972200@artsconnectva.org
SUMMARY:Keep the Beat Social with David Jacobs
DESCRIPTION:Join David as he plays popular songs across multiple genres from the ’50s\, ‘60s\,’70s through today!
URL:https://artsconnectva.org/event/keep-the-beat-social-with-david-jacobs-3/
LOCATION:VA
CATEGORIES:Outreach Program
END:VEVENT
BEGIN:VEVENT
DTSTART;TZID=America/New_York:20231114T133000
DTEND;TZID=America/New_York:20231114T143000
DTSTAMP:20260422T041824
CREATED:20231107T160657Z
LAST-MODIFIED:20231107T160657Z
UID:8888-1699968600-1699972200@artsconnectva.org
SUMMARY:Wooden Pumpkin Craft with Stephanie Slate
DESCRIPTION:Join Stephanie while she helps you make this wooden pumpkin craft!
URL:https://artsconnectva.org/event/wooden-pumpkin-craft-with-stephanie-slate/
LOCATION:VA
CATEGORIES:Outreach Program
END:VEVENT
BEGIN:VEVENT
DTSTART;TZID=America/New_York:20231114T143000
DTEND;TZID=America/New_York:20231114T153000
DTSTAMP:20260422T041824
CREATED:20230906T151713Z
LAST-MODIFIED:20230906T151713Z
UID:8468-1699972200-1699975800@artsconnectva.org
SUMMARY:Fiddlin' and Pickin' with Ted and Eric
DESCRIPTION:Eric and Ted perform a variety of original and traditional songs accompanying themselves on guitar and mandolin\, bluegrass\, folk\, ragtime\, novelty.
URL:https://artsconnectva.org/event/fiddlin-and-pickin-with-ted-and-eric-4/
LOCATION:VA
CATEGORIES:Outreach Program
END:VEVENT
BEGIN:VEVENT
DTSTART;TZID=America/New_York:20231115T100000
DTEND;TZID=America/New_York:20231115T120000
DTSTAMP:20260422T041824
CREATED:20230906T150306Z
LAST-MODIFIED:20230906T150306Z
UID:8464-1700042400-1700049600@artsconnectva.org
SUMMARY:Harvest Tote
DESCRIPTION:Enjoy this fun harvest tote program!
URL:https://artsconnectva.org/event/harvest-tote/
LOCATION:VA
CATEGORIES:Outreach Program
END:VEVENT
BEGIN:VEVENT
DTSTART;TZID=America/New_York:20231115T103000
DTEND;TZID=America/New_York:20231115T113000
DTSTAMP:20260422T041824
CREATED:20231003T154154Z
LAST-MODIFIED:20231003T154154Z
UID:8664-1700044200-1700047800@artsconnectva.org
SUMMARY:Fall Flowers with Deborah Freeman
DESCRIPTION:Join Debby for this beautiful arrangement!
URL:https://artsconnectva.org/event/fall-flowers-with-deborah-freeman/
LOCATION:VA
CATEGORIES:Outreach Program
END:VEVENT
BEGIN:VEVENT
DTSTART;TZID=America/New_York:20231116T103000
DTEND;TZID=America/New_York:20231116T113000
DTSTAMP:20260422T041824
CREATED:20231005T144510Z
LAST-MODIFIED:20231005T144510Z
UID:8699-1700130600-1700134200@artsconnectva.org
SUMMARY:Poetry Workshop #3 with Debra Frech
DESCRIPTION:Join Debra for this poetry program! You will learn new and fun way to express yourself.
URL:https://artsconnectva.org/event/poetry-workshop-3-with-debra-frech/
LOCATION:VA
CATEGORIES:Outreach Program
END:VEVENT
BEGIN:VEVENT
DTSTART;TZID=America/New_York:20231116T140000
DTEND;TZID=America/New_York:20231116T150000
DTSTAMP:20260422T041824
CREATED:20230906T140328Z
LAST-MODIFIED:20230906T140328Z
UID:8458-1700143200-1700146800@artsconnectva.org
SUMMARY:Favorite Throwbacks with Linda and Lyle
DESCRIPTION:Join Lyle and Linda as they perform a combination of styles of music from the 1940s-1980’s! You will not want to miss this!
URL:https://artsconnectva.org/event/favorite-throwbacks-with-linda-and-lyle/
LOCATION:VA
CATEGORIES:Outreach Program
END:VEVENT
BEGIN:VEVENT
DTSTART;TZID=America/New_York:20231117T140000
DTEND;TZID=America/New_York:20231117T150000
DTSTAMP:20260422T041824
CREATED:20230920T155629Z
LAST-MODIFIED:20230920T155717Z
UID:8589-1700229600-1700233200@artsconnectva.org
SUMMARY:Crafting Fun! with Creative Connections
DESCRIPTION:Join Tina and Mike as they guide you through a fun craft!
URL:https://artsconnectva.org/event/crafting-fun-with-creative-connections-3/
LOCATION:VA
CATEGORIES:Outreach Program
END:VEVENT
BEGIN:VEVENT
DTSTART;TZID=America/New_York:20231117T140000
DTEND;TZID=America/New_York:20231117T150000
DTSTAMP:20260422T041824
CREATED:20231017T163659Z
LAST-MODIFIED:20231017T163659Z
UID:8782-1700229600-1700233200@artsconnectva.org
SUMMARY:Music\, Motown\, and More! with Richard Mekdeci
DESCRIPTION:Richard Mekdeci (mek-dee-see) is an award-winning songwriter and musician and a 22 year veteran of the Nashville songwriting community. He has produced\, written and recorded with such artists as Roseanne Cash\, Kathy Mattea\, Patty Loveless\, and others.
URL:https://artsconnectva.org/event/music-motown-and-more-with-richard-mekdeci-23/
LOCATION:VA
CATEGORIES:Outreach Program
END:VEVENT
BEGIN:VEVENT
DTSTART;TZID=America/New_York:20231117T150000
DTEND;TZID=America/New_York:20231117T160000
DTSTAMP:20260422T041824
CREATED:20231003T172212Z
LAST-MODIFIED:20231003T172212Z
UID:8670-1700233200-1700236800@artsconnectva.org
SUMMARY:Old Time Favorites with Tom and Rose Schlater
DESCRIPTION:Enjoy listening to well-known popular hits from 1900 to 1975!
URL:https://artsconnectva.org/event/old-time-favorites-with-tom-and-rose-schlater-5/
LOCATION:VA
CATEGORIES:Outreach Program
END:VEVENT
BEGIN:VEVENT
DTSTART;TZID=America/New_York:20231117T150000
DTEND;TZID=America/New_York:20231117T160000
DTSTAMP:20260422T041824
CREATED:20231024T141455Z
LAST-MODIFIED:20231024T141455Z
UID:8810-1700233200-1700236800@artsconnectva.org
SUMMARY:Most Requested with Tom and Becky
DESCRIPTION:Join Tom and Becky for versatile live music with Tom on Trumpet and Flugelhorn\, and Becky on French Horn and keyboards!
URL:https://artsconnectva.org/event/most-requested-with-tom-and-becky-3/
LOCATION:VA
CATEGORIES:Outreach Program
END:VEVENT
BEGIN:VEVENT
DTSTART;TZID=America/New_York:20231120T160000
DTEND;TZID=America/New_York:20231120T170000
DTSTAMP:20260422T041824
CREATED:20231025T151420Z
LAST-MODIFIED:20231025T151420Z
UID:8815-1700496000-1700499600@artsconnectva.org
SUMMARY:Jellyfish Resin Ornaments with Heather Queen
DESCRIPTION:Join Heather for this fun Christmas resin pour activity!
URL:https://artsconnectva.org/event/jellyfish-resin-ornaments-with-heather-queen/
LOCATION:VA
CATEGORIES:Outreach Program
END:VEVENT
BEGIN:VEVENT
DTSTART;TZID=America/New_York:20231121T103000
DTEND;TZID=America/New_York:20231121T113000
DTSTAMP:20260422T041824
CREATED:20230901T192137Z
LAST-MODIFIED:20230901T192137Z
UID:8435-1700562600-1700566200@artsconnectva.org
SUMMARY:Thanksgiving Potluck with Fletcher and Friends
DESCRIPTION:Fletcher and Friends are a guitar\, bass and drums trio that play a variety of music genres. They play old and new jazz as well as blues\, rhythm and blues\, and Latin rhythms!
URL:https://artsconnectva.org/event/thanksgiving-potluck-with-fletcher-and-friends/
LOCATION:VA
CATEGORIES:Outreach Program
END:VEVENT
BEGIN:VEVENT
DTSTART;TZID=America/New_York:20231121T130000
DTEND;TZID=America/New_York:20231121T140000
DTSTAMP:20260422T041824
CREATED:20230831T145047Z
LAST-MODIFIED:20230831T145105Z
UID:8417-1700571600-1700575200@artsconnectva.org
SUMMARY:Fall and Christmas Tunes with Karen Stowe
DESCRIPTION:Join Karen as she plays different harp and Christmas songs on the harp!
URL:https://artsconnectva.org/event/fall-and-christmas-tunes-with-karen-stowe/
LOCATION:VA
CATEGORIES:Outreach Program
END:VEVENT
BEGIN:VEVENT
DTSTART;TZID=America/New_York:20231121T130000
DTEND;TZID=America/New_York:20231121T140000
DTSTAMP:20260422T041824
CREATED:20231127T171817Z
LAST-MODIFIED:20231127T171817Z
UID:9161-1700571600-1700575200@artsconnectva.org
SUMMARY:Holiday Tunes with Art Rowe & David Jones
DESCRIPTION:
URL:https://artsconnectva.org/event/holiday-tunes-with-art-rowe-david-jones/
LOCATION:Newport News\, VA\, Newport News\, VA\, United States
CATEGORIES:Outreach Program
END:VEVENT
BEGIN:VEVENT
DTSTART;TZID=America/New_York:20231121T133000
DTEND;TZID=America/New_York:20231121T143000
DTSTAMP:20260422T041824
CREATED:20230901T193404Z
LAST-MODIFIED:20230901T193404Z
UID:8441-1700573400-1700577000@artsconnectva.org
SUMMARY:Keep the Beat Social with Alex Marlins
DESCRIPTION:Alex is trained in various musical styles on the violin\, including classical\, jazz\, modern/pop\, and Celtic fiddle. Alex will string together music for any occasion!
URL:https://artsconnectva.org/event/keep-the-beat-social-with-alex-marlins-4/
LOCATION:VA
CATEGORIES:Outreach Program
END:VEVENT
BEGIN:VEVENT
DTSTART;TZID=America/New_York:20231121T170000
DTEND;TZID=America/New_York:20231121T180000
DTSTAMP:20260422T041824
CREATED:20231026T125550Z
LAST-MODIFIED:20231026T125550Z
UID:8837-1700586000-1700589600@artsconnectva.org
SUMMARY:Harp Serenade with Karen Stowe
DESCRIPTION:Enjoy listening to beautiful and elegant harp music! \n 
URL:https://artsconnectva.org/event/harp-serenade-with-karen-stowe-3/
LOCATION:VA
CATEGORIES:Outreach Program
END:VEVENT
BEGIN:VEVENT
DTSTART;TZID=America/New_York:20231122T111500
DTEND;TZID=America/New_York:20231122T121500
DTSTAMP:20260422T041824
CREATED:20230907T172728Z
LAST-MODIFIED:20230907T172728Z
UID:8487-1700651700-1700655300@artsconnectva.org
SUMMARY:Fiddlin' and Pickin with Tidewater Bluegrass Revival
DESCRIPTION:Tidewater Bluegrass Revival is a 5-person band focusing on bluegrass music that will be sure to get feet moving and heads swaying! The group features a fiddle\, guitar\, mandolin\, banjo\, and bass.
URL:https://artsconnectva.org/event/fiddlin-and-pickin-with-tidewater-bluegrass-revival-9/
LOCATION:VA
CATEGORIES:Outreach Program
END:VEVENT
BEGIN:VEVENT
DTSTART;TZID=America/New_York:20231122T140000
DTEND;TZID=America/New_York:20231122T150000
DTSTAMP:20260422T041824
CREATED:20231011T152552Z
LAST-MODIFIED:20231011T152552Z
UID:8748-1700661600-1700665200@artsconnectva.org
SUMMARY:Favorite Throwbacks with Lyle and Linda Dowling
DESCRIPTION:Lyle and Linda love entertaining seniors and performing a combination of styles of music!
URL:https://artsconnectva.org/event/favorite-throwbacks-with-lyle-and-linda-dowling-4/
LOCATION:VA
CATEGORIES:Outreach Program
END:VEVENT
BEGIN:VEVENT
DTSTART;TZID=America/New_York:20231123T140000
DTEND;TZID=America/New_York:20231123T150000
DTSTAMP:20260422T041824
CREATED:20230913T160303Z
LAST-MODIFIED:20230913T160303Z
UID:8516-1700748000-1700751600@artsconnectva.org
SUMMARY:Thanksgiving Day Tunes with Thyme and Beat
DESCRIPTION:Thyme & Beats plays a genre of 60s and 70s covers with some Christmas Tunes mixed in!
URL:https://artsconnectva.org/event/thanksgiving-day-tunes-with-thyme-and-beat/
LOCATION:VA
CATEGORIES:Outreach Program
END:VEVENT
END:VCALENDAR