BEGIN:VCALENDAR
VERSION:2.0
PRODID:-//ArtsConnect Virginia - ECPv6.15.20//NONSGML v1.0//EN
CALSCALE:GREGORIAN
METHOD:PUBLISH
X-WR-CALNAME:ArtsConnect Virginia
X-ORIGINAL-URL:https://artsconnectva.org
X-WR-CALDESC:Events for ArtsConnect Virginia
REFRESH-INTERVAL;VALUE=DURATION:PT1H
X-Robots-Tag:noindex
X-PUBLISHED-TTL:PT1H
BEGIN:VTIMEZONE
TZID:America/New_York
BEGIN:DAYLIGHT
TZOFFSETFROM:-0500
TZOFFSETTO:-0400
TZNAME:EDT
DTSTART:20230312T070000
END:DAYLIGHT
BEGIN:STANDARD
TZOFFSETFROM:-0400
TZOFFSETTO:-0500
TZNAME:EST
DTSTART:20231105T060000
END:STANDARD
BEGIN:DAYLIGHT
TZOFFSETFROM:-0500
TZOFFSETTO:-0400
TZNAME:EDT
DTSTART:20240310T070000
END:DAYLIGHT
BEGIN:STANDARD
TZOFFSETFROM:-0400
TZOFFSETTO:-0500
TZNAME:EST
DTSTART:20241103T060000
END:STANDARD
BEGIN:DAYLIGHT
TZOFFSETFROM:-0500
TZOFFSETTO:-0400
TZNAME:EDT
DTSTART:20250309T070000
END:DAYLIGHT
BEGIN:STANDARD
TZOFFSETFROM:-0400
TZOFFSETTO:-0500
TZNAME:EST
DTSTART:20251102T060000
END:STANDARD
END:VTIMEZONE
BEGIN:VEVENT
DTSTART;TZID=America/New_York:20241118T120000
DTEND;TZID=America/New_York:20241118T130000
DTSTAMP:20260420T020911
CREATED:20241023T152251Z
LAST-MODIFIED:20241023T152251Z
UID:12271-1731931200-1731934800@artsconnectva.org
SUMMARY:Friendsgiving with Ava Stevenson
DESCRIPTION:
URL:https://artsconnectva.org/event/friendsgiving-with-ava-stevenson/
LOCATION:VA
CATEGORIES:Outreach Program
END:VEVENT
BEGIN:VEVENT
DTSTART;TZID=America/New_York:20241118T104500
DTEND;TZID=America/New_York:20241118T114500
DTSTAMP:20260420T020911
CREATED:20241015T222524Z
LAST-MODIFIED:20241015T222524Z
UID:12175-1731926700-1731930300@artsconnectva.org
SUMMARY:Painted Pumpkins with Susan Owens
DESCRIPTION:
URL:https://artsconnectva.org/event/painted-pumpkins-with-susan-owens-2/
LOCATION:VA
CATEGORIES:Outreach Program
END:VEVENT
BEGIN:VEVENT
DTSTART;TZID=America/New_York:20241115T160000
DTEND;TZID=America/New_York:20241115T170000
DTSTAMP:20260420T020911
CREATED:20241008T163034Z
LAST-MODIFIED:20241112T223027Z
UID:12095-1731686400-1731690000@artsconnectva.org
SUMMARY:Piano Tunes with Christian Flores
DESCRIPTION:
URL:https://artsconnectva.org/event/piano-tunes-with-richard-mekdeci/
LOCATION:VA
CATEGORIES:Outreach Program
END:VEVENT
BEGIN:VEVENT
DTSTART;TZID=America/New_York:20241115T143000
DTEND;TZID=America/New_York:20241115T153000
DTSTAMP:20260420T020911
CREATED:20241015T222111Z
LAST-MODIFIED:20241015T222111Z
UID:12173-1731681000-1731684600@artsconnectva.org
SUMMARY:Music\, Motown\, and More with Richard Mekdeci
DESCRIPTION:
URL:https://artsconnectva.org/event/music-motown-and-more-with-richard-mekdeci-46/
LOCATION:VA
CATEGORIES:Outreach Program
END:VEVENT
BEGIN:VEVENT
DTSTART;TZID=America/New_York:20241115T140000
DTEND;TZID=America/New_York:20241115T150000
DTSTAMP:20260420T020911
CREATED:20241015T221824Z
LAST-MODIFIED:20241016T163421Z
UID:12171-1731679200-1731682800@artsconnectva.org
SUMMARY:All the Favorites with Cory Laser
DESCRIPTION:View Flyer
URL:https://artsconnectva.org/event/all-the-favorites-with-cory-laser-3/
LOCATION:VA
CATEGORIES:Outreach Program
END:VEVENT
BEGIN:VEVENT
DTSTART;TZID=America/New_York:20241115T130000
DTEND;TZID=America/New_York:20241115T140000
DTSTAMP:20260420T020911
CREATED:20241015T221443Z
LAST-MODIFIED:20241016T163818Z
UID:12169-1731675600-1731679200@artsconnectva.org
SUMMARY:Acrylic Paint and Pour with Vivian Davis
DESCRIPTION:View Flyer
URL:https://artsconnectva.org/event/acrylic-paint-and-pour-with-vivian-davis/
LOCATION:Main Street Library\, 110 Main Street\, Newport News\, VA\, 23601\, United States
CATEGORIES:Open to the Public
END:VEVENT
BEGIN:VEVENT
DTSTART;TZID=America/New_York:20241114T183000
DTEND;TZID=America/New_York:20241114T193000
DTSTAMP:20260420T020911
CREATED:20241029T172103Z
LAST-MODIFIED:20241029T172103Z
UID:12279-1731609000-1731612600@artsconnectva.org
SUMMARY:FACTS Float & Costume Design
DESCRIPTION:
URL:https://artsconnectva.org/event/facts-float-costume-design/
LOCATION:VA
CATEGORIES:Outreach Program
END:VEVENT
BEGIN:VEVENT
DTSTART;TZID=America/New_York:20241114T163000
DTEND;TZID=America/New_York:20241114T183000
DTSTAMP:20260420T020911
CREATED:20241108T001208Z
LAST-MODIFIED:20241108T001208Z
UID:12360-1731601800-1731609000@artsconnectva.org
SUMMARY:Background Music with Art Rowe
DESCRIPTION:
URL:https://artsconnectva.org/event/background-music-with-art-rowe/
LOCATION:VA
CATEGORIES:Outreach Program
END:VEVENT
BEGIN:VEVENT
DTSTART;TZID=America/New_York:20241114T143000
DTEND;TZID=America/New_York:20241114T153000
DTSTAMP:20260420T020911
CREATED:20241031T200403Z
LAST-MODIFIED:20241111T181256Z
UID:12334-1731594600-1731598200@artsconnectva.org
SUMMARY:Red Carpet Social with Ava Stevenson
DESCRIPTION:
URL:https://artsconnectva.org/event/red-carpet-social-with-ava-stevenson/
LOCATION:VA
CATEGORIES:Outreach Program
END:VEVENT
BEGIN:VEVENT
DTSTART;TZID=America/New_York:20241114T140000
DTEND;TZID=America/New_York:20241114T150000
DTSTAMP:20260420T020911
CREATED:20241015T220849Z
LAST-MODIFIED:20241016T163119Z
UID:12167-1731592800-1731596400@artsconnectva.org
SUMMARY:Rock n' Roll with Mark Pettiford
DESCRIPTION:View Flyer
URL:https://artsconnectva.org/event/rock-n-roll-with-mark-pettiford-11/
LOCATION:VA
CATEGORIES:Outreach Program
END:VEVENT
BEGIN:VEVENT
DTSTART;TZID=America/New_York:20241114T130000
DTEND;TZID=America/New_York:20241114T140000
DTSTAMP:20260420T020911
CREATED:20241108T135653Z
LAST-MODIFIED:20241108T135653Z
UID:12368-1731589200-1731592800@artsconnectva.org
SUMMARY:Piano Tunes with Christian Flores
DESCRIPTION:
URL:https://artsconnectva.org/event/piano-tunes-with-christian-flores-11/
LOCATION:VA
CATEGORIES:Outreach Program
END:VEVENT
BEGIN:VEVENT
DTSTART;TZID=America/New_York:20241114T130000
DTEND;TZID=America/New_York:20241114T140000
DTSTAMP:20260420T020911
CREATED:20241015T220305Z
LAST-MODIFIED:20241015T220305Z
UID:12165-1731589200-1731592800@artsconnectva.org
SUMMARY:All the Best Hits with David and Ron
DESCRIPTION:
URL:https://artsconnectva.org/event/all-the-best-hits-with-david-and-ron/
LOCATION:VA
CATEGORIES:Outreach Program
END:VEVENT
BEGIN:VEVENT
DTSTART;TZID=America/New_York:20241114T110000
DTEND;TZID=America/New_York:20241114T130000
DTSTAMP:20260420T020911
CREATED:20241108T153043Z
LAST-MODIFIED:20241108T153059Z
UID:12372-1731582000-1731589200@artsconnectva.org
SUMMARY:PFTA's Soup for the Caregiver's Soul with Jena Chenkin
DESCRIPTION:
URL:https://artsconnectva.org/event/pftas-soup-for-the-caregivers-soul-with/
LOCATION:St Luke’s United Methodist Church\, 300 Ella Taylor Rd\, Yorktown\, VA\, 23693\, United States
CATEGORIES:Open to the Public
END:VEVENT
BEGIN:VEVENT
DTSTART;TZID=America/New_York:20241113T170000
DTEND;TZID=America/New_York:20241113T180000
DTSTAMP:20260420T020911
CREATED:20241015T215930Z
LAST-MODIFIED:20241016T162806Z
UID:12163-1731517200-1731520800@artsconnectva.org
SUMMARY:Groovin' with The Elderly Brothers
DESCRIPTION:View Flyer
URL:https://artsconnectva.org/event/groovin-with-the-elderly-brothers-2/
LOCATION:VA
CATEGORIES:Outreach Program
END:VEVENT
BEGIN:VEVENT
DTSTART;TZID=America/New_York:20241113T140000
DTEND;TZID=America/New_York:20241113T150000
DTSTAMP:20260420T020911
CREATED:20241015T215054Z
LAST-MODIFIED:20241015T215054Z
UID:12159-1731506400-1731510000@artsconnectva.org
SUMMARY:Musical Serenade with Ascension Melodies
DESCRIPTION:
URL:https://artsconnectva.org/event/musical-serenade-with-ascension-melodies-10/
LOCATION:VA
CATEGORIES:Outreach Program
END:VEVENT
BEGIN:VEVENT
DTSTART;TZID=America/New_York:20241113T130000
DTEND;TZID=America/New_York:20241113T140000
DTSTAMP:20260420T020911
CREATED:20241015T215513Z
LAST-MODIFIED:20241016T162202Z
UID:12161-1731502800-1731506400@artsconnectva.org
SUMMARY:Flute through the Ages with Sean Arawjo
DESCRIPTION:View Flyer
URL:https://artsconnectva.org/event/flute-through-the-ages-with-sean-arawjo-11/
LOCATION:VA
CATEGORIES:Outreach Program
END:VEVENT
BEGIN:VEVENT
DTSTART;TZID=America/New_York:20241113T111500
DTEND;TZID=America/New_York:20241113T121500
DTSTAMP:20260420T020911
CREATED:20241004T175155Z
LAST-MODIFIED:20241004T175155Z
UID:12074-1731496500-1731500100@artsconnectva.org
SUMMARY:Veteran's Day Celebration with Art Rowe
DESCRIPTION:
URL:https://artsconnectva.org/event/veterans-day-celebration-with-art-rowe/
LOCATION:VA
CATEGORIES:Outreach Program
END:VEVENT
BEGIN:VEVENT
DTSTART;TZID=America/New_York:20241113T103000
DTEND;TZID=America/New_York:20241113T113000
DTSTAMP:20260420T020911
CREATED:20241030T153213Z
LAST-MODIFIED:20241030T153213Z
UID:12320-1731493800-1731497400@artsconnectva.org
SUMMARY:Fall Painting with Susan Owens
DESCRIPTION:
URL:https://artsconnectva.org/event/fall-painting-with-susan-owens-2/
LOCATION:VA
CATEGORIES:Outreach Program
END:VEVENT
BEGIN:VEVENT
DTSTART;TZID=America/New_York:20241113T103000
DTEND;TZID=America/New_York:20241113T113000
DTSTAMP:20260420T020911
CREATED:20241008T141101Z
LAST-MODIFIED:20241008T141101Z
UID:12083-1731493800-1731497400@artsconnectva.org
SUMMARY:Holiday Cheer with Ava Stevenson
DESCRIPTION:
URL:https://artsconnectva.org/event/holiday-cheer-with-ava-stevenson/
LOCATION:VA
CATEGORIES:Outreach Program
END:VEVENT
BEGIN:VEVENT
DTSTART;TZID=America/New_York:20241113T100000
DTEND;TZID=America/New_York:20241113T120000
DTSTAMP:20260420T020911
CREATED:20241023T150954Z
LAST-MODIFIED:20241023T150954Z
UID:12267-1731492000-1731499200@artsconnectva.org
SUMMARY:I am Thankful Plaque with Rick Byrd
DESCRIPTION:
URL:https://artsconnectva.org/event/i-am-thankful-plaque-with-rick-byrd/
LOCATION:Suffolk Center for the Cultural Arts\, 110 W Finney Ave\, Suffolk\, VA\, 23434\, United States
CATEGORIES:Open to the Public
END:VEVENT
BEGIN:VEVENT
DTSTART;TZID=America/New_York:20241112T150000
DTEND;TZID=America/New_York:20241112T160000
DTSTAMP:20260420T020911
CREATED:20241029T171128Z
LAST-MODIFIED:20241029T171128Z
UID:12275-1731423600-1731427200@artsconnectva.org
SUMMARY:Snowflake Painting with Kym Bach
DESCRIPTION:
URL:https://artsconnectva.org/event/snowflake-painting-with-kym-bach/
LOCATION:VA
CATEGORIES:Outreach Program
END:VEVENT
BEGIN:VEVENT
DTSTART;TZID=America/New_York:20241112T150000
DTEND;TZID=America/New_York:20241112T160000
DTSTAMP:20260420T020911
CREATED:20241011T125045Z
LAST-MODIFIED:20241016T161747Z
UID:12139-1731423600-1731427200@artsconnectva.org
SUMMARY:Rock n' Roll with Mark Pettiford
DESCRIPTION:View Flyer
URL:https://artsconnectva.org/event/rock-n-roll-with-mark-pettiford-10/
LOCATION:VA
CATEGORIES:Outreach Program
END:VEVENT
BEGIN:VEVENT
DTSTART;TZID=America/New_York:20241112T140000
DTEND;TZID=America/New_York:20241112T150000
DTSTAMP:20260420T020911
CREATED:20241011T124515Z
LAST-MODIFIED:20241011T124515Z
UID:12137-1731420000-1731423600@artsconnectva.org
SUMMARY:Birthday Social with Christian Flores
DESCRIPTION:
URL:https://artsconnectva.org/event/birthday-social-with-christian-flores/
LOCATION:VA
CATEGORIES:Outreach Program
END:VEVENT
BEGIN:VEVENT
DTSTART;TZID=America/New_York:20241112T133000
DTEND;TZID=America/New_York:20241112T143000
DTSTAMP:20260420T020911
CREATED:20241029T171615Z
LAST-MODIFIED:20241029T171615Z
UID:12277-1731418200-1731421800@artsconnectva.org
SUMMARY:Keep the Beat Social with Ascension Melodies
DESCRIPTION:
URL:https://artsconnectva.org/event/keep-the-beat-social-with-ascension-melodies/
LOCATION:VA
CATEGORIES:Outreach Program
END:VEVENT
BEGIN:VEVENT
DTSTART;TZID=America/New_York:20241111T160000
DTEND;TZID=America/New_York:20241111T170000
DTSTAMP:20260420T020911
CREATED:20241030T154019Z
LAST-MODIFIED:20241030T154019Z
UID:12322-1731340800-1731344400@artsconnectva.org
SUMMARY:Veteran's Day with Bryan Martin
DESCRIPTION:
URL:https://artsconnectva.org/event/veterans-day-with-bryan-martin/
LOCATION:VA
CATEGORIES:Outreach Program
END:VEVENT
BEGIN:VEVENT
DTSTART;TZID=America/New_York:20241111T144500
DTEND;TZID=America/New_York:20241111T154500
DTSTAMP:20260420T020911
CREATED:20241011T124303Z
LAST-MODIFIED:20241011T124303Z
UID:12135-1731336300-1731339900@artsconnectva.org
SUMMARY:Patriotic Mason Jars with Susan Owens
DESCRIPTION:
URL:https://artsconnectva.org/event/patriotic-mason-jars-with-susan-owens/
LOCATION:VA
CATEGORIES:Outreach Program
END:VEVENT
BEGIN:VEVENT
DTSTART;TZID=America/New_York:20241111T140000
DTEND;TZID=America/New_York:20241111T150000
DTSTAMP:20260420T020911
CREATED:20241009T182920Z
LAST-MODIFIED:20241009T182920Z
UID:12129-1731333600-1731337200@artsconnectva.org
SUMMARY:Veteran's Day Celebration with Dan Smith
DESCRIPTION:
URL:https://artsconnectva.org/event/veterans-day-celebration-with-dan-smith/
LOCATION:VA
CATEGORIES:Outreach Program
END:VEVENT
BEGIN:VEVENT
DTSTART;TZID=America/New_York:20241111T131500
DTEND;TZID=America/New_York:20241111T141500
DTSTAMP:20260420T020911
CREATED:20241011T123820Z
LAST-MODIFIED:20241011T123820Z
UID:12133-1731330900-1731334500@artsconnectva.org
SUMMARY:Veteran's Ceremony with Art Rowe
DESCRIPTION:
URL:https://artsconnectva.org/event/veterans-ceremony-with-art-rowe/
LOCATION:VA
CATEGORIES:Outreach Program
END:VEVENT
BEGIN:VEVENT
DTSTART;TZID=America/New_York:20241109T170000
DTEND;TZID=America/New_York:20241109T180000
DTSTAMP:20260420T020911
CREATED:20241009T182406Z
LAST-MODIFIED:20241009T182406Z
UID:12127-1731171600-1731175200@artsconnectva.org
SUMMARY:Autism Society Tidewater hosts Vivian Davis
DESCRIPTION:
URL:https://artsconnectva.org/event/autism-society-tidewater-hosts-vivian-davis/
LOCATION:VA
CATEGORIES:Outreach Program
END:VEVENT
BEGIN:VEVENT
DTSTART;TZID=America/New_York:20241108T170000
DTEND;TZID=America/New_York:20241108T180000
DTSTAMP:20260420T020911
CREATED:20241009T180319Z
LAST-MODIFIED:20241009T180319Z
UID:12121-1731085200-1731088800@artsconnectva.org
SUMMARY:Second Friday Art with Susan Owens
DESCRIPTION:
URL:https://artsconnectva.org/event/second-friday-art-with-susan-owens/
LOCATION:VA
CATEGORIES:Outreach Program
END:VEVENT
END:VCALENDAR