BEGIN:VCALENDAR
VERSION:2.0
PRODID:-//ArtsConnect Virginia - ECPv6.15.20//NONSGML v1.0//EN
CALSCALE:GREGORIAN
METHOD:PUBLISH
X-WR-CALNAME:ArtsConnect Virginia
X-ORIGINAL-URL:https://artsconnectva.org
X-WR-CALDESC:Events for ArtsConnect Virginia
REFRESH-INTERVAL;VALUE=DURATION:PT1H
X-Robots-Tag:noindex
X-PUBLISHED-TTL:PT1H
BEGIN:VTIMEZONE
TZID:America/New_York
BEGIN:DAYLIGHT
TZOFFSETFROM:-0500
TZOFFSETTO:-0400
TZNAME:EDT
DTSTART:20220313T070000
END:DAYLIGHT
BEGIN:STANDARD
TZOFFSETFROM:-0400
TZOFFSETTO:-0500
TZNAME:EST
DTSTART:20221106T060000
END:STANDARD
BEGIN:DAYLIGHT
TZOFFSETFROM:-0500
TZOFFSETTO:-0400
TZNAME:EDT
DTSTART:20230312T070000
END:DAYLIGHT
BEGIN:STANDARD
TZOFFSETFROM:-0400
TZOFFSETTO:-0500
TZNAME:EST
DTSTART:20231105T060000
END:STANDARD
BEGIN:DAYLIGHT
TZOFFSETFROM:-0500
TZOFFSETTO:-0400
TZNAME:EDT
DTSTART:20240310T070000
END:DAYLIGHT
BEGIN:STANDARD
TZOFFSETFROM:-0400
TZOFFSETTO:-0500
TZNAME:EST
DTSTART:20241103T060000
END:STANDARD
END:VTIMEZONE
BEGIN:VEVENT
DTSTART;TZID=America/New_York:20231218T160000
DTEND;TZID=America/New_York:20231218T170000
DTSTAMP:20260422T175424
CREATED:20231025T154800Z
LAST-MODIFIED:20231025T154800Z
UID:8817-1702915200-1702918800@artsconnectva.org
SUMMARY:Trivets with Heather Queen
DESCRIPTION:Join Heather for this fun resin pour activity!
URL:https://artsconnectva.org/event/trivets-with-heather-queen/
LOCATION:VA
CATEGORIES:Outreach Program
END:VEVENT
BEGIN:VEVENT
DTSTART;TZID=America/New_York:20231218T153000
DTEND;TZID=America/New_York:20231218T163000
DTSTAMP:20260422T175424
CREATED:20231124T154748Z
LAST-MODIFIED:20231124T154748Z
UID:9061-1702913400-1702917000@artsconnectva.org
SUMMARY:Christmas Harp with Karen Stowe
DESCRIPTION:Join Karen as she plays some of your favorites Christmas tunes on the harp! This will be a beautiful fall themed program!
URL:https://artsconnectva.org/event/christmas-harp-with-karen-stowe/
LOCATION:VA
CATEGORIES:Outreach Program
END:VEVENT
BEGIN:VEVENT
DTSTART;TZID=America/New_York:20231218T140000
DTEND;TZID=America/New_York:20231218T150000
DTSTAMP:20260422T175424
CREATED:20231115T175843Z
LAST-MODIFIED:20231115T175843Z
UID:8930-1702908000-1702911600@artsconnectva.org
SUMMARY:Music\, Motown\, and More! with Richard Mekdeci
DESCRIPTION:Richard Mekdeci (mek-dee-see) is an award-winning songwriter and musician and a 22 year veteran of the Nashville songwriting community. He has produced\, written and recorded with such artists as Roseanne Cash\, Kathy Mattea\, Patty Loveless\, and others. \n 
URL:https://artsconnectva.org/event/music-motown-and-more-with-richard-mekdeci-24/
LOCATION:VA
CATEGORIES:Outreach Program
END:VEVENT
BEGIN:VEVENT
DTSTART;TZID=America/New_York:20231218T140000
DTEND;TZID=America/New_York:20231218T150000
DTSTAMP:20260422T175424
CREATED:20231012T141822Z
LAST-MODIFIED:20231012T141822Z
UID:8760-1702908000-1702911600@artsconnectva.org
SUMMARY:Holiday Tray with Creative Connections
DESCRIPTION:Join Tina and Mike as they help you make a holiday tray! This is perfect for Christmas!
URL:https://artsconnectva.org/event/holiday-tray-with-creative-connections/
LOCATION:VA
CATEGORIES:Outreach Program
END:VEVENT
BEGIN:VEVENT
DTSTART;TZID=America/New_York:20231218T130000
DTEND;TZID=America/New_York:20231218T140000
DTSTAMP:20260422T175424
CREATED:20231127T164850Z
LAST-MODIFIED:20231127T164850Z
UID:9154-1702904400-1702908000@artsconnectva.org
SUMMARY:Holiday Wreath Making with David Duck
DESCRIPTION:
URL:https://artsconnectva.org/event/holiday-wreath-making-with-david-duck/
LOCATION:Newport News\, VA\, Newport News\, VA\, United States
CATEGORIES:Outreach Program
END:VEVENT
BEGIN:VEVENT
DTSTART;TZID=America/New_York:20231218T103000
DTEND;TZID=America/New_York:20231218T113000
DTSTAMP:20260422T175424
CREATED:20230913T175011Z
LAST-MODIFIED:20230913T175011Z
UID:8528-1702895400-1702899000@artsconnectva.org
SUMMARY:Comedy and Improv with PUSH Comedy Theatre
DESCRIPTION:Join PUSH Comedy Theatre as they teach you the basics of comedy and improv! These fun skills can be used every day. You will love learning these techniques and playing fun games!
URL:https://artsconnectva.org/event/comedy-and-improv-with-push-comedy-theatre-7/
LOCATION:VA
CATEGORIES:Outreach Program
END:VEVENT
BEGIN:VEVENT
DTSTART;TZID=America/New_York:20231216T140000
DTEND;TZID=America/New_York:20231216T150000
DTSTAMP:20260422T175424
CREATED:20231204T173130Z
LAST-MODIFIED:20231204T173130Z
UID:9252-1702735200-1702738800@artsconnectva.org
SUMMARY:Acrylic Paint Pour with Vanessa Golson
DESCRIPTION:Acrylic Paint Pour is a interactive art experience that allows the participant to create a colorful\, one-of-a-kind masterpiece.
URL:https://artsconnectva.org/event/acrylic-paint-pour-with-vanessa-golson-14/
LOCATION:VA
CATEGORIES:Outreach Program
END:VEVENT
BEGIN:VEVENT
DTSTART;TZID=America/New_York:20231215T150000
DTEND;TZID=America/New_York:20231215T160000
DTSTAMP:20260422T175424
CREATED:20231121T183606Z
LAST-MODIFIED:20231121T183606Z
UID:9046-1702652400-1702656000@artsconnectva.org
SUMMARY:Christmas Favorites with Dan Smith
DESCRIPTION:Join Dan for this Christmas program! What a perfect way to celebrate the holidays!
URL:https://artsconnectva.org/event/christmas-favorites-with-dan-smith-2/
LOCATION:VA
CATEGORIES:Outreach Program
END:VEVENT
BEGIN:VEVENT
DTSTART;TZID=America/New_York:20231215T100000
DTEND;TZID=America/New_York:20231215T110000
DTSTAMP:20260422T175424
CREATED:20231113T210448Z
LAST-MODIFIED:20231113T210448Z
UID:8919-1702634400-1702638000@artsconnectva.org
SUMMARY:Christmas Ceramics with Creative Connections
DESCRIPTION:Join Tina and Mike as they help you paint beautiful Christmas ceramics!
URL:https://artsconnectva.org/event/christmas-ceramics-with-creative-connections-2/
LOCATION:VA
CATEGORIES:Outreach Program
END:VEVENT
BEGIN:VEVENT
DTSTART;TZID=America/New_York:20231214T140000
DTEND;TZID=America/New_York:20231214T150000
DTSTAMP:20260422T175424
CREATED:20231120T192331Z
LAST-MODIFIED:20231120T192331Z
UID:9031-1702562400-1702566000@artsconnectva.org
SUMMARY:Violin Serenade with Alex Marlins
DESCRIPTION:Enjoy a beautiful violin serenade by Alex Marlins! Alex is trained in various musical styles on the violin\, including classical\, jazz\, modern/pop\, and Celtic fiddle.
URL:https://artsconnectva.org/event/violin-serenade-with-alex-marlins-11/
LOCATION:VA
CATEGORIES:Outreach Program
END:VEVENT
BEGIN:VEVENT
DTSTART;TZID=America/New_York:20231214T140000
DTEND;TZID=America/New_York:20231214T150000
DTSTAMP:20260422T175424
CREATED:20231005T150008Z
LAST-MODIFIED:20231005T150008Z
UID:8705-1702562400-1702566000@artsconnectva.org
SUMMARY:Singing Songs with Tina and Jim
DESCRIPTION:Tina and Jim do interactive singalongs with favorites including jazz standards\, acoustic favorites and even some show tunes! They both have a passion for helping others heal through music and songwriting!
URL:https://artsconnectva.org/event/singing-songs-with-tina-and-jim-7/
LOCATION:VA
CATEGORIES:Outreach Program
END:VEVENT
BEGIN:VEVENT
DTSTART;TZID=America/New_York:20231214T123000
DTEND;TZID=America/New_York:20231214T133000
DTSTAMP:20260422T175424
CREATED:20231127T164620Z
LAST-MODIFIED:20231127T164620Z
UID:9152-1702557000-1702560600@artsconnectva.org
SUMMARY:Acrylic Paint Pour Ornaments with Vanessa Golson
DESCRIPTION:
URL:https://artsconnectva.org/event/acrylic-paint-pour-ornaments-with-vanessa-golson/
LOCATION:VA
CATEGORIES:Open to the Public
END:VEVENT
BEGIN:VEVENT
DTSTART;TZID=America/New_York:20231214T093000
DTEND;TZID=America/New_York:20231214T103000
DTSTAMP:20260422T175424
CREATED:20231121T174454Z
LAST-MODIFIED:20231121T174454Z
UID:9039-1702546200-1702549800@artsconnectva.org
SUMMARY:Holiday Wreath with David Duck
DESCRIPTION:Join David as he helps you create a beautiful wreath! This is the perfect decoration for the holidays.
URL:https://artsconnectva.org/event/holiday-wreath-with-david-duck/
LOCATION:VA
CATEGORIES:Outreach Program
END:VEVENT
BEGIN:VEVENT
DTSTART;TZID=America/New_York:20231213T130000
DTEND;TZID=America/New_York:20231213T140000
DTSTAMP:20260422T175425
CREATED:20230927T164313Z
LAST-MODIFIED:20230927T164313Z
UID:8644-1702472400-1702476000@artsconnectva.org
SUMMARY:Holiday Stump the Band with Tom and Becky
DESCRIPTION:Enjoy listening to 30 holiday songs and brass duets with trumpet\, flugel horn and French horn.
URL:https://artsconnectva.org/event/holiday-stump-the-band-with-tom-and-becky/
LOCATION:VA
CATEGORIES:Outreach Program
END:VEVENT
BEGIN:VEVENT
DTSTART;TZID=America/New_York:20231213T103000
DTEND;TZID=America/New_York:20231213T113000
DTSTAMP:20260422T175425
CREATED:20231130T180235Z
LAST-MODIFIED:20231130T180235Z
UID:9247-1702463400-1702467000@artsconnectva.org
SUMMARY:Snowman Ornaments with Creative Connections
DESCRIPTION:Join Tina and Mike as they help you create a holiday snowman ornament!
URL:https://artsconnectva.org/event/snowman-ornaments-with-creative-connections/
LOCATION:VA
CATEGORIES:Outreach Program
END:VEVENT
BEGIN:VEVENT
DTSTART;TZID=America/New_York:20231213T100000
DTEND;TZID=America/New_York:20231213T110000
DTSTAMP:20260422T175425
CREATED:20230913T180702Z
LAST-MODIFIED:20230913T180702Z
UID:8536-1702461600-1702465200@artsconnectva.org
SUMMARY:Mosaic Glass Candle
DESCRIPTION:Enjoy this fun glass mosaic candle program.
URL:https://artsconnectva.org/event/mosaic-glass-candle/
LOCATION:VA
CATEGORIES:Outreach Program
END:VEVENT
BEGIN:VEVENT
DTSTART;TZID=America/New_York:20231212T140000
DTEND;TZID=America/New_York:20231212T150000
DTSTAMP:20260422T175425
CREATED:20230920T160154Z
LAST-MODIFIED:20230920T160154Z
UID:8591-1702389600-1702393200@artsconnectva.org
SUMMARY:Music\, Motown\, and More! with Richard Mekdeci
DESCRIPTION:Richard Mekdeci (mek-dee-see) is an award-winning songwriter and musician and a 22-year veteran of the Nashville songwriting community. He has produced\, written\, and recorded with such artists as Roseanne Cash\, Kathy Mattea\, Patty Loveless\, and others.
URL:https://artsconnectva.org/event/music-motown-and-more-with-richard-mekdeci-22/
LOCATION:VA
CATEGORIES:Outreach Program
END:VEVENT
BEGIN:VEVENT
DTSTART;TZID=America/New_York:20231212T133000
DTEND;TZID=America/New_York:20231212T143000
DTSTAMP:20260422T175425
CREATED:20231017T165619Z
LAST-MODIFIED:20231017T165619Z
UID:8788-1702387800-1702391400@artsconnectva.org
SUMMARY:Keep the Beat Social with Tom and Becky
DESCRIPTION:With Tom on trumpet and Flugelhorn and Becky on Keyboards and French horn\, they play and demonstrate all aspects of brass performance.
URL:https://artsconnectva.org/event/keep-the-beat-social-with-tom-and-becky-7/
LOCATION:VA
CATEGORIES:Outreach Program
END:VEVENT
BEGIN:VEVENT
DTSTART;TZID=America/New_York:20231212T130000
DTEND;TZID=America/New_York:20231212T140000
DTSTAMP:20260422T175425
CREATED:20231003T181516Z
LAST-MODIFIED:20231003T181516Z
UID:8685-1702386000-1702389600@artsconnectva.org
SUMMARY:Favorite Throwbacks with Bryan Martin
DESCRIPTION:Come listen to Bryan play country\, bluegrass\, 70s\, 80s\, and 90s hits!
URL:https://artsconnectva.org/event/favorite-throwbacks-with-bryan-martin-2/
LOCATION:VA
CATEGORIES:Outreach Program
END:VEVENT
BEGIN:VEVENT
DTSTART;TZID=America/New_York:20231212T130000
DTEND;TZID=America/New_York:20231212T140000
DTSTAMP:20260422T175425
CREATED:20230927T163355Z
LAST-MODIFIED:20230927T163355Z
UID:8640-1702386000-1702389600@artsconnectva.org
SUMMARY:Let's Sing! with Dan Smith
DESCRIPTION:Enjoy a live performance of all of your favorites!
URL:https://artsconnectva.org/event/lets-sing-with-dan-smith-3/
LOCATION:VA
CATEGORIES:Outreach Program
END:VEVENT
BEGIN:VEVENT
DTSTART;TZID=America/New_York:20231212T104500
DTEND;TZID=America/New_York:20231212T124500
DTSTAMP:20260422T175425
CREATED:20230927T165830Z
LAST-MODIFIED:20230927T165830Z
UID:8646-1702377900-1702385100@artsconnectva.org
SUMMARY:Acrylic Paint Pour with Vanessa Golson
DESCRIPTION:Acrylic Paint Pour is a interactive art experience that allows the participant to create a colorful\, one-of-a-kind masterpiece. \n 
URL:https://artsconnectva.org/event/acrylic-paint-pour-with-vanessa-golson-11/
LOCATION:VA
CATEGORIES:Outreach Program
END:VEVENT
BEGIN:VEVENT
DTSTART;TZID=America/New_York:20231212T100000
DTEND;TZID=America/New_York:20231212T110000
DTSTAMP:20260422T175425
CREATED:20231010T213801Z
LAST-MODIFIED:20231010T213801Z
UID:8730-1702375200-1702378800@artsconnectva.org
SUMMARY:Christmas Ceramics with Creative Connections
DESCRIPTION:Join Tina and Mike as they help you paint beautiful Christmas ceramics!
URL:https://artsconnectva.org/event/christmas-ceramics-with-creative-connections/
LOCATION:VA
CATEGORIES:Outreach Program
END:VEVENT
BEGIN:VEVENT
DTSTART;TZID=America/New_York:20231211T140000
DTEND;TZID=America/New_York:20231211T150000
DTSTAMP:20260422T175425
CREATED:20231121T174038Z
LAST-MODIFIED:20231121T174038Z
UID:9037-1702303200-1702306800@artsconnectva.org
SUMMARY:Christmas Reindeer Ornament with Creative Connection
DESCRIPTION:Join Tina and Mike as they help you make a Christmas Reindeer Ornament!
URL:https://artsconnectva.org/event/christmas-reindeer-ornament-with-creative-connection/
LOCATION:VA
CATEGORIES:Outreach Program
END:VEVENT
BEGIN:VEVENT
DTSTART;TZID=America/New_York:20231211T103000
DTEND;TZID=America/New_York:20231211T113000
DTSTAMP:20260422T175425
CREATED:20230920T160552Z
LAST-MODIFIED:20230920T160552Z
UID:8593-1702290600-1702294200@artsconnectva.org
SUMMARY:Winter Wonderland in a Bottle with Creative Connections
DESCRIPTION:Enjoy creating a beautiful winter wonderland in a bottle!
URL:https://artsconnectva.org/event/winter-wonderland-in-a-bottle-with-creative-connections-7/
LOCATION:VA
CATEGORIES:Outreach Program
END:VEVENT
BEGIN:VEVENT
DTSTART;TZID=America/New_York:20231209T140000
DTEND;TZID=America/New_York:20231209T150000
DTSTAMP:20260422T175425
CREATED:20231120T191829Z
LAST-MODIFIED:20231120T191829Z
UID:9029-1702130400-1702134000@artsconnectva.org
SUMMARY:Christmas Favorites with Karen Stowe
DESCRIPTION:Join Karen as she plays some of your favorites Christmas tunes on the harp! This will be a beautiful fall themed program!
URL:https://artsconnectva.org/event/christmas-favorites-with-karen-stowe-3/
LOCATION:VA
CATEGORIES:Outreach Program
END:VEVENT
BEGIN:VEVENT
DTSTART;TZID=America/New_York:20231209T140000
DTEND;TZID=America/New_York:20231209T150000
DTSTAMP:20260422T175425
CREATED:20231120T191440Z
LAST-MODIFIED:20231120T191440Z
UID:9027-1702130400-1702134000@artsconnectva.org
SUMMARY:Fiddlin' and Pickin' with Tidewater Bluegrass Revival
DESCRIPTION:Tidewater Bluegrass Revival is a 5-person band focusing on bluegrass music that will be sure to get feet moving and heads swaying! The group features a fiddle\, guitar\, mandolin\, banjo\, and bass.
URL:https://artsconnectva.org/event/fiddlin-and-pickin-with-tidewater-bluegrass-revival-10/
LOCATION:VA
CATEGORIES:Outreach Program
END:VEVENT
BEGIN:VEVENT
DTSTART;TZID=America/New_York:20231209T140000
DTEND;TZID=America/New_York:20231209T150000
DTSTAMP:20260422T175425
CREATED:20231113T210124Z
LAST-MODIFIED:20231113T210124Z
UID:8917-1702130400-1702134000@artsconnectva.org
SUMMARY:Christmas Cards with Diane Brock-Gerald
DESCRIPTION:Join Diane as she helps you make some festive Christmas Cards!
URL:https://artsconnectva.org/event/christmas-cards-with-diane-brock-gerald/
LOCATION:VA
CATEGORIES:Outreach Program
END:VEVENT
BEGIN:VEVENT
DTSTART;TZID=America/New_York:20231208T153000
DTEND;TZID=America/New_York:20231208T163000
DTSTAMP:20260422T175425
CREATED:20231120T190738Z
LAST-MODIFIED:20231120T190738Z
UID:9023-1702049400-1702053000@artsconnectva.org
SUMMARY:Old Time Favorites with Tom and Rose Schalter
DESCRIPTION:Enjoy listening to well known popular hits from 1900 to 1975!
URL:https://artsconnectva.org/event/old-time-favorites-with-tom-and-rose-schalter/
LOCATION:VA
CATEGORIES:Outreach Program
END:VEVENT
BEGIN:VEVENT
DTSTART;TZID=America/New_York:20231208T150000
DTEND;TZID=America/New_York:20231208T160000
DTSTAMP:20260422T175425
CREATED:20231120T191031Z
LAST-MODIFIED:20231120T191031Z
UID:9025-1702047600-1702051200@artsconnectva.org
SUMMARY:Bluegrass Tunes with Tracy Stover
DESCRIPTION:Enjoy listening to Appalachian Roots\, Bluegrass\, and Contemporary folk music.
URL:https://artsconnectva.org/event/bluegrass-tunes-with-tracy-stover-2/
LOCATION:VA
CATEGORIES:Outreach Program
END:VEVENT
BEGIN:VEVENT
DTSTART;TZID=America/New_York:20231208T140000
DTEND;TZID=America/New_York:20231208T150000
DTSTAMP:20260422T175425
CREATED:20231109T183246Z
LAST-MODIFIED:20231109T183246Z
UID:8902-1702044000-1702047600@artsconnectva.org
SUMMARY:Happy Hour with Adrienne and Jamie
DESCRIPTION:Join Adrienne and Jamie as they play some throwback tunes!
URL:https://artsconnectva.org/event/happy-hour-with-adrienne-and-jamie-2/
LOCATION:VA
CATEGORIES:Outreach Program
END:VEVENT
END:VCALENDAR