BEGIN:VCALENDAR
VERSION:2.0
PRODID:-//ArtsConnect Virginia - ECPv6.15.20//NONSGML v1.0//EN
CALSCALE:GREGORIAN
METHOD:PUBLISH
X-WR-CALNAME:ArtsConnect Virginia
X-ORIGINAL-URL:https://artsconnectva.org
X-WR-CALDESC:Events for ArtsConnect Virginia
REFRESH-INTERVAL;VALUE=DURATION:PT1H
X-Robots-Tag:noindex
X-PUBLISHED-TTL:PT1H
BEGIN:VTIMEZONE
TZID:America/New_York
BEGIN:DAYLIGHT
TZOFFSETFROM:-0500
TZOFFSETTO:-0400
TZNAME:EDT
DTSTART:20220313T070000
END:DAYLIGHT
BEGIN:STANDARD
TZOFFSETFROM:-0400
TZOFFSETTO:-0500
TZNAME:EST
DTSTART:20221106T060000
END:STANDARD
BEGIN:DAYLIGHT
TZOFFSETFROM:-0500
TZOFFSETTO:-0400
TZNAME:EDT
DTSTART:20230312T070000
END:DAYLIGHT
BEGIN:STANDARD
TZOFFSETFROM:-0400
TZOFFSETTO:-0500
TZNAME:EST
DTSTART:20231105T060000
END:STANDARD
BEGIN:DAYLIGHT
TZOFFSETFROM:-0500
TZOFFSETTO:-0400
TZNAME:EDT
DTSTART:20240310T070000
END:DAYLIGHT
BEGIN:STANDARD
TZOFFSETFROM:-0400
TZOFFSETTO:-0500
TZNAME:EST
DTSTART:20241103T060000
END:STANDARD
END:VTIMEZONE
BEGIN:VEVENT
DTSTART;TZID=America/New_York:20231027T130000
DTEND;TZID=America/New_York:20231027T140000
DTSTAMP:20260422T175333
CREATED:20230816T195235Z
LAST-MODIFIED:20230816T195235Z
UID:8205-1698411600-1698415200@artsconnectva.org
SUMMARY:Standup Comedy with Rona Hyman
DESCRIPTION:View Flyer
URL:https://artsconnectva.org/event/standup-comedy-with-rona-hyman/
LOCATION:VA
CATEGORIES:Outreach Program
END:VEVENT
BEGIN:VEVENT
DTSTART;TZID=America/New_York:20231027T123000
DTEND;TZID=America/New_York:20231027T133000
DTSTAMP:20260422T175333
CREATED:20230830T165835Z
LAST-MODIFIED:20230830T165835Z
UID:8367-1698409800-1698413400@artsconnectva.org
SUMMARY:Stuffed Pumpkins with Creative Connections
DESCRIPTION:View Flyer
URL:https://artsconnectva.org/event/stuffed-pumpkins-with-creative-connections-5/
LOCATION:VA
CATEGORIES:Outreach Program
END:VEVENT
BEGIN:VEVENT
DTSTART;TZID=America/New_York:20231027T103000
DTEND;TZID=America/New_York:20231027T113000
DTSTAMP:20260422T175333
CREATED:20231003T151521Z
LAST-MODIFIED:20231003T151521Z
UID:8654-1698402600-1698406200@artsconnectva.org
SUMMARY:Wooden Cats with Stephanie Slate
DESCRIPTION:Join Stephanie while she helps you make these wooden Halloween cats!
URL:https://artsconnectva.org/event/wooden-cats-with-stephanie-slate/
LOCATION:VA
CATEGORIES:Outreach Program
END:VEVENT
BEGIN:VEVENT
DTSTART;TZID=America/New_York:20231026T160000
DTEND;TZID=America/New_York:20231026T190000
DTSTAMP:20260422T175333
CREATED:20231017T194740Z
LAST-MODIFIED:20231017T194756Z
UID:8794-1698336000-1698346800@artsconnectva.org
SUMMARY:Annual TAO Artist Showcase
DESCRIPTION:Have you ever wanted to peak behind the curtain of a TAO program? Please join us for an evening of entertainment and networking. You will be able to speak to multiple artists about their experience with TAO and get a taste of what TAO has to offer! Refreshments will be served\, along with a cash bar.  RSVP is required. Please click here to RSVP! Questions?  Email ashley@tidewaterartsoutreach.org \n 
URL:https://artsconnectva.org/event/annual-tao-artist-showcase/
LOCATION:Westminster-Canterbury on Chesapeake Bay Retirement Community\, 3100 Shore Dr.\, Virginia Beach\, VA\, 23451\, United States
CATEGORIES:Open to the Public,Special Event
END:VEVENT
BEGIN:VEVENT
DTSTART;TZID=America/New_York:20231026T160000
DTEND;TZID=America/New_York:20231026T190000
DTSTAMP:20260422T175333
CREATED:20230920T154721Z
LAST-MODIFIED:20230920T154721Z
UID:8585-1698336000-1698346800@artsconnectva.org
SUMMARY:Golf Tournament with Fletcher and Friends
DESCRIPTION:Fletcher and Friends are a guitar\, bass and drums trio that play a variety of music genres. They play old and new jazz as well as blues\, rhythm and blues\, and Latin rhythms.
URL:https://artsconnectva.org/event/golf-tournament-with-fletcher-and-friends/
LOCATION:VA
CATEGORIES:Outreach Program
END:VEVENT
BEGIN:VEVENT
DTSTART;TZID=America/New_York:20231026T140000
DTEND;TZID=America/New_York:20231026T150000
DTSTAMP:20260422T175333
CREATED:20230907T170058Z
LAST-MODIFIED:20230907T170058Z
UID:8480-1698328800-1698332400@artsconnectva.org
SUMMARY:Music\, Motown\, and More! with Richard Mekdeci
DESCRIPTION:View Flyer
URL:https://artsconnectva.org/event/music-motown-and-more-with-richard-mekdeci-20/
LOCATION:VA
CATEGORIES:Outreach Program
END:VEVENT
BEGIN:VEVENT
DTSTART;TZID=America/New_York:20231026T140000
DTEND;TZID=America/New_York:20231026T150000
DTSTAMP:20260422T175333
CREATED:20230831T131120Z
LAST-MODIFIED:20230831T131120Z
UID:8401-1698328800-1698332400@artsconnectva.org
SUMMARY:Pumpkin Paint-A-Long with Danita Sanders
DESCRIPTION:View Flyer
URL:https://artsconnectva.org/event/pumpkin-paint-a-long-with-danita-sanders/
LOCATION:VA
CATEGORIES:Outreach Program
END:VEVENT
BEGIN:VEVENT
DTSTART;TZID=America/New_York:20231026T140000
DTEND;TZID=America/New_York:20231026T150000
DTSTAMP:20260422T175333
CREATED:20230808T155324Z
LAST-MODIFIED:20230808T155324Z
UID:8103-1698328800-1698332400@artsconnectva.org
SUMMARY:Violin Serenade with Alex Marlins
DESCRIPTION:Enjoy a beautiful violin serenade by Alex Marlins! Alex is trained in various musical styles on the violin\, including classical\, jazz\, modern/pop\, and Celtic fiddle.
URL:https://artsconnectva.org/event/violin-serenade-with-alex-marlins-9/
LOCATION:VA
CATEGORIES:Outreach Program
END:VEVENT
BEGIN:VEVENT
DTSTART;TZID=America/New_York:20231026T130000
DTEND;TZID=America/New_York:20231026T150000
DTSTAMP:20260422T175333
CREATED:20231010T153450Z
LAST-MODIFIED:20231010T153450Z
UID:8724-1698325200-1698332400@artsconnectva.org
SUMMARY:Fall Paint-A-Long with Susan Owens
DESCRIPTION:Join Susan as she guides you through this beautiful fall paint-a-long!
URL:https://artsconnectva.org/event/fall-paint-a-long-with-susan-owens/
LOCATION:VA
CATEGORIES:Outreach Program
END:VEVENT
BEGIN:VEVENT
DTSTART;TZID=America/New_York:20231026T103000
DTEND;TZID=America/New_York:20231026T113000
DTSTAMP:20260422T175333
CREATED:20231013T155127Z
LAST-MODIFIED:20231013T155127Z
UID:8764-1698316200-1698319800@artsconnectva.org
SUMMARY:Pumpkin Paint-A-Long with Debby Freeman
DESCRIPTION:Join Debby for this beautiful pumpkin paint-a-long with live pumpkins! \n 
URL:https://artsconnectva.org/event/pumpkin-paint-a-long-with-debby-freeman/
LOCATION:VA
CATEGORIES:Outreach Program
END:VEVENT
BEGIN:VEVENT
DTSTART;TZID=America/New_York:20231025T150000
DTEND;TZID=America/New_York:20231025T160000
DTSTAMP:20260422T175333
CREATED:20231003T150733Z
LAST-MODIFIED:20231003T150733Z
UID:8652-1698246000-1698249600@artsconnectva.org
SUMMARY:Candle Making with Ginnie Stover
DESCRIPTION:Join Ginnie as she guides you through the process of creating your own decorative gel candle!
URL:https://artsconnectva.org/event/candle-making-with-ginnie-stover-4/
LOCATION:VA
CATEGORIES:Outreach Program
END:VEVENT
BEGIN:VEVENT
DTSTART;TZID=America/New_York:20231025T140000
DTEND;TZID=America/New_York:20231025T150000
DTSTAMP:20260422T175333
CREATED:20230913T154758Z
LAST-MODIFIED:20230913T154758Z
UID:8513-1698242400-1698246000@artsconnectva.org
SUMMARY:Halloween Tunes with Craig Wirth
DESCRIPTION:View Flyer
URL:https://artsconnectva.org/event/halloween-tunes-with-craig-wirth/
LOCATION:VA
CATEGORIES:Outreach Program
END:VEVENT
BEGIN:VEVENT
DTSTART;TZID=America/New_York:20231025T113000
DTEND;TZID=America/New_York:20231025T123000
DTSTAMP:20260422T175333
CREATED:20231009T190808Z
LAST-MODIFIED:20231009T190808Z
UID:8720-1698233400-1698237000@artsconnectva.org
SUMMARY:Fall Festival with Dan Smith
DESCRIPTION:Enjoy live performance of popular music from the 1940s\, 1950s and 1960s featuring big band\, classic country\, Elvis Presley\, Pat Boone\, and other icons of the era. Performances feature vocals with electronic keyboard and saxophone.
URL:https://artsconnectva.org/event/fall-festival-with-dan-smith/
LOCATION:VA
CATEGORIES:Outreach Program
END:VEVENT
BEGIN:VEVENT
DTSTART;TZID=America/New_York:20231025T111500
DTEND;TZID=America/New_York:20231025T121500
DTSTAMP:20260422T175333
CREATED:20230815T191010Z
LAST-MODIFIED:20230815T191010Z
UID:8192-1698232500-1698236100@artsconnectva.org
SUMMARY:Barbershop Quartet with The Elderly Brothers
DESCRIPTION:Enjoy listening to this barber shop quartet as they sing all the classics for you!
URL:https://artsconnectva.org/event/barbershop-quartet-with-the-elderly-brothers/
LOCATION:VA
CATEGORIES:Outreach Program
END:VEVENT
BEGIN:VEVENT
DTSTART;TZID=America/New_York:20231024T153000
DTEND;TZID=America/New_York:20231024T163000
DTSTAMP:20260422T175333
CREATED:20230814T173632Z
LAST-MODIFIED:20230814T173632Z
UID:8177-1698161400-1698165000@artsconnectva.org
SUMMARY:From Sea to Shining Sea with Jena Chenkin
DESCRIPTION:View Flyer
URL:https://artsconnectva.org/event/from-sea-to-shining-sea-with-jena-chenkin-8/
LOCATION:VA
CATEGORIES:Outreach Program
END:VEVENT
BEGIN:VEVENT
DTSTART;TZID=America/New_York:20231024T140000
DTEND;TZID=America/New_York:20231024T150000
DTSTAMP:20260422T175333
CREATED:20231012T140541Z
LAST-MODIFIED:20231012T140541Z
UID:8756-1698156000-1698159600@artsconnectva.org
SUMMARY:Fall Flower Arrangement with Deborah Freeman
DESCRIPTION:Join Debby for this beautiful fall arrangement using live flowers! These will make perfect centerpieces.
URL:https://artsconnectva.org/event/fall-flower-arrangement-with-deborah-freeman-2/
LOCATION:VA
CATEGORIES:Outreach Program
END:VEVENT
BEGIN:VEVENT
DTSTART;TZID=America/New_York:20231024T140000
DTEND;TZID=America/New_York:20231024T150000
DTSTAMP:20260422T175333
CREATED:20230920T153422Z
LAST-MODIFIED:20230920T153422Z
UID:8580-1698156000-1698159600@artsconnectva.org
SUMMARY:Pumpkin Apron with Creative Connections
DESCRIPTION:View Flyer
URL:https://artsconnectva.org/event/pumpkin-apron-with-creative-connections/
LOCATION:VA
CATEGORIES:Outreach Program
END:VEVENT
BEGIN:VEVENT
DTSTART;TZID=America/New_York:20231024T140000
DTEND;TZID=America/New_York:20231024T150000
DTSTAMP:20260422T175333
CREATED:20230831T132555Z
LAST-MODIFIED:20230831T132555Z
UID:8406-1698156000-1698159600@artsconnectva.org
SUMMARY:Fall Acrylic paint Pour with Vanessa Golson
DESCRIPTION:Acrylic Paint Pour is a interactive art experience that allows the participant to create a colorful\, one-of-a-kind masterpiece!
URL:https://artsconnectva.org/event/fall-acrylic-paint-pour-with-vanessa-golson/
LOCATION:VA
CATEGORIES:Outreach Program
END:VEVENT
BEGIN:VEVENT
DTSTART;TZID=America/New_York:20231024T140000
DTEND;TZID=America/New_York:20231024T150000
DTSTAMP:20260422T175333
CREATED:20230815T171507Z
LAST-MODIFIED:20230815T171507Z
UID:8187-1698156000-1698159600@artsconnectva.org
SUMMARY:Violin Serenade with Alex Marlins
DESCRIPTION:Alex is trained in various musical styles on the violin\, including classical\, jazz\, modern/pop\, and Celtic fiddle. Alex will string together music for any occasion!
URL:https://artsconnectva.org/event/violin-serenade-with-alex-marlins-10/
LOCATION:VA
CATEGORIES:Outreach Program
END:VEVENT
BEGIN:VEVENT
DTSTART;TZID=America/New_York:20231024T133000
DTEND;TZID=America/New_York:20231024T143000
DTSTAMP:20260422T175333
CREATED:20230814T172226Z
LAST-MODIFIED:20230814T172226Z
UID:8173-1698154200-1698157800@artsconnectva.org
SUMMARY:Keep the Beat Social with Cory Laser
DESCRIPTION:Enjoy famous hits from the 50’s\, 60’s 70’s that everyone knows and can easily sing along to! \n 
URL:https://artsconnectva.org/event/keep-the-beat-social-with-cory-laser-3/
LOCATION:VA
CATEGORIES:Outreach Program
END:VEVENT
BEGIN:VEVENT
DTSTART;TZID=America/New_York:20231024T130000
DTEND;TZID=America/New_York:20231024T140000
DTSTAMP:20260422T175333
CREATED:20230808T160849Z
LAST-MODIFIED:20230808T160849Z
UID:8108-1698152400-1698156000@artsconnectva.org
SUMMARY:The Classics with Tom and Becky
DESCRIPTION:Enjoy versatile live music with Tom on Trumpet and Flugelhorn and Becky on French Horn and keyboards.
URL:https://artsconnectva.org/event/the-classics-with-tom-and-becky/
LOCATION:VA
CATEGORIES:Outreach Program
END:VEVENT
BEGIN:VEVENT
DTSTART;TZID=America/New_York:20231024T103000
DTEND;TZID=America/New_York:20231024T113000
DTSTAMP:20260422T175333
CREATED:20230830T174226Z
LAST-MODIFIED:20230830T174226Z
UID:8384-1698143400-1698147000@artsconnectva.org
SUMMARY:Comedy and Improv with PUSH Comedy Theatre
DESCRIPTION:Join PUSH Comedy Theatre as they teach you the basics of comedy and improv! These fun skills can be used every day. You will love learning these techniques and playing fun games!
URL:https://artsconnectva.org/event/comedy-and-improv-with-push-comedy-theatre-5/
LOCATION:VA
CATEGORIES:Outreach Program
END:VEVENT
BEGIN:VEVENT
DTSTART;TZID=America/New_York:20231023T150000
DTEND;TZID=America/New_York:20231023T160000
DTSTAMP:20260422T175333
CREATED:20230921T142218Z
LAST-MODIFIED:20230921T142235Z
UID:8604-1698073200-1698076800@artsconnectva.org
SUMMARY:Songs that Make You Move with Jena Chenkin
DESCRIPTION:View Flyer
URL:https://artsconnectva.org/event/songs-that-make-you-move-with-jena-chenkin/
LOCATION:VA
CATEGORIES:Outreach Program
END:VEVENT
BEGIN:VEVENT
DTSTART;TZID=America/New_York:20231022T140000
DTEND;TZID=America/New_York:20231022T150000
DTSTAMP:20260422T175333
CREATED:20230905T201314Z
LAST-MODIFIED:20230905T201314Z
UID:8450-1697983200-1697986800@artsconnectva.org
SUMMARY:Sunday Social with Tom and Becky
DESCRIPTION:Enjoy listening to versatile live music with Tom on Trumpet and Flugelhorn and Becky on French Horn and keyboards.
URL:https://artsconnectva.org/event/sunday-social-with-tom-and-becky-2/
LOCATION:VA
CATEGORIES:Outreach Program
END:VEVENT
BEGIN:VEVENT
DTSTART;TZID=America/New_York:20231021T140000
DTEND;TZID=America/New_York:20231021T150000
DTSTAMP:20260422T175333
CREATED:20230918T185909Z
LAST-MODIFIED:20230918T185909Z
UID:8565-1697896800-1697900400@artsconnectva.org
SUMMARY:Floral Hanging Arrangement with Delresa White
DESCRIPTION:Join Delresa as she guides you through creating a beautiful live flower arrangement!
URL:https://artsconnectva.org/event/floral-hanging-arrangement-with-delresa-white/
LOCATION:VA
CATEGORIES:Outreach Program
END:VEVENT
BEGIN:VEVENT
DTSTART;TZID=America/New_York:20231020T150000
DTEND;TZID=America/New_York:20231020T160000
DTSTAMP:20260422T175333
CREATED:20230926T164147Z
LAST-MODIFIED:20230926T164147Z
UID:8628-1697814000-1697817600@artsconnectva.org
SUMMARY:All of the Hits! with David Jacobs
DESCRIPTION:Enjoy popular songs across multiple genres from the ’50s\, ‘60s\,’70s through today!
URL:https://artsconnectva.org/event/all-of-the-hits-with-david-jacobs/
LOCATION:VA
CATEGORIES:Outreach Program
END:VEVENT
BEGIN:VEVENT
DTSTART;TZID=America/New_York:20231020T150000
DTEND;TZID=America/New_York:20231020T160000
DTSTAMP:20260422T175333
CREATED:20230918T183356Z
LAST-MODIFIED:20230918T183356Z
UID:8557-1697814000-1697817600@artsconnectva.org
SUMMARY:Classic Throwbacks with Cory Laser - Inspiritas Memory Care
DESCRIPTION:Enjoy listening to famous hits from 50’s\, 60’s 70’s that everyone knows and can easily sing along!
URL:https://artsconnectva.org/event/classic-throwbacks-with-cory-laser-inspiritas-memory-care/
LOCATION:VA
CATEGORIES:Outreach Program
END:VEVENT
BEGIN:VEVENT
DTSTART;TZID=America/New_York:20231020T140000
DTEND;TZID=America/New_York:20231020T150000
DTSTAMP:20260422T175333
CREATED:20230920T152431Z
LAST-MODIFIED:20230920T152431Z
UID:8577-1697810400-1697814000@artsconnectva.org
SUMMARY:Favorite Throwbacks with Art Rowe
DESCRIPTION:View Flyer
URL:https://artsconnectva.org/event/favorite-throwbacks-with-art-rowe-7/
LOCATION:VA
CATEGORIES:Outreach Program
END:VEVENT
BEGIN:VEVENT
DTSTART;TZID=America/New_York:20231020T140000
DTEND;TZID=America/New_York:20231020T150000
DTSTAMP:20260422T175333
CREATED:20230808T162355Z
LAST-MODIFIED:20230808T162355Z
UID:8110-1697810400-1697814000@artsconnectva.org
SUMMARY:Stuffed Pumpkins with Creative Connections
DESCRIPTION:Join Tina and Mike as they show you how to make poop-kins. Poop-Kins are fun fabric pumpkins with functional toilet paper center! These make for a perfect fall decoration!
URL:https://artsconnectva.org/event/stuffed-pumpkins-with-creative-connections-2/
LOCATION:VA
CATEGORIES:Outreach Program
END:VEVENT
BEGIN:VEVENT
DTSTART;TZID=America/New_York:20231020T130000
DTEND;TZID=America/New_York:20231020T140000
DTSTAMP:20260422T175333
CREATED:20230818T160948Z
LAST-MODIFIED:20230818T160948Z
UID:8229-1697806800-1697810400@artsconnectva.org
SUMMARY:Jazz Roots with Tom and Becky
DESCRIPTION:Enjoy listening to live jazz music with Tom on Trumpet and Flugelhorn and Becky on French Horn and keyboards.
URL:https://artsconnectva.org/event/jazz-roots-with-tom-and-becky-4/
LOCATION:VA
CATEGORIES:Outreach Program
END:VEVENT
END:VCALENDAR