BEGIN:VCALENDAR
VERSION:2.0
PRODID:-//ArtsConnect Virginia - ECPv6.15.20//NONSGML v1.0//EN
CALSCALE:GREGORIAN
METHOD:PUBLISH
X-ORIGINAL-URL:https://artsconnectva.org
X-WR-CALDESC:Events for ArtsConnect Virginia
REFRESH-INTERVAL;VALUE=DURATION:PT1H
X-Robots-Tag:noindex
X-PUBLISHED-TTL:PT1H
BEGIN:VTIMEZONE
TZID:America/New_York
BEGIN:DAYLIGHT
TZOFFSETFROM:-0500
TZOFFSETTO:-0400
TZNAME:EDT
DTSTART:20240310T070000
END:DAYLIGHT
BEGIN:STANDARD
TZOFFSETFROM:-0400
TZOFFSETTO:-0500
TZNAME:EST
DTSTART:20241103T060000
END:STANDARD
BEGIN:DAYLIGHT
TZOFFSETFROM:-0500
TZOFFSETTO:-0400
TZNAME:EDT
DTSTART:20250309T070000
END:DAYLIGHT
BEGIN:STANDARD
TZOFFSETFROM:-0400
TZOFFSETTO:-0500
TZNAME:EST
DTSTART:20251102T060000
END:STANDARD
BEGIN:DAYLIGHT
TZOFFSETFROM:-0500
TZOFFSETTO:-0400
TZNAME:EDT
DTSTART:20260308T070000
END:DAYLIGHT
BEGIN:STANDARD
TZOFFSETFROM:-0400
TZOFFSETTO:-0500
TZNAME:EST
DTSTART:20261101T060000
END:STANDARD
END:VTIMEZONE
BEGIN:VEVENT
DTSTART;TZID=America/New_York:20250314T150000
DTEND;TZID=America/New_York:20250314T160000
DTSTAMP:20260419T193808
CREATED:20250313T012251Z
LAST-MODIFIED:20250313T012251Z
UID:13205-1741964400-1741968000@artsconnectva.org
SUMMARY:St. Patrick's Day Celebration with Ascension Melodies
DESCRIPTION:View Flyer
URL:https://artsconnectva.org/event/st-patricks-day-celebration-with-ascension-melodies-2/
LOCATION:VA
CATEGORIES:Outreach Program
END:VEVENT
BEGIN:VEVENT
DTSTART;TZID=America/New_York:20250314T160000
DTEND;TZID=America/New_York:20250314T170000
DTSTAMP:20260419T193808
CREATED:20250313T012402Z
LAST-MODIFIED:20250313T012402Z
UID:13208-1741968000-1741971600@artsconnectva.org
SUMMARY:Happy Hour with David Jones
DESCRIPTION:View Flyer
URL:https://artsconnectva.org/event/happy-hour-with-david-jones/
LOCATION:VA
CATEGORIES:Outreach Program
END:VEVENT
BEGIN:VEVENT
DTSTART;TZID=America/New_York:20250314T170000
DTEND;TZID=America/New_York:20250314T170000
DTSTAMP:20260419T193809
CREATED:20250313T012540Z
LAST-MODIFIED:20250313T012540Z
UID:13211-1741971600-1741971600@artsconnectva.org
SUMMARY:Second Friday Art with Heidi Ordaz
DESCRIPTION:View Flyer
URL:https://artsconnectva.org/event/second-friday-art-with-heidi-ordaz/
LOCATION:VA
CATEGORIES:Outreach Program
END:VEVENT
BEGIN:VEVENT
DTSTART;TZID=America/New_York:20250317T103000
DTEND;TZID=America/New_York:20250317T113000
DTSTAMP:20260419T193809
CREATED:20250313T012821Z
LAST-MODIFIED:20250313T012821Z
UID:13214-1742207400-1742211000@artsconnectva.org
SUMMARY:Chair Yoga with Teri
DESCRIPTION:Join Teri as she guides you through a peaceful chair yoga practice.
URL:https://artsconnectva.org/event/chair-yoga-with-teri/
LOCATION:VA
CATEGORIES:Outreach Program
END:VEVENT
BEGIN:VEVENT
DTSTART;TZID=America/New_York:20250317T103000
DTEND;TZID=America/New_York:20250317T113000
DTSTAMP:20260419T193809
CREATED:20250313T013028Z
LAST-MODIFIED:20250313T013028Z
UID:13216-1742207400-1742211000@artsconnectva.org
SUMMARY:Timeless Irish Tunes with Kevin Furey
DESCRIPTION:View Flyer
URL:https://artsconnectva.org/event/timeless-irish-tunes-with-kevin-furey/
LOCATION:VA
CATEGORIES:Outreach Program
END:VEVENT
BEGIN:VEVENT
DTSTART;TZID=America/New_York:20250317T110000
DTEND;TZID=America/New_York:20250317T120000
DTSTAMP:20260419T193809
CREATED:20250313T013238Z
LAST-MODIFIED:20250313T013238Z
UID:13219-1742209200-1742212800@artsconnectva.org
SUMMARY:Crafting Fun with Rhona!
DESCRIPTION:View Flyer
URL:https://artsconnectva.org/event/crafting-fun-with-rhona/
LOCATION:VA
CATEGORIES:Outreach Program
END:VEVENT
BEGIN:VEVENT
DTSTART;TZID=America/New_York:20250317T133000
DTEND;TZID=America/New_York:20250317T143000
DTSTAMP:20260419T193809
CREATED:20250313T013430Z
LAST-MODIFIED:20250313T013430Z
UID:13222-1742218200-1742221800@artsconnectva.org
SUMMARY:Strings of Joy with Art Rowe and David Jones
DESCRIPTION:David’s sole objective is to interact with the audience via talking and singing with them and most important putting a “Smile” on their Face! They will be singing a variety of music including country and classic rock.
URL:https://artsconnectva.org/event/strings-of-joy-with-art-rowe-and-david-jones/
LOCATION:VA
CATEGORIES:Outreach Program
END:VEVENT
BEGIN:VEVENT
DTSTART;TZID=America/New_York:20250317T140000
DTEND;TZID=America/New_York:20250317T150000
DTSTAMP:20260419T193809
CREATED:20250301T180804Z
LAST-MODIFIED:20250301T180804Z
UID:13122-1742220000-1742223600@artsconnectva.org
SUMMARY:St. Patrick's Day Celebration with Thomas Metz
DESCRIPTION:
URL:https://artsconnectva.org/event/st-patricks-day-celebration-with-thomas-metz/
LOCATION:VA
CATEGORIES:Outreach Program
END:VEVENT
BEGIN:VEVENT
DTSTART;TZID=America/New_York:20250317T140000
DTEND;TZID=America/New_York:20250317T150000
DTSTAMP:20260419T193809
CREATED:20250313T013620Z
LAST-MODIFIED:20250313T013620Z
UID:13224-1742220000-1742223600@artsconnectva.org
SUMMARY:Arts and Craft with Stephanie Slate
DESCRIPTION:View Flyer
URL:https://artsconnectva.org/event/arts-and-craft-with-stephanie-slate/
LOCATION:VA
CATEGORIES:Outreach Program
END:VEVENT
BEGIN:VEVENT
DTSTART;TZID=America/New_York:20250317T140000
DTEND;TZID=America/New_York:20250317T150000
DTSTAMP:20260419T193809
CREATED:20250313T013808Z
LAST-MODIFIED:20250313T013808Z
UID:13227-1742220000-1742223600@artsconnectva.org
SUMMARY:Happy Hour with Linda and Lyle
DESCRIPTION:View Flyer
URL:https://artsconnectva.org/event/happy-hour-with-linda-and-lyle-2/
LOCATION:VA
CATEGORIES:Outreach Program
END:VEVENT
BEGIN:VEVENT
DTSTART;TZID=America/New_York:20250317T140000
DTEND;TZID=America/New_York:20250317T150000
DTSTAMP:20260419T193809
CREATED:20250313T013925Z
LAST-MODIFIED:20250313T013925Z
UID:13230-1742220000-1742223600@artsconnectva.org
SUMMARY:Piano Tunes with Christian Flores
DESCRIPTION:Christian will provide piano entertainment to help celebrate St. Patrick’s Day.
URL:https://artsconnectva.org/event/piano-tunes-with-christian-flores-23/
LOCATION:VA
CATEGORIES:Outreach Program
END:VEVENT
BEGIN:VEVENT
DTSTART;TZID=America/New_York:20250317T140000
DTEND;TZID=America/New_York:20250317T150000
DTSTAMP:20260419T193809
CREATED:20250313T014102Z
LAST-MODIFIED:20250313T014102Z
UID:13232-1742220000-1742223600@artsconnectva.org
SUMMARY:Storytelling with Tia Faith
DESCRIPTION:View Flyer
URL:https://artsconnectva.org/event/storytelling-with-tia-faith/
LOCATION:VA
CATEGORIES:Outreach Program
END:VEVENT
BEGIN:VEVENT
DTSTART;TZID=America/New_York:20250317T140000
DTEND;TZID=America/New_York:20250317T150000
DTSTAMP:20260419T193809
CREATED:20250313T014614Z
LAST-MODIFIED:20250313T014614Z
UID:13239-1742220000-1742223600@artsconnectva.org
SUMMARY:Violin Serenade with Alex Marlins
DESCRIPTION:Alex Marlins\, is a trained violinist who specializes in classical\, jazz\, modern/pop\, and Celtic fiddle.
URL:https://artsconnectva.org/event/violin-serenade-with-alex-marlins-28/
LOCATION:VA
CATEGORIES:Outreach Program
END:VEVENT
BEGIN:VEVENT
DTSTART;TZID=America/New_York:20250317T150000
DTEND;TZID=America/New_York:20250317T160000
DTSTAMP:20260419T193809
CREATED:20250313T014228Z
LAST-MODIFIED:20250313T014228Z
UID:13235-1742223600-1742227200@artsconnectva.org
SUMMARY:Cards and More with Sandy
DESCRIPTION:Join Sandy for a fun activity of shamrock wood cutout for door hanging. Decoupage & various mediums available to complete.
URL:https://artsconnectva.org/event/cards-and-more-with-sandy-2/
LOCATION:VA
CATEGORIES:Outreach Program
END:VEVENT
BEGIN:VEVENT
DTSTART;TZID=America/New_York:20250317T150000
DTEND;TZID=America/New_York:20250317T160000
DTSTAMP:20260419T193809
CREATED:20250313T014336Z
LAST-MODIFIED:20250313T014336Z
UID:13237-1742223600-1742227200@artsconnectva.org
SUMMARY:Celebrating St. Patrick's Day with Kevin Furey
DESCRIPTION:Join  Kevin Furey\, as he plays Classic Irish Folk Music with sing along.
URL:https://artsconnectva.org/event/celebrating-st-patricks-day-with-kevin-furey/
LOCATION:VA
CATEGORIES:Outreach Program
END:VEVENT
BEGIN:VEVENT
DTSTART;TZID=America/New_York:20250317T160000
DTEND;TZID=America/New_York:20250317T170000
DTSTAMP:20260419T193809
CREATED:20250303T194109Z
LAST-MODIFIED:20250303T194109Z
UID:13127-1742227200-1742230800@artsconnectva.org
SUMMARY:Celebrating St. Patrick's Day with Alex Marlins
DESCRIPTION:
URL:https://artsconnectva.org/event/celebrating-st-patricks-day-with-alex-marlins/
LOCATION:VA
CATEGORIES:Outreach Program
END:VEVENT
BEGIN:VEVENT
DTSTART;TZID=America/New_York:20250317T160000
DTEND;TZID=America/New_York:20250317T170000
DTSTAMP:20260419T193809
CREATED:20250313T014800Z
LAST-MODIFIED:20250313T014800Z
UID:13241-1742227200-1742230800@artsconnectva.org
SUMMARY:St. Patrick's Day Happy Hour with Chad McGill
DESCRIPTION:View Flyer
URL:https://artsconnectva.org/event/st-patricks-day-happy-hour-with-chad-mcgill/
LOCATION:VA
CATEGORIES:Outreach Program
END:VEVENT
BEGIN:VEVENT
DTSTART;TZID=America/New_York:20250317T160000
DTEND;TZID=America/New_York:20250317T170000
DTSTAMP:20260419T193809
CREATED:20250313T014939Z
LAST-MODIFIED:20250313T014939Z
UID:13246-1742227200-1742230800@artsconnectva.org
SUMMARY:St. Patrick's Day with Cory Laser
DESCRIPTION:View Flyer
URL:https://artsconnectva.org/event/st-patricks-day-with-cory-laser/
LOCATION:VA
CATEGORIES:Outreach Program
END:VEVENT
BEGIN:VEVENT
DTSTART;TZID=America/New_York:20250318T110000
DTEND;TZID=America/New_York:20250318T120000
DTSTAMP:20260419T193809
CREATED:20250313T015126Z
LAST-MODIFIED:20250313T015126Z
UID:13249-1742295600-1742299200@artsconnectva.org
SUMMARY:Painting Oyster Shells with Vivian Davis
DESCRIPTION:View Flyer
URL:https://artsconnectva.org/event/painting-oyster-shells-with-vivian-davis/
LOCATION:VA
CATEGORIES:Outreach Program
END:VEVENT
BEGIN:VEVENT
DTSTART;TZID=America/New_York:20250318T133000
DTEND;TZID=America/New_York:20250318T143000
DTSTAMP:20260419T193809
CREATED:20241126T182117Z
LAST-MODIFIED:20241126T182117Z
UID:12627-1742304600-1742308200@artsconnectva.org
SUMMARY:Keep the Beat Social with Dan Smith
DESCRIPTION:
URL:https://artsconnectva.org/event/keep-the-beat-social-with-dan-smith-17/
LOCATION:VA
CATEGORIES:Outreach Program
END:VEVENT
BEGIN:VEVENT
DTSTART;TZID=America/New_York:20250318T140000
DTEND;TZID=America/New_York:20250318T150000
DTSTAMP:20260419T193809
CREATED:20250313T015318Z
LAST-MODIFIED:20250313T015318Z
UID:13252-1742306400-1742310000@artsconnectva.org
SUMMARY:All the Classics with Linda and Lyle
DESCRIPTION:View Flyer
URL:https://artsconnectva.org/event/all-the-classics-with-linda-and-lyle/
LOCATION:VA
CATEGORIES:Outreach Program
END:VEVENT
BEGIN:VEVENT
DTSTART;TZID=America/New_York:20250318T140000
DTEND;TZID=America/New_York:20250318T150000
DTSTAMP:20260419T193809
CREATED:20250313T015553Z
LAST-MODIFIED:20250313T015553Z
UID:13255-1742306400-1742310000@artsconnectva.org
SUMMARY:Scrapbooking with Sandy Kinchen
DESCRIPTION:Sandy is passionate about bringing out the creative talent from within the folks who participate in her projects. She loves laughter and believes it can help to heal the broken spirit. Sandy is retired and loves spending time with family & friends.
URL:https://artsconnectva.org/event/scrapbooking-with-sandy-kinchen/
LOCATION:VA
CATEGORIES:Outreach Program
END:VEVENT
BEGIN:VEVENT
DTSTART;TZID=America/New_York:20250318T140000
DTEND;TZID=America/New_York:20250318T150000
DTSTAMP:20260419T193809
CREATED:20250313T015734Z
LAST-MODIFIED:20250313T015734Z
UID:13257-1742306400-1742310000@artsconnectva.org
SUMMARY:Rock n' Roll with Mark Pettiford
DESCRIPTION:View Flyer
URL:https://artsconnectva.org/event/rock-n-roll-with-mark-pettiford-20/
LOCATION:VA
CATEGORIES:Outreach Program
END:VEVENT
BEGIN:VEVENT
DTSTART;TZID=America/New_York:20250318T143000
DTEND;TZID=America/New_York:20250318T153000
DTSTAMP:20260419T193809
CREATED:20250313T015942Z
LAST-MODIFIED:20250313T015942Z
UID:13260-1742308200-1742311800@artsconnectva.org
SUMMARY:Irish Music with Ascension Melodies
DESCRIPTION:View Flyer
URL:https://artsconnectva.org/event/irish-music-with-ascension-melodies/
LOCATION:VA
CATEGORIES:Outreach Program
END:VEVENT
BEGIN:VEVENT
DTSTART;TZID=America/New_York:20250319T100000
DTEND;TZID=America/New_York:20250319T120000
DTSTAMP:20260419T193809
CREATED:20241122T160349Z
LAST-MODIFIED:20250228T171345Z
UID:12601-1742378400-1742385600@artsconnectva.org
SUMMARY:Spring Tulip Wreath with Suffolk Center for Cultural Arts
DESCRIPTION:Registration: https://www.suffolkva.us/266/Parks-Recreation or (757) 514-7265
URL:https://artsconnectva.org/event/spring-tulip-wreath-with-suffolk-center-for-cultural-arts/
LOCATION:Suffolk Center for the Cultural Arts\, 110 W Finney Ave\, Suffolk\, VA\, 23434\, United States
CATEGORIES:Open to the Public,Outreach Program
END:VEVENT
BEGIN:VEVENT
DTSTART;TZID=America/New_York:20250319T100000
DTEND;TZID=America/New_York:20250319T120000
DTSTAMP:20260419T193809
CREATED:20250313T020245Z
LAST-MODIFIED:20250313T020245Z
UID:13263-1742378400-1742385600@artsconnectva.org
SUMMARY:Floral Arrangements with Stephanie Slate
DESCRIPTION:View Flyer
URL:https://artsconnectva.org/event/floral-arrangements-with-stephanie-slate/
LOCATION:VA
CATEGORIES:Outreach Program
END:VEVENT
BEGIN:VEVENT
DTSTART;TZID=America/New_York:20250319T120000
DTEND;TZID=America/New_York:20250319T130000
DTSTAMP:20260419T193809
CREATED:20250313T020522Z
LAST-MODIFIED:20250313T020522Z
UID:13266-1742385600-1742389200@artsconnectva.org
SUMMARY:Trumpet Tunes with Chad McGill
DESCRIPTION:View Flyer
URL:https://artsconnectva.org/event/trumpet-tunes-with-chad-mcgill-33/
LOCATION:VA
CATEGORIES:Outreach Program
END:VEVENT
BEGIN:VEVENT
DTSTART;TZID=America/New_York:20250319T140000
DTEND;TZID=America/New_York:20250319T150000
DTSTAMP:20260419T193809
CREATED:20250313T020853Z
LAST-MODIFIED:20250313T020853Z
UID:13271-1742392800-1742396400@artsconnectva.org
SUMMARY:Crafting Resin with Heather Queen
DESCRIPTION:Heather Queen is a visual artist inspired by nature\, glass\, and reflection. She has been involved in the arts for 30+ years. Heather believes in the power of art to foster community and spark meaningful conversations.
URL:https://artsconnectva.org/event/crafting-resin-with-heather-queen/
LOCATION:VA
CATEGORIES:Outreach Program
END:VEVENT
BEGIN:VEVENT
DTSTART;TZID=America/New_York:20250319T140000
DTEND;TZID=America/New_York:20250319T160000
DTSTAMP:20260419T193809
CREATED:20250313T020710Z
LAST-MODIFIED:20250313T020710Z
UID:13269-1742392800-1742400000@artsconnectva.org
SUMMARY:(HYBRID) Mindfulness with Fit Goddess Tribe and How Arts Engagement Benefits Brain Health
DESCRIPTION:The Fit Goddess Tribe is a certified personal trainer\, yoga instructor\, trauma-informed coach\, life skills coach\, and youth mental health first aider with a Psychology degree. Ashley Carroll\, MA\, MT-BC is a board-certified music therapist with experience working with individuals who have experienced stroke and TBI\, this presentation will focus on arts engagement activities that promote brain health\, and approaches that leave everyone feeling successful!
URL:https://artsconnectva.org/event/hybrid-mindfulness-with-fit-goddess-tribe-and-how-arts-engagement-benefits-brain-health/
LOCATION:VA
CATEGORIES:Outreach Program
END:VEVENT
BEGIN:VEVENT
DTSTART;TZID=America/New_York:20250319T143000
DTEND;TZID=America/New_York:20250319T153000
DTSTAMP:20260419T193809
CREATED:20250313T021223Z
LAST-MODIFIED:20250313T021223Z
UID:13273-1742394600-1742398200@artsconnectva.org
SUMMARY:Will Brooks: Unplugged
DESCRIPTION:View Flyer
URL:https://artsconnectva.org/event/will-brooks-unplugged/
LOCATION:VA
CATEGORIES:Outreach Program
END:VEVENT
END:VCALENDAR