BEGIN:VCALENDAR
VERSION:2.0
PRODID:-//ArtsConnect Virginia - ECPv6.15.20//NONSGML v1.0//EN
CALSCALE:GREGORIAN
METHOD:PUBLISH
X-ORIGINAL-URL:https://artsconnectva.org
X-WR-CALDESC:Events for ArtsConnect Virginia
REFRESH-INTERVAL;VALUE=DURATION:PT1H
X-Robots-Tag:noindex
X-PUBLISHED-TTL:PT1H
BEGIN:VTIMEZONE
TZID:America/New_York
BEGIN:DAYLIGHT
TZOFFSETFROM:-0500
TZOFFSETTO:-0400
TZNAME:EDT
DTSTART:20230312T070000
END:DAYLIGHT
BEGIN:STANDARD
TZOFFSETFROM:-0400
TZOFFSETTO:-0500
TZNAME:EST
DTSTART:20231105T060000
END:STANDARD
BEGIN:DAYLIGHT
TZOFFSETFROM:-0500
TZOFFSETTO:-0400
TZNAME:EDT
DTSTART:20240310T070000
END:DAYLIGHT
BEGIN:STANDARD
TZOFFSETFROM:-0400
TZOFFSETTO:-0500
TZNAME:EST
DTSTART:20241103T060000
END:STANDARD
BEGIN:DAYLIGHT
TZOFFSETFROM:-0500
TZOFFSETTO:-0400
TZNAME:EDT
DTSTART:20250309T070000
END:DAYLIGHT
BEGIN:STANDARD
TZOFFSETFROM:-0400
TZOFFSETTO:-0500
TZNAME:EST
DTSTART:20251102T060000
END:STANDARD
END:VTIMEZONE
BEGIN:VEVENT
DTSTART;TZID=America/New_York:20240527T140000
DTEND;TZID=America/New_York:20240527T150000
DTSTAMP:20260421T163859
CREATED:20240424T142901Z
LAST-MODIFIED:20240424T142901Z
UID:10486-1716818400-1716822000@artsconnectva.org
SUMMARY:Patriotic Tunes with Richard Mekdeci
DESCRIPTION:Richard Mekdeci (mek-dee-see) is an award-winning songwriter and musician and a 22-year veteran of the Nashville songwriting community. He has produced\, written\, and recorded with such artists as Roseanne Cash\, Kathy Mattea\, Patty Loveless\, and others.
URL:https://artsconnectva.org/event/patriotic-tunes-with-richard-mekdeci/
LOCATION:VA
CATEGORIES:Outreach Program
END:VEVENT
BEGIN:VEVENT
DTSTART;TZID=America/New_York:20240527T140000
DTEND;TZID=America/New_York:20240527T150000
DTSTAMP:20260421T163859
CREATED:20240425T185530Z
LAST-MODIFIED:20240425T185530Z
UID:10492-1716818400-1716822000@artsconnectva.org
SUMMARY:All of the Favorites with Dan Smith
DESCRIPTION:Enjoy live performance of popular music from the 1940s\, 1950s and 1960s featuring big band\, classic country\, Elvis Presley\, Pat Boone\, and other icons of the era.
URL:https://artsconnectva.org/event/all-of-the-favorites-with-dan-smith-36/
LOCATION:VA
CATEGORIES:Outreach Program
END:VEVENT
BEGIN:VEVENT
DTSTART;TZID=America/New_York:20240527T140000
DTEND;TZID=America/New_York:20240527T150000
DTSTAMP:20260421T163859
CREATED:20240506T182221Z
LAST-MODIFIED:20240507T133025Z
UID:10566-1716818400-1716822000@artsconnectva.org
SUMMARY:Summer Tunes with Paul Dickson
DESCRIPTION:Join Paul as he plays all your beach favorites!
URL:https://artsconnectva.org/event/summer-tunes-with-paul-dickson/
LOCATION:VA
CATEGORIES:Outreach Program
END:VEVENT
BEGIN:VEVENT
DTSTART;TZID=America/New_York:20240527T140000
DTEND;TZID=America/New_York:20240527T160000
DTSTAMP:20260421T163859
CREATED:20240506T182634Z
LAST-MODIFIED:20240506T182634Z
UID:10568-1716818400-1716825600@artsconnectva.org
SUMMARY:Summer Tunes with Paul Dickson
DESCRIPTION:View Flyer
URL:https://artsconnectva.org/event/summer-tunes-with-paul-dickson-2/
LOCATION:VA
CATEGORIES:Outreach Program
END:VEVENT
BEGIN:VEVENT
DTSTART;TZID=America/New_York:20240528T130000
DTEND;TZID=America/New_York:20240528T140000
DTSTAMP:20260421T163859
CREATED:20240227T154632Z
LAST-MODIFIED:20240227T154632Z
UID:9936-1716901200-1716904800@artsconnectva.org
SUMMARY:Singing and Smiles with David and Art
DESCRIPTION:David and Art’s sole objective is to interact with the audience via talking and singing with them and most important putting a “Smile” on their Face! They will be singing a variety of music including country and classic rock.
URL:https://artsconnectva.org/event/singing-and-smiles-with-david-and-art-5/
LOCATION:VA
CATEGORIES:Outreach Program
END:VEVENT
BEGIN:VEVENT
DTSTART;TZID=America/New_York:20240528T133000
DTEND;TZID=America/New_York:20240528T143000
DTSTAMP:20260421T163859
CREATED:20240227T152844Z
LAST-MODIFIED:20240227T152844Z
UID:9930-1716903000-1716906600@artsconnectva.org
SUMMARY:Keep the Beat Social with Cory Laser
DESCRIPTION:Enjoy famous hits from the 50’s\, 60’s 70’s that everyone knows and can easily sing along to!
URL:https://artsconnectva.org/event/keep-the-beat-social-with-cory-laser-5/
LOCATION:VA
CATEGORIES:Outreach Program
END:VEVENT
BEGIN:VEVENT
DTSTART;TZID=America/New_York:20240528T140000
DTEND;TZID=America/New_York:20240528T150000
DTSTAMP:20260421T163859
CREATED:20240410T183212Z
LAST-MODIFIED:20240410T183212Z
UID:10325-1716904800-1716908400@artsconnectva.org
SUMMARY:Old Time Favorites with Preston\, Tom\, and Rose
DESCRIPTION:Enjoy listening to your favorite well known hits from 1900 to 1975!
URL:https://artsconnectva.org/event/old-time-favorites-with-preston-tom-and-rose/
LOCATION:VA
CATEGORIES:Outreach Program
END:VEVENT
BEGIN:VEVENT
DTSTART;TZID=America/New_York:20240528T140000
DTEND;TZID=America/New_York:20240528T150000
DTSTAMP:20260421T163859
CREATED:20240417T152749Z
LAST-MODIFIED:20240417T152749Z
UID:10392-1716904800-1716908400@artsconnectva.org
SUMMARY:Ceramic Cup Painting with Rachel Jaffe
DESCRIPTION:View Flyer
URL:https://artsconnectva.org/event/ceramic-cup-painting-with-rachel-jaffe/
LOCATION:VA
CATEGORIES:Outreach Program
END:VEVENT
BEGIN:VEVENT
DTSTART;TZID=America/New_York:20240528T154500
DTEND;TZID=America/New_York:20240528T164500
DTSTAMP:20260421T163900
CREATED:20240423T142033Z
LAST-MODIFIED:20240423T142033Z
UID:10479-1716911100-1716914700@artsconnectva.org
SUMMARY:All of the Favorites with Dan Smith
DESCRIPTION:Enjoy live performance of popular music from the 1940s\, 1950s and 1960s featuring big band\, classic country\, Elvis Presley\, Pat Boone\, and other icons of the era.
URL:https://artsconnectva.org/event/all-of-the-favorites-with-dan-smith-35/
LOCATION:VA
CATEGORIES:Outreach Program
END:VEVENT
BEGIN:VEVENT
DTSTART;TZID=America/New_York:20240530T130000
DTEND;TZID=America/New_York:20240530T140000
DTSTAMP:20260421T163900
CREATED:20240411T151631Z
LAST-MODIFIED:20240411T151631Z
UID:10333-1717074000-1717077600@artsconnectva.org
SUMMARY:Mosaic Tape Painting with Adreinne Searle
DESCRIPTION:View Flyer
URL:https://artsconnectva.org/event/mosaic-tape-painting-with-adreinne-searle-3/
LOCATION:VA
CATEGORIES:Outreach Program
END:VEVENT
BEGIN:VEVENT
DTSTART;TZID=America/New_York:20240530T140000
DTEND;TZID=America/New_York:20240530T150000
DTSTAMP:20260421T163900
CREATED:20240312T170123Z
LAST-MODIFIED:20240312T170123Z
UID:10034-1717077600-1717081200@artsconnectva.org
SUMMARY:Let's Sing! with Art Rowe
DESCRIPTION:Art is an acoustic guitarist and singer that plays and sings a variety of music from country\, classic rock\, and oldies.
URL:https://artsconnectva.org/event/lets-sing-with-art-rowe-5/
LOCATION:VA
CATEGORIES:Outreach Program
END:VEVENT
BEGIN:VEVENT
DTSTART;TZID=America/New_York:20240530T140000
DTEND;TZID=America/New_York:20240530T150000
DTSTAMP:20260421T163900
CREATED:20240410T175656Z
LAST-MODIFIED:20240410T175656Z
UID:10323-1717077600-1717081200@artsconnectva.org
SUMMARY:Famous Hits! with Cory Laser
DESCRIPTION:Enjoy listening to famous hits from 50’s\, 60’s\, and 70’s that everyone knows and can easily sing along!
URL:https://artsconnectva.org/event/famous-hits-with-cory-laser-9/
LOCATION:VA
CATEGORIES:Outreach Program
END:VEVENT
BEGIN:VEVENT
DTSTART;TZID=America/New_York:20240530T140000
DTEND;TZID=America/New_York:20240530T150000
DTSTAMP:20260421T163900
CREATED:20240430T144904Z
LAST-MODIFIED:20240430T144904Z
UID:10510-1717077600-1717081200@artsconnectva.org
SUMMARY:Recycled Can Planter with Stephanie Slate
DESCRIPTION:View Flyer
URL:https://artsconnectva.org/event/recycled-can-planter-with-stephanie-slate/
LOCATION:VA
CATEGORIES:Outreach Program
END:VEVENT
BEGIN:VEVENT
DTSTART;TZID=America/New_York:20240531T140000
DTEND;TZID=America/New_York:20240531T150000
DTSTAMP:20260421T163900
CREATED:20240312T164013Z
LAST-MODIFIED:20240312T164013Z
UID:10026-1717164000-1717167600@artsconnectva.org
SUMMARY:Happy Hour with Adrienne and Jamie
DESCRIPTION:Join Adrienne and Jamie as they play some throwback tunes!
URL:https://artsconnectva.org/event/happy-hour-with-adrienne-and-jamie-6/
LOCATION:VA
CATEGORIES:Outreach Program
END:VEVENT
BEGIN:VEVENT
DTSTART;TZID=America/New_York:20240531T140000
DTEND;TZID=America/New_York:20240531T150000
DTSTAMP:20260421T163900
CREATED:20240327T210956Z
LAST-MODIFIED:20240327T210956Z
UID:10134-1717164000-1717167600@artsconnectva.org
SUMMARY:Bleeding Tissue Paper Cards with Aekta Bandodker
DESCRIPTION:Join Aekta as she helps you make a beautiful and unique card!
URL:https://artsconnectva.org/event/bleeding-tissue-paper-cards-with-aekta-bandodker/
LOCATION:VA
CATEGORIES:Outreach Program
END:VEVENT
BEGIN:VEVENT
DTSTART;TZID=America/New_York:20240531T143000
DTEND;TZID=America/New_York:20240531T153000
DTSTAMP:20260421T163900
CREATED:20240523T151923Z
LAST-MODIFIED:20240523T151923Z
UID:10647-1717165800-1717169400@artsconnectva.org
SUMMARY:Acrylic Paint Pour with Vanessa Golson
DESCRIPTION:View Flyer
URL:https://artsconnectva.org/event/acrylic-paint-pour-with-vanessa-golson-28/
LOCATION:VA
CATEGORIES:Outreach Program
END:VEVENT
BEGIN:VEVENT
DTSTART;TZID=America/New_York:20240531T150000
DTEND;TZID=America/New_York:20240531T160000
DTSTAMP:20260421T163900
CREATED:20240430T145458Z
LAST-MODIFIED:20240430T145458Z
UID:10513-1717167600-1717171200@artsconnectva.org
SUMMARY:The Classics with Jimmy G Sings
DESCRIPTION:Join Jimmy G as he performs the most popular Acoustic Rock and Pop songs from the past 5 decades and today!
URL:https://artsconnectva.org/event/the-classics-with-jimmy-g-sings-6/
LOCATION:VA
CATEGORIES:Outreach Program
END:VEVENT
BEGIN:VEVENT
DTSTART;TZID=America/New_York:20240602T103000
DTEND;TZID=America/New_York:20240602T113000
DTSTAMP:20260421T163900
CREATED:20240327T182049Z
LAST-MODIFIED:20240327T182049Z
UID:10120-1717324200-1717327800@artsconnectva.org
SUMMARY:Sunday Social with Dan Smith
DESCRIPTION:Enjoy a live performance of popular music from the 1940s\, 1950s and 1960s featuring big band\, classic country\, Elvis Presley\, Pat Boone\, and other icons of the era.
URL:https://artsconnectva.org/event/sunday-social-with-dan-smith-3/
LOCATION:VA
CATEGORIES:Outreach Program
END:VEVENT
BEGIN:VEVENT
DTSTART;TZID=America/New_York:20240603T140000
DTEND;TZID=America/New_York:20240603T150000
DTSTAMP:20260421T163900
CREATED:20240529T150325Z
LAST-MODIFIED:20240529T150325Z
UID:10661-1717423200-1717426800@artsconnectva.org
SUMMARY:Acrylic Paint Pour with Vanessa Golson
DESCRIPTION:
URL:https://artsconnectva.org/event/acrylic-paint-pour-with-vanessa-golson-29/
LOCATION:VA
CATEGORIES:Special Event
END:VEVENT
BEGIN:VEVENT
DTSTART;TZID=America/New_York:20240603T160000
DTEND;TZID=America/New_York:20240603T170000
DTSTAMP:20260421T163900
CREATED:20240507T193235Z
LAST-MODIFIED:20240508T174954Z
UID:10606-1717430400-1717434000@artsconnectva.org
SUMMARY:Resin Pour Love Sign with Heather Queen
DESCRIPTION:Join Heather as she guides you creating a beautiful resin pour sign!
URL:https://artsconnectva.org/event/resin-pour-love-sign-with-heather-queen/
LOCATION:VA
CATEGORIES:Outreach Program
END:VEVENT
BEGIN:VEVENT
DTSTART;TZID=America/New_York:20240604T110000
DTEND;TZID=America/New_York:20240604T120000
DTSTAMP:20260421T163900
CREATED:20240507T194659Z
LAST-MODIFIED:20240507T194659Z
UID:10608-1717498800-1717502400@artsconnectva.org
SUMMARY:Line Dance with Alecia Edwards
DESCRIPTION:View Flyer
URL:https://artsconnectva.org/event/line-dance-with-alecia-edwards/
LOCATION:VA
CATEGORIES:Outreach Program
END:VEVENT
BEGIN:VEVENT
DTSTART;TZID=America/New_York:20240604T130000
DTEND;TZID=America/New_York:20240604T140000
DTSTAMP:20260421T163900
CREATED:20240327T181037Z
LAST-MODIFIED:20240327T181037Z
UID:10116-1717506000-1717509600@artsconnectva.org
SUMMARY:Timeless Tunes with Rick Seguso
DESCRIPTION:Rick plays a blend of old and new folk. rock\, blues and country music\, and storytelling songs on guitar and harmonica!
URL:https://artsconnectva.org/event/timeless-tunes-with-rick-seguso-4/
LOCATION:VA
CATEGORIES:Outreach Program
END:VEVENT
BEGIN:VEVENT
DTSTART;TZID=America/New_York:20240604T133000
DTEND;TZID=America/New_York:20240604T143000
DTSTAMP:20260421T163900
CREATED:20240327T183601Z
LAST-MODIFIED:20240327T183601Z
UID:10124-1717507800-1717511400@artsconnectva.org
SUMMARY:Keep the Beat Social with Karen Stowe
DESCRIPTION:Enjoy this beautiful harp program with Karen Stowe!
URL:https://artsconnectva.org/event/keep-the-beat-social-with-karen-stowe-7/
LOCATION:VA
CATEGORIES:Outreach Program
END:VEVENT
BEGIN:VEVENT
DTSTART;TZID=America/New_York:20240604T140000
DTEND;TZID=America/New_York:20240604T150000
DTSTAMP:20260421T163900
CREATED:20240507T143957Z
LAST-MODIFIED:20240507T143957Z
UID:10602-1717509600-1717513200@artsconnectva.org
SUMMARY:Daisy Paint-A-Long with Susan Owens
DESCRIPTION:View Flyer
URL:https://artsconnectva.org/event/daisy-paint-a-long-with-susan-owens-2/
LOCATION:VA
CATEGORIES:Outreach Program
END:VEVENT
BEGIN:VEVENT
DTSTART;TZID=America/New_York:20240604T143000
DTEND;TZID=America/New_York:20240604T153000
DTSTAMP:20260421T163900
CREATED:20240430T150501Z
LAST-MODIFIED:20240430T150501Z
UID:10515-1717511400-1717515000@artsconnectva.org
SUMMARY:Acrylic Paint Pour with Vanessa Golson
DESCRIPTION:Enjoy a colorful\, art experience and walk away with a one-of-a-kind masterpiece\, with Vanessa’s step-by-step instructions of an acrylic paint pour technique!
URL:https://artsconnectva.org/event/acrylic-paint-pour-with-vanessa-golson-27/
LOCATION:VA
CATEGORIES:Outreach Program
END:VEVENT
BEGIN:VEVENT
DTSTART;TZID=America/New_York:20240605T140000
DTEND;TZID=America/New_York:20240605T150000
DTSTAMP:20260421T163900
CREATED:20240523T153422Z
LAST-MODIFIED:20240523T153422Z
UID:10650-1717596000-1717599600@artsconnectva.org
SUMMARY:Pottery Demonstration with Rachel Jaffe
DESCRIPTION:View Flyer
URL:https://artsconnectva.org/event/pottery-demonstration-with-rachel-jaffe/
LOCATION:VA
CATEGORIES:Outreach Program
END:VEVENT
BEGIN:VEVENT
DTSTART;TZID=America/New_York:20240606T103000
DTEND;TZID=America/New_York:20240606T113000
DTSTAMP:20260421T163900
CREATED:20240430T151529Z
LAST-MODIFIED:20240430T151529Z
UID:10519-1717669800-1717673400@artsconnectva.org
SUMMARY:Decoupage Flowers on Wood
DESCRIPTION:Join Susan as she helps you make beautiful Decoupage flowers on wood!
URL:https://artsconnectva.org/event/decoupage-flowers-on-wood/
LOCATION:VA
CATEGORIES:Outreach Program
END:VEVENT
BEGIN:VEVENT
DTSTART;TZID=America/New_York:20240606T140000
DTEND;TZID=America/New_York:20240606T150000
DTSTAMP:20260421T163900
CREATED:20240402T151722Z
LAST-MODIFIED:20240402T151722Z
UID:10168-1717682400-1717686000@artsconnectva.org
SUMMARY:The Classics with Thyme and Beats
DESCRIPTION:Thyme & Beat plays a variety of 60s and 70s covers!
URL:https://artsconnectva.org/event/the-classics-with-thyme-and-beats/
LOCATION:VA
CATEGORIES:Outreach Program
END:VEVENT
BEGIN:VEVENT
DTSTART;TZID=America/New_York:20240607T140000
DTEND;TZID=America/New_York:20240607T150000
DTSTAMP:20260421T163900
CREATED:20240405T142435Z
LAST-MODIFIED:20240405T142435Z
UID:10304-1717768800-1717772400@artsconnectva.org
SUMMARY:Happy Hour with Cory Laser
DESCRIPTION:Enjoy listening to famous hits from 50’s\, 60’s\, and 70’s that everyone knows and can easily sing along! \n 
URL:https://artsconnectva.org/event/happy-hour-with-cory-laser/
LOCATION:VA
CATEGORIES:Outreach Program
END:VEVENT
BEGIN:VEVENT
DTSTART;TZID=America/New_York:20240607T150000
DTEND;TZID=America/New_York:20240607T160000
DTSTAMP:20260421T163900
CREATED:20240515T210558Z
LAST-MODIFIED:20240515T210558Z
UID:10619-1717772400-1717776000@artsconnectva.org
SUMMARY:A Trip Around the World with Jena Chenkin
DESCRIPTION:View Flyer
URL:https://artsconnectva.org/event/a-trip-around-the-world-with-jena-chenkin/
LOCATION:VA
CATEGORIES:Outreach Program
END:VEVENT
END:VCALENDAR