BEGIN:VCALENDAR
VERSION:2.0
PRODID:-//ArtsConnect Virginia - ECPv6.15.20//NONSGML v1.0//EN
CALSCALE:GREGORIAN
METHOD:PUBLISH
X-WR-CALNAME:ArtsConnect Virginia
X-ORIGINAL-URL:https://artsconnectva.org
X-WR-CALDESC:Events for ArtsConnect Virginia
REFRESH-INTERVAL;VALUE=DURATION:PT1H
X-Robots-Tag:noindex
X-PUBLISHED-TTL:PT1H
BEGIN:VTIMEZONE
TZID:America/New_York
BEGIN:DAYLIGHT
TZOFFSETFROM:-0500
TZOFFSETTO:-0400
TZNAME:EDT
DTSTART:20240310T070000
END:DAYLIGHT
BEGIN:STANDARD
TZOFFSETFROM:-0400
TZOFFSETTO:-0500
TZNAME:EST
DTSTART:20241103T060000
END:STANDARD
BEGIN:DAYLIGHT
TZOFFSETFROM:-0500
TZOFFSETTO:-0400
TZNAME:EDT
DTSTART:20250309T070000
END:DAYLIGHT
BEGIN:STANDARD
TZOFFSETFROM:-0400
TZOFFSETTO:-0500
TZNAME:EST
DTSTART:20251102T060000
END:STANDARD
BEGIN:DAYLIGHT
TZOFFSETFROM:-0500
TZOFFSETTO:-0400
TZNAME:EDT
DTSTART:20260308T070000
END:DAYLIGHT
BEGIN:STANDARD
TZOFFSETFROM:-0400
TZOFFSETTO:-0500
TZNAME:EST
DTSTART:20261101T060000
END:STANDARD
END:VTIMEZONE
BEGIN:VEVENT
DTSTART;TZID=America/New_York:20250514T140000
DTEND;TZID=America/New_York:20250514T150000
DTSTAMP:20260419T145532
CREATED:20250423T144133Z
LAST-MODIFIED:20250507T170238Z
UID:13849-1747231200-1747234800@artsconnectva.org
SUMMARY:Tunes and Blooms with Ashley -Michele Cayon
DESCRIPTION:See Flyer
URL:https://artsconnectva.org/event/tunes-and-blooms-with-asheley-michele-cayon/
LOCATION:VA
CATEGORIES:Outreach Program
END:VEVENT
BEGIN:VEVENT
DTSTART;TZID=America/New_York:20250514T143000
DTEND;TZID=America/New_York:20250514T153000
DTSTAMP:20260419T145532
CREATED:20250423T144428Z
LAST-MODIFIED:20250423T144428Z
UID:13852-1747233000-1747236600@artsconnectva.org
SUMMARY:Trumpet Tunes with Chad McGill
DESCRIPTION:See Flyer
URL:https://artsconnectva.org/event/trumpet-tunes-with-chad-mcgill-35/
LOCATION:VA
CATEGORIES:Outreach Program
END:VEVENT
BEGIN:VEVENT
DTSTART;TZID=America/New_York:20250514T153000
DTEND;TZID=America/New_York:20250514T163000
DTSTAMP:20260419T145532
CREATED:20250423T151715Z
LAST-MODIFIED:20250507T170201Z
UID:13859-1747236600-1747240200@artsconnectva.org
SUMMARY:Magic & Mentalism with Sean McKenzie
DESCRIPTION:Sean McKenzie was fascinated with magic at an early age.  He has spent the last ten years studying the art of magic and now he performs a fun and mystifying Mentalism and Car Magic act.  Mentalis is the art of performing feats of memorization\, mind reading\, hypnosis\, psychometry\, and predictions appearing to be of supernatural means. Sean is not a psychic.
URL:https://artsconnectva.org/event/magic-mentalism-with-sean-mckenzie/
LOCATION:VA
CATEGORIES:Open to the Public,Outreach Program
END:VEVENT
BEGIN:VEVENT
DTSTART;TZID=America/New_York:20250514T170000
DTEND;TZID=America/New_York:20250514T183000
DTSTAMP:20260419T145532
CREATED:20250423T153103Z
LAST-MODIFIED:20250507T170355Z
UID:13861-1747242000-1747247400@artsconnectva.org
SUMMARY:Resin Shell Ecosystem with Heather Queen
DESCRIPTION:See Flyer \nCall Dyshae Norman\, (757) 823-4825 to register. Limited space available.
URL:https://artsconnectva.org/event/resin-shell-ecosystem-with-heather-queen-2/
LOCATION:Jordan-Newby Anchor Branch Library\, 1425 Norchester Ave\, Norfolk\, VA\, 23504\, United States
CATEGORIES:Open to the Public,Outreach Program
END:VEVENT
BEGIN:VEVENT
DTSTART;TZID=America/New_York:20250515T103000
DTEND;TZID=America/New_York:20250515T113000
DTSTAMP:20260419T145532
CREATED:20250423T195718Z
LAST-MODIFIED:20250423T195718Z
UID:13886-1747305000-1747308600@artsconnectva.org
SUMMARY:Favorite Throwbacks with Cory Langley
DESCRIPTION:See Flyer
URL:https://artsconnectva.org/event/favorite-throwbacks-with-cory-langley/
LOCATION:VA
CATEGORIES:Outreach Program
END:VEVENT
BEGIN:VEVENT
DTSTART;TZID=America/New_York:20250515T130000
DTEND;TZID=America/New_York:20250515T140000
DTSTAMP:20260419T145532
CREATED:20250423T182119Z
LAST-MODIFIED:20250423T182119Z
UID:13875-1747314000-1747317600@artsconnectva.org
SUMMARY:Singing & Smiling with David Jones & Art Rowe
DESCRIPTION:David & Art are coming together to provide a variety of songs from the 1950s on up on with the opportunity to sing along and have a smile on your face.  Join these guitar players for a fun time!
URL:https://artsconnectva.org/event/singing-smiling-with-david-jones-art-rowe/
LOCATION:VA
CATEGORIES:Outreach Program
END:VEVENT
BEGIN:VEVENT
DTSTART;TZID=America/New_York:20250515T130000
DTEND;TZID=America/New_York:20250515T140000
DTSTAMP:20260419T145532
CREATED:20250423T183514Z
LAST-MODIFIED:20250423T183514Z
UID:13877-1747314000-1747317600@artsconnectva.org
SUMMARY:Flute Through the Ages with Sean Arawjo
DESCRIPTION:Sean Arawjo is a flutist/teacher/composer who has been preforming for over two decades.  He specializes in Classical\, Jazz\, Ska\, and Extended Techniques like circular breathing & beatbox flute. Sean’s programs can center around a specific theme but usually include a wide variety of different genres and styles\, all don on the flute with recorded accompaniments.
URL:https://artsconnectva.org/event/flute-through-the-ages-with-sean-arawjo-14/
LOCATION:Newport News\, VA\, Newport News\, VA\, United States
CATEGORIES:Outreach Program
END:VEVENT
BEGIN:VEVENT
DTSTART;TZID=America/New_York:20250515T130000
DTEND;TZID=America/New_York:20250515T140000
DTSTAMP:20260419T145532
CREATED:20250507T170732Z
LAST-MODIFIED:20250507T170732Z
UID:13998-1747314000-1747317600@artsconnectva.org
SUMMARY:Flower Power with Maggie Kerrigan
DESCRIPTION:Maggie Kerrigan is an award-winning visual artist with an extensive background in both art and education. She understands the adult learner and knows how to adjust for a variety of situations\, including physical and mental limitations. Maggie Kerrigan leads groups in guided painting activities that include plenty of discussion. The projects are designed for maximum success with people who have never painted before. She is patient and guides the participants step by step.
URL:https://artsconnectva.org/event/flower-power-with-maggie-kerrigan-2/
LOCATION:Norfolk\, VA\, Norfolk\, VA\, United States
CATEGORIES:Outreach Program
END:VEVENT
BEGIN:VEVENT
DTSTART;TZID=America/New_York:20250515T140000
DTEND;TZID=America/New_York:20250515T150000
DTSTAMP:20260419T145532
CREATED:20250507T171102Z
LAST-MODIFIED:20250507T171102Z
UID:14000-1747317600-1747321200@artsconnectva.org
SUMMARY:Favorite Throwbacks with Mark Pettiford
DESCRIPTION:Mark L. Pettiford aka TattLeeMark\, is a singer\, songwriter/ musician\, and producer from Virginia Beach\, Va. who has an eclectic mix of Rockin Roll\, Country\, Blues\, R&B Soul\, Alternative\, Dance\, Pop\, Instrumental\, Ska\, Reggae\, and hip-hop.  Mark plays an eclectic mix of 40s\, 50s\, 60\, 70s & 80s music\, that entertains people of all ages. Mark blends in a nice style of guitar playing\, with his singing style that has people singing\, clapping\, and dancing to the music.
URL:https://artsconnectva.org/event/favorite-throwbacks-with-mark-pettiford/
LOCATION:VA
CATEGORIES:Outreach Program
END:VEVENT
BEGIN:VEVENT
DTSTART;TZID=America/New_York:20250515T150000
DTEND;TZID=America/New_York:20250515T160000
DTSTAMP:20260419T145532
CREATED:20250423T184345Z
LAST-MODIFIED:20250423T184345Z
UID:13879-1747321200-1747324800@artsconnectva.org
SUMMARY:Piano with Christian Flores
DESCRIPTION:See Flyer
URL:https://artsconnectva.org/event/piano-with-christian-flores/
LOCATION:VA
CATEGORIES:Outreach Program
END:VEVENT
BEGIN:VEVENT
DTSTART;TZID=America/New_York:20250516T104500
DTEND;TZID=America/New_York:20250516T114500
DTSTAMP:20260419T145532
CREATED:20250507T175959Z
LAST-MODIFIED:20250507T175959Z
UID:14002-1747392300-1747395900@artsconnectva.org
SUMMARY:Move and Groove with Tanecia Newman
DESCRIPTION:See Flyer
URL:https://artsconnectva.org/event/move-and-groove-with-tanecia-newman-2/
LOCATION:VA
CATEGORIES:Outreach Program
END:VEVENT
BEGIN:VEVENT
DTSTART;TZID=America/New_York:20250516T130000
DTEND;TZID=America/New_York:20250516T140000
DTSTAMP:20260419T145533
CREATED:20250507T180912Z
LAST-MODIFIED:20250507T180912Z
UID:14005-1747400400-1747404000@artsconnectva.org
SUMMARY:Iris Folding Craft with Shanda Teague
DESCRIPTION:Shanda has worked in the Arts for almost 10- years.  She has been crafty for most of her life and loves learning new things and making things with her hands.  She is an amazing virtual artist. \nCall the Main Street Library to register:  Jacqueline Brown-Whitley\, (757) 591-4858 Limited number of participants available. 
URL:https://artsconnectva.org/event/iris-folding-craft-with-shanda-teague/
LOCATION:Main Street Library\, 110 Main Street\, Newport News\, VA\, 23601\, United States
CATEGORIES:Open to the Public,Outreach Program
END:VEVENT
BEGIN:VEVENT
DTSTART;TZID=America/New_York:20250516T130000
DTEND;TZID=America/New_York:20250516T140000
DTSTAMP:20260419T145533
CREATED:20250507T181311Z
LAST-MODIFIED:20250507T181311Z
UID:14007-1747400400-1747404000@artsconnectva.org
SUMMARY:Magic and Mentalism with Sean McKenzie
DESCRIPTION:See Flyer
URL:https://artsconnectva.org/event/magic-and-mentalism-with-sean-mckenzie/
LOCATION:VA
CATEGORIES:Outreach Program
END:VEVENT
BEGIN:VEVENT
DTSTART;TZID=America/New_York:20250516T140000
DTEND;TZID=America/New_York:20250516T150000
DTSTAMP:20260419T145533
CREATED:20250507T181549Z
LAST-MODIFIED:20250507T181549Z
UID:14010-1747404000-1747407600@artsconnectva.org
SUMMARY:Music & Memories and Adrienne Searle
DESCRIPTION:See Flyer
URL:https://artsconnectva.org/event/music-memories-and-adrienne-searle/
LOCATION:VA
CATEGORIES:Outreach Program
END:VEVENT
BEGIN:VEVENT
DTSTART;TZID=America/New_York:20250516T140000
DTEND;TZID=America/New_York:20250516T150000
DTSTAMP:20260419T145533
CREATED:20250507T181839Z
LAST-MODIFIED:20250507T181839Z
UID:14013-1747404000-1747407600@artsconnectva.org
SUMMARY:Flower Power with Maggie Kerrigan
DESCRIPTION:See Flyer
URL:https://artsconnectva.org/event/flower-power-with-maggie-kerrigan-3/
LOCATION:VA
CATEGORIES:Outreach Program
END:VEVENT
BEGIN:VEVENT
DTSTART;TZID=America/New_York:20250516T140000
DTEND;TZID=America/New_York:20250516T150000
DTSTAMP:20260419T145533
CREATED:20250507T182807Z
LAST-MODIFIED:20250507T182807Z
UID:14018-1747404000-1747407600@artsconnectva.org
SUMMARY:Singing the Classics with Ava Stevenson
DESCRIPTION:See Flyer
URL:https://artsconnectva.org/event/singing-the-classics-with-ava-stevenson/
LOCATION:VA
CATEGORIES:Outreach Program
END:VEVENT
BEGIN:VEVENT
DTSTART;TZID=America/New_York:20250516T140000
DTEND;TZID=America/New_York:20250516T150000
DTSTAMP:20260419T145533
CREATED:20250507T182944Z
LAST-MODIFIED:20250507T182944Z
UID:14021-1747404000-1747407600@artsconnectva.org
SUMMARY:Tape Painting with Heidi Ordaz
DESCRIPTION:See Flyer
URL:https://artsconnectva.org/event/tape-painting-with-heidi-ordaz/
LOCATION:VA
CATEGORIES:Outreach Program
END:VEVENT
BEGIN:VEVENT
DTSTART;TZID=America/New_York:20250516T150000
DTEND;TZID=America/New_York:20250516T160000
DTSTAMP:20260419T145533
CREATED:20250507T183450Z
LAST-MODIFIED:20250507T183450Z
UID:14024-1747407600-1747411200@artsconnectva.org
SUMMARY:Songs through the Decades with Karen Stowe
DESCRIPTION:Karen Stowe has been bringing her unique gift of soothing harp music to Tidewater are for nearly 20 years.  She is a Certified Music Practitioner and have unique monthly set list of harp songs to reflect a theme\, holiday of the month.  Karen welcomes you to sing\, clap or laugh along\, or simply sit in silence and listen.
URL:https://artsconnectva.org/event/songs-through-the-decades-with-karen-stowe-2/
LOCATION:VA
CATEGORIES:Outreach Program
END:VEVENT
BEGIN:VEVENT
DTSTART;TZID=America/New_York:20250519T140000
DTEND;TZID=America/New_York:20250519T150000
DTSTAMP:20260419T145533
CREATED:20250507T185321Z
LAST-MODIFIED:20250507T185321Z
UID:14026-1747663200-1747666800@artsconnectva.org
SUMMARY:Clay Daffodils with Camille Donne
DESCRIPTION:See Flyer
URL:https://artsconnectva.org/event/clay-daffodils-with-camille-donne-3/
LOCATION:VA
CATEGORIES:Outreach Program
END:VEVENT
BEGIN:VEVENT
DTSTART;TZID=America/New_York:20250520T133000
DTEND;TZID=America/New_York:20250520T143000
DTSTAMP:20260419T145533
CREATED:20250307T171942Z
LAST-MODIFIED:20250507T190728Z
UID:13171-1747747800-1747751400@artsconnectva.org
SUMMARY:Keep the Beat Social with Alex Marlins
DESCRIPTION:Alex Marlins is a Virginia Beach native with a background in classical violin.  She teaches orchestra and early strings courses and owns a private studio.  Alex has 20 years’ experience in violin performance and her programs includes holiday classics\, American and Celtic folk\, Jazz and popular favorites.  Come relax and enjoy a violin serenade!
URL:https://artsconnectva.org/event/keep-the-beat-social-with-alex-smith/
LOCATION:VA
CATEGORIES:Outreach Program
END:VEVENT
BEGIN:VEVENT
DTSTART;TZID=America/New_York:20250520T140000
DTEND;TZID=America/New_York:20250520T150000
DTSTAMP:20260419T145533
CREATED:20250430T183349Z
LAST-MODIFIED:20250430T183349Z
UID:13949-1747749600-1747753200@artsconnectva.org
SUMMARY:Popular 50's-70's Music Sing-along with Savannah Howell
DESCRIPTION:See Flyer
URL:https://artsconnectva.org/event/popular-50s-70s-music-sing-along-with-savannah-howell/
LOCATION:VA
CATEGORIES:Outreach Program
END:VEVENT
BEGIN:VEVENT
DTSTART;TZID=America/New_York:20250520T140000
DTEND;TZID=America/New_York:20250520T150000
DTSTAMP:20260419T145533
CREATED:20250507T191015Z
LAST-MODIFIED:20250507T191654Z
UID:14032-1747749600-1747753200@artsconnectva.org
SUMMARY:Sing-Along to Oldies with Arthur Rowe
DESCRIPTION:See Flyer
URL:https://artsconnectva.org/event/sing-along-to-oldies-with-arthur-rowe/
LOCATION:VA
CATEGORIES:Outreach Program
END:VEVENT
BEGIN:VEVENT
DTSTART;TZID=America/New_York:20250521T100000
DTEND;TZID=America/New_York:20250521T120000
DTSTAMP:20260419T145533
CREATED:20250507T192845Z
LAST-MODIFIED:20250507T192845Z
UID:14037-1747821600-1747828800@artsconnectva.org
SUMMARY:Floral in Motion with the Suffolk Center for the Cultural Arts
DESCRIPTION:See Flyer \nRegistration: https://www.suffolkva.us/266/Parks-Recreation or (757) 514-7265
URL:https://artsconnectva.org/event/floral-in-motion-with-the-suffolk-center-for-the-cultural-arts/
LOCATION:Suffolk Center for the Cultural Arts\, 110 W Finney Ave\, Suffolk\, VA\, 23434\, United States
CATEGORIES:Open to the Public,Outreach Program
END:VEVENT
BEGIN:VEVENT
DTSTART;TZID=America/New_York:20250521T100000
DTEND;TZID=America/New_York:20250521T120000
DTSTAMP:20260419T145533
CREATED:20250507T193223Z
LAST-MODIFIED:20250507T193223Z
UID:14041-1747821600-1747828800@artsconnectva.org
SUMMARY:Jewelry Making with Heidi Ordaz
DESCRIPTION:See Flyer
URL:https://artsconnectva.org/event/jewelry-making-with-heidi-ordaz/
LOCATION:VA
CATEGORIES:Outreach Program
END:VEVENT
BEGIN:VEVENT
DTSTART;TZID=America/New_York:20250521T113000
DTEND;TZID=America/New_York:20250521T123000
DTSTAMP:20260419T145533
CREATED:20250507T193650Z
LAST-MODIFIED:20250507T193752Z
UID:14044-1747827000-1747830600@artsconnectva.org
SUMMARY:Piano Time Machine with Christian Flores
DESCRIPTION:Christian Flores is a retired United Stated Marine Corps Brand Director with over 40 years of musical performance experience.  Christian performs a wide variety of popular musing from the 1930’s to the present on piano.  He crafts his program to the age demographic of the audience.  He is well versed in all musical genres and engages the audience with a lighthearted flare.
URL:https://artsconnectva.org/event/14044/
LOCATION:VA
CATEGORIES:Outreach Program
END:VEVENT
BEGIN:VEVENT
DTSTART;TZID=America/New_York:20250521T124500
DTEND;TZID=America/New_York:20250521T134500
DTSTAMP:20260419T145533
CREATED:20250507T195030Z
LAST-MODIFIED:20250507T195107Z
UID:14048-1747831500-1747835100@artsconnectva.org
SUMMARY:Music for Golf Classic with Arthur Rowe
DESCRIPTION:Art is a 25-year Navy Veteran who has been playing guitar for about five years. He performs at various local venues around the Tidewater/Hampton Roads area including many TAO partner locations. Art plays acoustic guitar and sings and performs a variety of songs from the 1950s on up. His goal is to put a smile on their face and to get people to join in and sing-along.
URL:https://artsconnectva.org/event/music-for-golf-classic-with-arthur-rowe/
LOCATION:Newport News Golf Club at Deer Run\, 901 Clubhouse Way\, Newport News\, VA\, 23608\, United States
CATEGORIES:Outreach Program
END:VEVENT
BEGIN:VEVENT
DTSTART;TZID=America/New_York:20250521T140000
DTEND;TZID=America/New_York:20250521T150000
DTSTAMP:20260419T145533
CREATED:20250507T195610Z
LAST-MODIFIED:20250507T195610Z
UID:14052-1747836000-1747839600@artsconnectva.org
SUMMARY:Resin Under the Sea Frame with Heather Queen
DESCRIPTION:See Flyer
URL:https://artsconnectva.org/event/resin-under-the-sea-frame-with-heather-queen/
LOCATION:Portsmouth\, VA\, Portsmouth\, VA\, United States
CATEGORIES:Outreach Program
END:VEVENT
BEGIN:VEVENT
DTSTART;TZID=America/New_York:20250521T143000
DTEND;TZID=America/New_York:20250521T153000
DTSTAMP:20260419T145533
CREATED:20250507T195739Z
LAST-MODIFIED:20250507T195941Z
UID:14055-1747837800-1747841400@artsconnectva.org
SUMMARY:Comedy Hour with Rhona Hyman
DESCRIPTION:See Flyer
URL:https://artsconnectva.org/event/14055/
LOCATION:VA
CATEGORIES:Outreach Program
END:VEVENT
BEGIN:VEVENT
DTSTART;TZID=America/New_York:20250521T143000
DTEND;TZID=America/New_York:20250521T153000
DTSTAMP:20260419T145533
CREATED:20250507T200303Z
LAST-MODIFIED:20250507T200303Z
UID:14059-1747837800-1747841400@artsconnectva.org
SUMMARY:Piano Serenade with Christian Flore
DESCRIPTION:See Flyer
URL:https://artsconnectva.org/event/piano-serenade-with-christian-flore/
LOCATION:VA
CATEGORIES:Outreach Program
END:VEVENT
BEGIN:VEVENT
DTSTART;TZID=America/New_York:20250522T140000
DTEND;TZID=America/New_York:20250522T150000
DTSTAMP:20260419T145533
CREATED:20250428T151448Z
LAST-MODIFIED:20250507T201935Z
UID:13917-1747922400-1747926000@artsconnectva.org
SUMMARY:Mixer of 40's to80's Music with Mark Pettiford
DESCRIPTION:See Flyer
URL:https://artsconnectva.org/event/oldies-music-with-beverly-taylor/
LOCATION:VA
CATEGORIES:Outreach Program
END:VEVENT
END:VCALENDAR