BEGIN:VCALENDAR
VERSION:2.0
PRODID:-//ArtsConnect Virginia - ECPv6.15.20//NONSGML v1.0//EN
CALSCALE:GREGORIAN
METHOD:PUBLISH
X-WR-CALNAME:ArtsConnect Virginia
X-ORIGINAL-URL:https://artsconnectva.org
X-WR-CALDESC:Events for ArtsConnect Virginia
REFRESH-INTERVAL;VALUE=DURATION:PT1H
X-Robots-Tag:noindex
X-PUBLISHED-TTL:PT1H
BEGIN:VTIMEZONE
TZID:America/New_York
BEGIN:DAYLIGHT
TZOFFSETFROM:-0500
TZOFFSETTO:-0400
TZNAME:EDT
DTSTART:20230312T070000
END:DAYLIGHT
BEGIN:STANDARD
TZOFFSETFROM:-0400
TZOFFSETTO:-0500
TZNAME:EST
DTSTART:20231105T060000
END:STANDARD
BEGIN:DAYLIGHT
TZOFFSETFROM:-0500
TZOFFSETTO:-0400
TZNAME:EDT
DTSTART:20240310T070000
END:DAYLIGHT
BEGIN:STANDARD
TZOFFSETFROM:-0400
TZOFFSETTO:-0500
TZNAME:EST
DTSTART:20241103T060000
END:STANDARD
BEGIN:DAYLIGHT
TZOFFSETFROM:-0500
TZOFFSETTO:-0400
TZNAME:EDT
DTSTART:20250309T070000
END:DAYLIGHT
BEGIN:STANDARD
TZOFFSETFROM:-0400
TZOFFSETTO:-0500
TZNAME:EST
DTSTART:20251102T060000
END:STANDARD
END:VTIMEZONE
BEGIN:VEVENT
DTSTART;TZID=America/New_York:20241004T143000
DTEND;TZID=America/New_York:20241004T153000
DTSTAMP:20260419T180448
CREATED:20240921T140421Z
LAST-MODIFIED:20240921T140421Z
UID:11919-1728052200-1728055800@artsconnectva.org
SUMMARY:Music from Wizard of Oz with Karen Stowe
DESCRIPTION:
URL:https://artsconnectva.org/event/music-from-wizard-of-oz-with-karen-stowe/
LOCATION:VA
CATEGORIES:Outreach Program
END:VEVENT
BEGIN:VEVENT
DTSTART;TZID=America/New_York:20241004T160000
DTEND;TZID=America/New_York:20241004T173000
DTSTAMP:20260419T180448
CREATED:20240910T143814Z
LAST-MODIFIED:20240917T130957Z
UID:11867-1728057600-1728063000@artsconnectva.org
SUMMARY:Sing-Along with Mary Saunders
DESCRIPTION:
URL:https://artsconnectva.org/event/sing-along-with-mary-saunders/
LOCATION:VA
CATEGORIES:Outreach Program
END:VEVENT
BEGIN:VEVENT
DTSTART;TZID=America/New_York:20241005T133000
DTEND;TZID=America/New_York:20241005T143000
DTSTAMP:20260419T180448
CREATED:20240903T183100Z
LAST-MODIFIED:20240903T183100Z
UID:11804-1728135000-1728138600@artsconnectva.org
SUMMARY:Acrylic Paint & Pour with Vanessa Golson
DESCRIPTION:
URL:https://artsconnectva.org/event/acrylic-paint-pour-with-vanessa-golson-41/
LOCATION:VA
CATEGORIES:Outreach Program
END:VEVENT
BEGIN:VEVENT
DTSTART;TZID=America/New_York:20241007T140000
DTEND;TZID=America/New_York:20241007T150000
DTSTAMP:20260419T180448
CREATED:20240917T155608Z
LAST-MODIFIED:20240917T155608Z
UID:11888-1728309600-1728313200@artsconnectva.org
SUMMARY:Happy Hour with Ted Drake & Eric Yoder
DESCRIPTION:
URL:https://artsconnectva.org/event/happy-hour-with-ted-drake-eric-yoder/
LOCATION:VA
CATEGORIES:Outreach Program
END:VEVENT
BEGIN:VEVENT
DTSTART;TZID=America/New_York:20241008T130000
DTEND;TZID=America/New_York:20241008T140000
DTSTAMP:20260419T180448
CREATED:20240829T221856Z
LAST-MODIFIED:20240829T221856Z
UID:11776-1728392400-1728396000@artsconnectva.org
SUMMARY:Piano Tunes with Christian Flores
DESCRIPTION:
URL:https://artsconnectva.org/event/piano-tunes-with-christian-flores-4/
LOCATION:VA
CATEGORIES:Outreach Program
END:VEVENT
BEGIN:VEVENT
DTSTART;TZID=America/New_York:20241008T130000
DTEND;TZID=America/New_York:20241008T140000
DTSTAMP:20260419T180448
CREATED:20240903T183735Z
LAST-MODIFIED:20240903T183735Z
UID:11807-1728392400-1728396000@artsconnectva.org
SUMMARY:Fall Painting with Rhona Dawson
DESCRIPTION:
URL:https://artsconnectva.org/event/fall-painting-with-rhona-dawson/
LOCATION:VA
CATEGORIES:Outreach Program
END:VEVENT
BEGIN:VEVENT
DTSTART;TZID=America/New_York:20241008T133000
DTEND;TZID=America/New_York:20241008T143000
DTSTAMP:20260419T180448
CREATED:20240829T150846Z
LAST-MODIFIED:20240903T183334Z
UID:11762-1728394200-1728397800@artsconnectva.org
SUMMARY:Keep the Beat Social with Ava Stevenson
DESCRIPTION:
URL:https://artsconnectva.org/event/keep-the-beat-social-with-bryan-martin/
LOCATION:VA
CATEGORIES:Outreach Program
END:VEVENT
BEGIN:VEVENT
DTSTART;TZID=America/New_York:20241008T140000
DTEND;TZID=America/New_York:20241008T150000
DTSTAMP:20260419T180448
CREATED:20240829T220257Z
LAST-MODIFIED:20240829T220257Z
UID:11770-1728396000-1728399600@artsconnectva.org
SUMMARY:Happy Hour with Tina & Jim
DESCRIPTION:
URL:https://artsconnectva.org/event/happy-hour-with-tina-jim-2/
LOCATION:VA
CATEGORIES:Outreach Program
END:VEVENT
BEGIN:VEVENT
DTSTART;TZID=America/New_York:20241008T140000
DTEND;TZID=America/New_York:20241008T150000
DTSTAMP:20260419T180448
CREATED:20240909T134150Z
LAST-MODIFIED:20240909T134150Z
UID:11822-1728396000-1728399600@artsconnectva.org
SUMMARY:Pumpkin Painting with Vivian Davis
DESCRIPTION:View Flyer
URL:https://artsconnectva.org/event/pumpkin-painting-with-vivian-davis/
LOCATION:VA
CATEGORIES:Outreach Program
END:VEVENT
BEGIN:VEVENT
DTSTART;TZID=America/New_York:20241008T140000
DTEND;TZID=America/New_York:20241008T150000
DTSTAMP:20260419T180448
CREATED:20240909T134506Z
LAST-MODIFIED:20240909T134506Z
UID:11825-1728396000-1728399600@artsconnectva.org
SUMMARY:Let's Jam with The Earthtones
DESCRIPTION:
URL:https://artsconnectva.org/event/lets-jam-with-the-earthtones-3/
LOCATION:VA
CATEGORIES:Outreach Program
END:VEVENT
BEGIN:VEVENT
DTSTART;TZID=America/New_York:20241008T140000
DTEND;TZID=America/New_York:20241008T150000
DTSTAMP:20260419T180448
CREATED:20240923T184037Z
LAST-MODIFIED:20240923T184037Z
UID:11993-1728396000-1728399600@artsconnectva.org
SUMMARY:Rock n' Roll with Mark Pettiford
DESCRIPTION:
URL:https://artsconnectva.org/event/rock-n-roll-with-mark-pettiford-6/
LOCATION:VA
CATEGORIES:Outreach Program
END:VEVENT
BEGIN:VEVENT
DTSTART;TZID=America/New_York:20241008T153000
DTEND;TZID=America/New_York:20241008T163000
DTSTAMP:20260419T180448
CREATED:20241004T154518Z
LAST-MODIFIED:20241004T154518Z
UID:12068-1728401400-1728405000@artsconnectva.org
SUMMARY:Music with Bryan Martin
DESCRIPTION:
URL:https://artsconnectva.org/event/music-with-bryan-martin/
LOCATION:VA
CATEGORIES:Outreach Program
END:VEVENT
BEGIN:VEVENT
DTSTART;TZID=America/New_York:20241008T180000
DTEND;TZID=America/New_York:20241008T190000
DTSTAMP:20260419T180448
CREATED:20240917T160305Z
LAST-MODIFIED:20240917T160305Z
UID:11890-1728410400-1728414000@artsconnectva.org
SUMMARY:Fall Paint Along with Vivian Davis
DESCRIPTION:
URL:https://artsconnectva.org/event/fall-paint-along-with-vivian-davis/
LOCATION:Jordan-Newby Anchor Branch Library\, 1425 Norchester Ave\, Norfolk\, VA\, 23504\, United States
CATEGORIES:Open to the Public
END:VEVENT
BEGIN:VEVENT
DTSTART;TZID=America/New_York:20241009T100000
DTEND;TZID=America/New_York:20241009T120000
DTSTAMP:20260419T180448
CREATED:20240910T145632Z
LAST-MODIFIED:20240910T145632Z
UID:11871-1728468000-1728475200@artsconnectva.org
SUMMARY:Gnomes Home with Suffolk Center for Cultural Arts
DESCRIPTION:
URL:https://artsconnectva.org/event/gnomes-home-with-suffolk-center-for-cultural-arts/
LOCATION:Suffolk Center for the Cultural Arts\, 110 W Finney Ave\, Suffolk\, VA\, 23434\, United States
CATEGORIES:Open to the Public
END:VEVENT
BEGIN:VEVENT
DTSTART;TZID=America/New_York:20241009T111500
DTEND;TZID=America/New_York:20241009T121500
DTSTAMP:20260419T180448
CREATED:20240909T142633Z
LAST-MODIFIED:20240909T142633Z
UID:11834-1728472500-1728476100@artsconnectva.org
SUMMARY:All of  the Favorites with Dan Smith
DESCRIPTION:
URL:https://artsconnectva.org/event/all-of-the-favorites-with-dan-smith-38/
LOCATION:VA
CATEGORIES:Outreach Program
END:VEVENT
BEGIN:VEVENT
DTSTART;TZID=America/New_York:20241009T140000
DTEND;TZID=America/New_York:20241009T150000
DTSTAMP:20260419T180448
CREATED:20240909T141126Z
LAST-MODIFIED:20240909T141126Z
UID:11827-1728482400-1728486000@artsconnectva.org
SUMMARY:Favorite Throwbacks with Art Rowe
DESCRIPTION:View Flyer
URL:https://artsconnectva.org/event/favorite-throwbacks-with-art-rowe-19/
LOCATION:VA
CATEGORIES:Outreach Program
END:VEVENT
BEGIN:VEVENT
DTSTART;TZID=America/New_York:20241009T140000
DTEND;TZID=America/New_York:20241009T150000
DTSTAMP:20260419T180448
CREATED:20240909T143305Z
LAST-MODIFIED:20240909T143305Z
UID:11836-1728482400-1728486000@artsconnectva.org
SUMMARY:Rock n' Roll with Mark Pettiford
DESCRIPTION:View Flyer
URL:https://artsconnectva.org/event/rock-n-roll-with-mark-pettiford-4/
LOCATION:VA
CATEGORIES:Outreach Program
END:VEVENT
BEGIN:VEVENT
DTSTART;TZID=America/New_York:20241010T130000
DTEND;TZID=America/New_York:20241010T140000
DTSTAMP:20260419T180448
CREATED:20240917T160728Z
LAST-MODIFIED:20240917T160728Z
UID:11893-1728565200-1728568800@artsconnectva.org
SUMMARY:Fall Gnome with Rhona Dawson
DESCRIPTION:
URL:https://artsconnectva.org/event/fall-gnome-with-rhona-dawson/
LOCATION:VA
CATEGORIES:Outreach Program
END:VEVENT
BEGIN:VEVENT
DTSTART;TZID=America/New_York:20241010T140000
DTEND;TZID=America/New_York:20241010T150000
DTSTAMP:20260419T180448
CREATED:20240909T151353Z
LAST-MODIFIED:20240909T151353Z
UID:11840-1728568800-1728572400@artsconnectva.org
SUMMARY:Golden Oldies with Ava Stevenson
DESCRIPTION:View Flyer
URL:https://artsconnectva.org/event/golden-oldies-with-ava-stevenson-5/
LOCATION:VA
CATEGORIES:Outreach Program
END:VEVENT
BEGIN:VEVENT
DTSTART;TZID=America/New_York:20241010T140000
DTEND;TZID=America/New_York:20241010T150000
DTSTAMP:20260419T180448
CREATED:20240909T152034Z
LAST-MODIFIED:20240909T152034Z
UID:11843-1728568800-1728572400@artsconnectva.org
SUMMARY:Rock n' Roll with Mark Pettiford
DESCRIPTION:View Flyer
URL:https://artsconnectva.org/event/rock-n-roll-with-mark-pettiford-5/
LOCATION:VA
CATEGORIES:Outreach Program
END:VEVENT
BEGIN:VEVENT
DTSTART;TZID=America/New_York:20241011T130000
DTEND;TZID=America/New_York:20241011T140000
DTSTAMP:20260419T180448
CREATED:20240909T152749Z
LAST-MODIFIED:20240909T152749Z
UID:11846-1728651600-1728655200@artsconnectva.org
SUMMARY:Favorite Jams with Art Row and David Jones
DESCRIPTION:View Flyer
URL:https://artsconnectva.org/event/favorite-jams-with-art-row-and-david-jones/
LOCATION:VA
CATEGORIES:Outreach Program
END:VEVENT
BEGIN:VEVENT
DTSTART;TZID=America/New_York:20241011T140000
DTEND;TZID=America/New_York:20241011T150000
DTSTAMP:20260419T180448
CREATED:20240620T153900Z
LAST-MODIFIED:20240620T153900Z
UID:10834-1728655200-1728658800@artsconnectva.org
SUMMARY:Happy Hour with Dan Smith
DESCRIPTION:
URL:https://artsconnectva.org/event/happy-hour-with-dan-smith-12/
LOCATION:VA
CATEGORIES:Outreach Program
END:VEVENT
BEGIN:VEVENT
DTSTART;TZID=America/New_York:20241011T140000
DTEND;TZID=America/New_York:20241011T150000
DTSTAMP:20260419T180448
CREATED:20240917T153905Z
LAST-MODIFIED:20240917T153905Z
UID:11884-1728655200-1728658800@artsconnectva.org
SUMMARY:Pottery with Rachel Jaffe
DESCRIPTION:
URL:https://artsconnectva.org/event/pottery-with-rachel-jaffe-2/
LOCATION:VA
CATEGORIES:Outreach Program
END:VEVENT
BEGIN:VEVENT
DTSTART;TZID=America/New_York:20241011T170000
DTEND;TZID=America/New_York:20241011T180000
DTSTAMP:20260419T180448
CREATED:20240909T153123Z
LAST-MODIFIED:20240909T153123Z
UID:11849-1728666000-1728669600@artsconnectva.org
SUMMARY:Second Friday Art with David Duck
DESCRIPTION:
URL:https://artsconnectva.org/event/second-friday-art-with-david-duck/
LOCATION:VA
CATEGORIES:Open to the Public
END:VEVENT
BEGIN:VEVENT
DTSTART;TZID=America/New_York:20241012T133000
DTEND;TZID=America/New_York:20241012T143000
DTSTAMP:20260419T180448
CREATED:20240909T154028Z
LAST-MODIFIED:20240909T154028Z
UID:11854-1728739800-1728743400@artsconnectva.org
SUMMARY:Pumpkin Handprints with Sandy Kinchen
DESCRIPTION:
URL:https://artsconnectva.org/event/pumpkin-handprints-with-sandy-kinchen/
LOCATION:Taylor Bend YMCA\, 4626 Taylor Rd\, Chesapeake\, VA\, 23321\, United States
CATEGORIES:Open to the Public
END:VEVENT
BEGIN:VEVENT
DTSTART;TZID=America/New_York:20241015T133000
DTEND;TZID=America/New_York:20241015T143000
DTSTAMP:20260419T180448
CREATED:20240909T154832Z
LAST-MODIFIED:20240909T154832Z
UID:11859-1728999000-1729002600@artsconnectva.org
SUMMARY:Keep the Beat Social with Karen Stowe
DESCRIPTION:
URL:https://artsconnectva.org/event/keep-the-beat-social-with-karen-stowe-10/
LOCATION:VA
CATEGORIES:Outreach Program
END:VEVENT
BEGIN:VEVENT
DTSTART;TZID=America/New_York:20241015T140000
DTEND;TZID=America/New_York:20241015T150000
DTSTAMP:20260419T180448
CREATED:20240909T163437Z
LAST-MODIFIED:20240909T163437Z
UID:11864-1729000800-1729004400@artsconnectva.org
SUMMARY:Violin Serenade with Alex Marlins
DESCRIPTION:View Flyer
URL:https://artsconnectva.org/event/violin-serenade-with-alex-marlins-22/
LOCATION:VA
CATEGORIES:Outreach Program
END:VEVENT
BEGIN:VEVENT
DTSTART;TZID=America/New_York:20241015T140000
DTEND;TZID=America/New_York:20241015T150000
DTSTAMP:20260419T180448
CREATED:20240917T161046Z
LAST-MODIFIED:20240917T161046Z
UID:11895-1729000800-1729004400@artsconnectva.org
SUMMARY:Birthday Social with Dan Smith
DESCRIPTION:
URL:https://artsconnectva.org/event/birthday-social-with-dan-smith-3/
LOCATION:VA
CATEGORIES:Outreach Program
END:VEVENT
BEGIN:VEVENT
DTSTART;TZID=America/New_York:20241015T140000
DTEND;TZID=America/New_York:20241015T150000
DTSTAMP:20260419T180448
CREATED:20240926T183728Z
LAST-MODIFIED:20240926T183728Z
UID:12022-1729000800-1729004400@artsconnectva.org
SUMMARY:Groovin' with The Elderly Brothers
DESCRIPTION:
URL:https://artsconnectva.org/event/groovin-with-the-elderly-brothers/
LOCATION:VA
CATEGORIES:Outreach Program
END:VEVENT
BEGIN:VEVENT
DTSTART;TZID=America/New_York:20241016T100000
DTEND;TZID=America/New_York:20241016T120000
DTSTAMP:20260419T180448
CREATED:20240918T215127Z
LAST-MODIFIED:20240918T215127Z
UID:11907-1729072800-1729080000@artsconnectva.org
SUMMARY:Tote Painting Party with Vivian Davis
DESCRIPTION:
URL:https://artsconnectva.org/event/tote-painting-party-with-vivian-davis/
LOCATION:VA
CATEGORIES:Outreach Program
END:VEVENT
END:VCALENDAR