BEGIN:VCALENDAR
VERSION:2.0
PRODID:-//ArtsConnect Virginia - ECPv6.15.20//NONSGML v1.0//EN
CALSCALE:GREGORIAN
METHOD:PUBLISH
X-WR-CALNAME:ArtsConnect Virginia
X-ORIGINAL-URL:https://artsconnectva.org
X-WR-CALDESC:Events for ArtsConnect Virginia
REFRESH-INTERVAL;VALUE=DURATION:PT1H
X-Robots-Tag:noindex
X-PUBLISHED-TTL:PT1H
BEGIN:VTIMEZONE
TZID:America/New_York
BEGIN:DAYLIGHT
TZOFFSETFROM:-0500
TZOFFSETTO:-0400
TZNAME:EDT
DTSTART:20230312T070000
END:DAYLIGHT
BEGIN:STANDARD
TZOFFSETFROM:-0400
TZOFFSETTO:-0500
TZNAME:EST
DTSTART:20231105T060000
END:STANDARD
BEGIN:DAYLIGHT
TZOFFSETFROM:-0500
TZOFFSETTO:-0400
TZNAME:EDT
DTSTART:20240310T070000
END:DAYLIGHT
BEGIN:STANDARD
TZOFFSETFROM:-0400
TZOFFSETTO:-0500
TZNAME:EST
DTSTART:20241103T060000
END:STANDARD
BEGIN:DAYLIGHT
TZOFFSETFROM:-0500
TZOFFSETTO:-0400
TZNAME:EDT
DTSTART:20250309T070000
END:DAYLIGHT
BEGIN:STANDARD
TZOFFSETFROM:-0400
TZOFFSETTO:-0500
TZNAME:EST
DTSTART:20251102T060000
END:STANDARD
END:VTIMEZONE
BEGIN:VEVENT
DTSTART;TZID=America/New_York:20240719T120000
DTEND;TZID=America/New_York:20240719T130000
DTSTAMP:20260421T120805
CREATED:20240618T103943Z
LAST-MODIFIED:20240705T192006Z
UID:10766-1721390400-1721394000@artsconnectva.org
SUMMARY:Clay Bird Feeders with Camille Donne
DESCRIPTION:View Flyer
URL:https://artsconnectva.org/event/clay-bird-feeders-with-camille-donne/
LOCATION:VA
CATEGORIES:Open to the Public,Outreach Program
END:VEVENT
BEGIN:VEVENT
DTSTART;TZID=America/New_York:20240719T140000
DTEND;TZID=America/New_York:20240719T150000
DTSTAMP:20260421T120805
CREATED:20240605T171509Z
LAST-MODIFIED:20240614T171316Z
UID:10698-1721397600-1721401200@artsconnectva.org
SUMMARY:Wildflower Lanterns with Stephanie Slate
DESCRIPTION:
URL:https://artsconnectva.org/event/wildflower-lanterns-with-stephanie-slate/
LOCATION:VA
CATEGORIES:Outreach Program
END:VEVENT
BEGIN:VEVENT
DTSTART;TZID=America/New_York:20240719T140000
DTEND;TZID=America/New_York:20240719T150000
DTSTAMP:20260421T120805
CREATED:20240627T132226Z
LAST-MODIFIED:20240705T194328Z
UID:10949-1721397600-1721401200@artsconnectva.org
SUMMARY:Finger Painting with Susan Owens
DESCRIPTION:Residents are putting their paintbrushes aside for this creative program aimed to bring some child-like fun into the art making space!
URL:https://artsconnectva.org/event/finger-painting-with-susan-owens/
LOCATION:VA
CATEGORIES:Outreach Program
END:VEVENT
BEGIN:VEVENT
DTSTART;TZID=America/New_York:20240719T150000
DTEND;TZID=America/New_York:20240719T160000
DTSTAMP:20260421T120805
CREATED:20240620T162556Z
LAST-MODIFIED:20240620T162556Z
UID:10854-1721401200-1721404800@artsconnectva.org
SUMMARY:Sing-Along Hits of 50's & 60's with Adrienne and Bernie
DESCRIPTION:
URL:https://artsconnectva.org/event/sing-along-hits-of-50s-60s-with-adrienne-and-bernie/
LOCATION:VA
CATEGORIES:Outreach Program
END:VEVENT
BEGIN:VEVENT
DTSTART;TZID=America/New_York:20240721T140000
DTEND;TZID=America/New_York:20240721T150000
DTSTAMP:20260421T120805
CREATED:20240416T174407Z
LAST-MODIFIED:20240416T174407Z
UID:10384-1721570400-1721574000@artsconnectva.org
SUMMARY:Sunday Social with Dan Smith
DESCRIPTION:Enjoy live performance of popular music from the 1940s\, 1950s and 1960s featuring big band\, classic country\, Elvis Presley\, Pat Boone\, and other icons of the era. Performances feature vocals with electronic keyboard and saxophone.
URL:https://artsconnectva.org/event/sunday-social-with-dan-smith-4/
LOCATION:VA
CATEGORIES:Outreach Program
END:VEVENT
BEGIN:VEVENT
DTSTART;TZID=America/New_York:20240722T130000
DTEND;TZID=America/New_York:20240722T140000
DTSTAMP:20260421T120805
CREATED:20240618T105635Z
LAST-MODIFIED:20240618T105635Z
UID:10772-1721653200-1721656800@artsconnectva.org
SUMMARY:Pop Song Sing-Along with Melissa Cartwright
DESCRIPTION:View Flyer
URL:https://artsconnectva.org/event/pop-song-sing-along-with-melissa-cartwright-3/
LOCATION:VA
CATEGORIES:Outreach Program
END:VEVENT
BEGIN:VEVENT
DTSTART;TZID=America/New_York:20240722T130000
DTEND;TZID=America/New_York:20240722T140000
DTSTAMP:20260421T120806
CREATED:20240618T112314Z
LAST-MODIFIED:20240618T112314Z
UID:10778-1721653200-1721656800@artsconnectva.org
SUMMARY:Acrylic Paint Pour with Vanessa Golson
DESCRIPTION:View Flyer
URL:https://artsconnectva.org/event/acrylic-paint-pour-with-vanessa-golson-31/
LOCATION:VA
CATEGORIES:Outreach Program
END:VEVENT
BEGIN:VEVENT
DTSTART;TZID=America/New_York:20240722T140000
DTEND;TZID=America/New_York:20240722T150000
DTSTAMP:20260421T120806
CREATED:20240621T170442Z
LAST-MODIFIED:20240621T170442Z
UID:10861-1721656800-1721660400@artsconnectva.org
SUMMARY:Improv and Poetry with Leila Stephanie
DESCRIPTION:
URL:https://artsconnectva.org/event/improv-and-poetry-with-leila-stephanie/
LOCATION:VA
CATEGORIES:Outreach Program
END:VEVENT
BEGIN:VEVENT
DTSTART;TZID=America/New_York:20240722T140000
DTEND;TZID=America/New_York:20240722T150000
DTSTAMP:20260421T120806
CREATED:20240708T173956Z
LAST-MODIFIED:20240708T173956Z
UID:11055-1721656800-1721660400@artsconnectva.org
SUMMARY:Trumpet Tunes with Chad McGill
DESCRIPTION:
URL:https://artsconnectva.org/event/trumpet-tunes-with-chad-mcgill-18/
LOCATION:VA
CATEGORIES:Outreach Program
END:VEVENT
BEGIN:VEVENT
DTSTART;TZID=America/New_York:20240722T153000
DTEND;TZID=America/New_York:20240722T163000
DTSTAMP:20260421T120806
CREATED:20240618T111647Z
LAST-MODIFIED:20240618T111647Z
UID:10775-1721662200-1721665800@artsconnectva.org
SUMMARY:Radio Hits Reimagined with Melissa Cartwright
DESCRIPTION:View Flyer
URL:https://artsconnectva.org/event/radio-hits-reimagined-with-melissa-cartwright/
LOCATION:VA
CATEGORIES:Outreach Program
END:VEVENT
BEGIN:VEVENT
DTSTART;TZID=America/New_York:20240723T130000
DTEND;TZID=America/New_York:20240723T140000
DTSTAMP:20260421T120806
CREATED:20240411T152332Z
LAST-MODIFIED:20240705T201203Z
UID:10338-1721739600-1721743200@artsconnectva.org
SUMMARY:Singing and Smiling with David Jones and Ron Vinson
DESCRIPTION:David and Ron’s sole objective is to interact with the audience via talking and singing with them and most important putting a “Smile” on their Face!
URL:https://artsconnectva.org/event/singing-and-smiling-with-david-jones-and-ron-vincent/
LOCATION:VA
CATEGORIES:Outreach Program
END:VEVENT
BEGIN:VEVENT
DTSTART;TZID=America/New_York:20240723T133000
DTEND;TZID=America/New_York:20240723T143000
DTSTAMP:20260421T120806
CREATED:20240422T183112Z
LAST-MODIFIED:20240422T183112Z
UID:10463-1721741400-1721745000@artsconnectva.org
SUMMARY:Keep the Beat Social with Chad McGill
DESCRIPTION:Join Chad as he plays a variety of music on the trumpet! From light jazz to The Beatles\, you will find his music has something for everyone!
URL:https://artsconnectva.org/event/keep-the-beat-social-with-chad-mcgill-3/
LOCATION:VA
CATEGORIES:Outreach Program
END:VEVENT
BEGIN:VEVENT
DTSTART;TZID=America/New_York:20240723T140000
DTEND;TZID=America/New_York:20240723T150000
DTSTAMP:20260421T120806
CREATED:20240627T131901Z
LAST-MODIFIED:20240627T131901Z
UID:10945-1721743200-1721746800@artsconnectva.org
SUMMARY:Acrylic Paint Pour with Vanessa Golson
DESCRIPTION:
URL:https://artsconnectva.org/event/acrylic-paint-pour-with-vanessa-golson-35/
LOCATION:VA
CATEGORIES:Outreach Program
END:VEVENT
BEGIN:VEVENT
DTSTART;TZID=America/New_York:20240723T143000
DTEND;TZID=America/New_York:20240723T153000
DTSTAMP:20260421T120806
CREATED:20240627T131822Z
LAST-MODIFIED:20240627T131822Z
UID:10943-1721745000-1721748600@artsconnectva.org
SUMMARY:Strummin' and Pickin' with Ted and Eric
DESCRIPTION:
URL:https://artsconnectva.org/event/strummin-and-pickin-with-ted-and-eric-13/
LOCATION:VA
CATEGORIES:Outreach Program
END:VEVENT
BEGIN:VEVENT
DTSTART;TZID=America/New_York:20240723T170000
DTEND;TZID=America/New_York:20240723T180000
DTSTAMP:20260421T120806
CREATED:20240627T131738Z
LAST-MODIFIED:20240627T131738Z
UID:10941-1721754000-1721757600@artsconnectva.org
SUMMARY:Mentalism & Magic with Sean McKenzie
DESCRIPTION:
URL:https://artsconnectva.org/event/mentalism-magic-with-sean-mckenzie/
LOCATION:VA
CATEGORIES:Outreach Program
END:VEVENT
BEGIN:VEVENT
DTSTART;TZID=America/New_York:20240724T101500
DTEND;TZID=America/New_York:20240724T113000
DTSTAMP:20260421T120806
CREATED:20240708T175421Z
LAST-MODIFIED:20240708T175421Z
UID:11059-1721816100-1721820600@artsconnectva.org
SUMMARY:Music\, Motown\, & More with Richard Mekdeci
DESCRIPTION:
URL:https://artsconnectva.org/event/music-motown-more-with-richard-mekdeci/
LOCATION:VA
CATEGORIES:Outreach Program
END:VEVENT
BEGIN:VEVENT
DTSTART;TZID=America/New_York:20240724T103000
DTEND;TZID=America/New_York:20240724T113000
DTSTAMP:20260421T120806
CREATED:20240627T131555Z
LAST-MODIFIED:20240627T131555Z
UID:10937-1721817000-1721820600@artsconnectva.org
SUMMARY:Wildflower Collage with Susan Owens
DESCRIPTION:
URL:https://artsconnectva.org/event/wildflower-collage-with-susan-owens-2/
LOCATION:VA
CATEGORIES:Outreach Program
END:VEVENT
BEGIN:VEVENT
DTSTART;TZID=America/New_York:20240724T103000
DTEND;TZID=America/New_York:20240724T113000
DTSTAMP:20260421T120806
CREATED:20240627T131649Z
LAST-MODIFIED:20240627T131649Z
UID:10939-1721817000-1721820600@artsconnectva.org
SUMMARY:Acrylic Paint Pour with Vanessa Golson
DESCRIPTION:
URL:https://artsconnectva.org/event/acrylic-paint-pour-with-vanessa-golson-34/
LOCATION:VA
CATEGORIES:Outreach Program
END:VEVENT
BEGIN:VEVENT
DTSTART;TZID=America/New_York:20240724T120000
DTEND;TZID=America/New_York:20240724T130000
DTSTAMP:20260421T120806
CREATED:20240627T131456Z
LAST-MODIFIED:20240705T201555Z
UID:10935-1721822400-1721826000@artsconnectva.org
SUMMARY:Famous Hits! with Cory Laser
DESCRIPTION:Come enjoy listening to popular hits from the 50s\, 60s and 70s! Feel free to sing along or get up and dance! \nPlease call 757-382-6411 to reserve your spot!
URL:https://artsconnectva.org/event/famous-hits-with-cory-laser-18/
LOCATION:Rokeby Senior Center\, 1709 Rokeby Ave\, Chesapeake\, VA\, 23320\, United States
CATEGORIES:Open to the Public,Outreach Program
END:VEVENT
BEGIN:VEVENT
DTSTART;TZID=America/New_York:20240724T140000
DTEND;TZID=America/New_York:20240724T150000
DTSTAMP:20260421T120806
CREATED:20240620T161829Z
LAST-MODIFIED:20240620T161829Z
UID:10841-1721829600-1721833200@artsconnectva.org
SUMMARY:Favorite Hits with Art Rowe
DESCRIPTION:View Flyer
URL:https://artsconnectva.org/event/favorite-hits-with-art-rowe/
LOCATION:VA
CATEGORIES:Outreach Program
END:VEVENT
BEGIN:VEVENT
DTSTART;TZID=America/New_York:20240725T130000
DTEND;TZID=America/New_York:20240725T140000
DTSTAMP:20260421T120806
CREATED:20240618T193444Z
LAST-MODIFIED:20240618T193444Z
UID:10812-1721912400-1721916000@artsconnectva.org
SUMMARY:Acrylic Paint Pour with Vanessa Golson
DESCRIPTION:View Flyer
URL:https://artsconnectva.org/event/acrylic-paint-pour-with-vanessa-golson-32/
LOCATION:VA
CATEGORIES:Outreach Program
END:VEVENT
BEGIN:VEVENT
DTSTART;TZID=America/New_York:20240726T140000
DTEND;TZID=America/New_York:20240726T150000
DTSTAMP:20260421T120806
CREATED:20240621T170836Z
LAST-MODIFIED:20240621T170836Z
UID:10863-1722002400-1722006000@artsconnectva.org
SUMMARY:Music\, Motown\, and More with Richard Mekdeci
DESCRIPTION:
URL:https://artsconnectva.org/event/music-motown-and-more-with-richard-mekdeci-36/
LOCATION:VA
CATEGORIES:Outreach Program
END:VEVENT
BEGIN:VEVENT
DTSTART;TZID=America/New_York:20240726T140000
DTEND;TZID=America/New_York:20240726T150000
DTSTAMP:20260421T120806
CREATED:20240627T131248Z
LAST-MODIFIED:20240627T131248Z
UID:10929-1722002400-1722006000@artsconnectva.org
SUMMARY:Happy Hour with Tina & Jim
DESCRIPTION:
URL:https://artsconnectva.org/event/happy-hour-with-tina-jim/
LOCATION:VA
CATEGORIES:Outreach Program
END:VEVENT
BEGIN:VEVENT
DTSTART;TZID=America/New_York:20240726T140000
DTEND;TZID=America/New_York:20240726T150000
DTSTAMP:20260421T120806
CREATED:20240627T131329Z
LAST-MODIFIED:20240627T131329Z
UID:10931-1722002400-1722006000@artsconnectva.org
SUMMARY:Old Time Favorites with Tom\, Rose\, & Preston
DESCRIPTION:
URL:https://artsconnectva.org/event/old-time-favorites-with-tom-rose-preston/
LOCATION:VA
CATEGORIES:Outreach Program
END:VEVENT
BEGIN:VEVENT
DTSTART;TZID=America/New_York:20240726T140000
DTEND;TZID=America/New_York:20240726T150000
DTSTAMP:20260421T120806
CREATED:20240627T131417Z
LAST-MODIFIED:20240627T131417Z
UID:10933-1722002400-1722006000@artsconnectva.org
SUMMARY:Ribbon Paint Pour with Vanessa Golson
DESCRIPTION:
URL:https://artsconnectva.org/event/ribbon-paint-pour-with-vanessa-golson-2/
LOCATION:VA
CATEGORIES:Outreach Program
END:VEVENT
BEGIN:VEVENT
DTSTART;TZID=America/New_York:20240726T150000
DTEND;TZID=America/New_York:20240726T160000
DTSTAMP:20260421T120806
CREATED:20240624T152705Z
LAST-MODIFIED:20240624T152705Z
UID:10875-1722006000-1722009600@artsconnectva.org
SUMMARY:Best of Yesteryear with Mike Finn
DESCRIPTION:
URL:https://artsconnectva.org/event/best-of-yesteryear-with-mike-finn-42/
LOCATION:VA
CATEGORIES:Outreach Program
END:VEVENT
BEGIN:VEVENT
DTSTART;TZID=America/New_York:20240727T140000
DTEND;TZID=America/New_York:20240727T150000
DTSTAMP:20260421T120806
CREATED:20240618T113802Z
LAST-MODIFIED:20240705T202247Z
UID:10781-1722088800-1722092400@artsconnectva.org
SUMMARY:Golden Oldies with Ava Stevenson
DESCRIPTION:View Flyer
URL:https://artsconnectva.org/event/golden-oldies-with-ava-stevenson/
LOCATION:Hampton Public Library\, 4207 Victoria Blvd\, Hampton\, VA\, 23669\, United States
CATEGORIES:Open to the Public,Outreach Program
END:VEVENT
BEGIN:VEVENT
DTSTART;TZID=America/New_York:20240727T140000
DTEND;TZID=America/New_York:20240727T150000
DTSTAMP:20260421T120806
CREATED:20240627T131201Z
LAST-MODIFIED:20240627T131201Z
UID:10927-1722088800-1722092400@artsconnectva.org
SUMMARY:Flower Arrangements with Delresa White
DESCRIPTION:
URL:https://artsconnectva.org/event/flower-arrangements-with-delresa-white/
LOCATION:VA
CATEGORIES:Outreach Program
END:VEVENT
BEGIN:VEVENT
DTSTART;TZID=America/New_York:20240729T103000
DTEND;TZID=America/New_York:20240729T113000
DTSTAMP:20260421T120806
CREATED:20240708T155321Z
LAST-MODIFIED:20240708T155321Z
UID:11048-1722249000-1722252600@artsconnectva.org
SUMMARY:Acrylic Paint Pour with Vanessa Golson
DESCRIPTION:
URL:https://artsconnectva.org/event/acrylic-paint-pour-with-vanessa-golson-39/
LOCATION:VA
CATEGORIES:Outreach Program
END:VEVENT
BEGIN:VEVENT
DTSTART;TZID=America/New_York:20240729T104500
DTEND;TZID=America/New_York:20240729T114500
DTSTAMP:20260421T120806
CREATED:20240715T110227Z
LAST-MODIFIED:20240715T110227Z
UID:11062-1722249900-1722253500@artsconnectva.org
SUMMARY:Light In a Bottle with Rhona Dawson
DESCRIPTION:
URL:https://artsconnectva.org/event/light-in-a-bottle-with-rhona-dawson/
LOCATION:VA
CATEGORIES:Outreach Program
END:VEVENT
END:VCALENDAR