BEGIN:VCALENDAR
VERSION:2.0
PRODID:-//ArtsConnect Virginia - ECPv6.15.20//NONSGML v1.0//EN
CALSCALE:GREGORIAN
METHOD:PUBLISH
X-WR-CALNAME:ArtsConnect Virginia
X-ORIGINAL-URL:https://artsconnectva.org
X-WR-CALDESC:Events for ArtsConnect Virginia
REFRESH-INTERVAL;VALUE=DURATION:PT1H
X-Robots-Tag:noindex
X-PUBLISHED-TTL:PT1H
BEGIN:VTIMEZONE
TZID:America/New_York
BEGIN:DAYLIGHT
TZOFFSETFROM:-0500
TZOFFSETTO:-0400
TZNAME:EDT
DTSTART:20230312T070000
END:DAYLIGHT
BEGIN:STANDARD
TZOFFSETFROM:-0400
TZOFFSETTO:-0500
TZNAME:EST
DTSTART:20231105T060000
END:STANDARD
BEGIN:DAYLIGHT
TZOFFSETFROM:-0500
TZOFFSETTO:-0400
TZNAME:EDT
DTSTART:20240310T070000
END:DAYLIGHT
BEGIN:STANDARD
TZOFFSETFROM:-0400
TZOFFSETTO:-0500
TZNAME:EST
DTSTART:20241103T060000
END:STANDARD
BEGIN:DAYLIGHT
TZOFFSETFROM:-0500
TZOFFSETTO:-0400
TZNAME:EDT
DTSTART:20250309T070000
END:DAYLIGHT
BEGIN:STANDARD
TZOFFSETFROM:-0400
TZOFFSETTO:-0500
TZNAME:EST
DTSTART:20251102T060000
END:STANDARD
END:VTIMEZONE
BEGIN:VEVENT
DTSTART;TZID=America/New_York:20240613T143000
DTEND;TZID=America/New_York:20240613T153000
DTSTAMP:20260421T163510
CREATED:20240523T143310Z
LAST-MODIFIED:20240523T143310Z
UID:10638-1718289000-1718292600@artsconnectva.org
SUMMARY:Beach Vibes with Art Rowe
DESCRIPTION:2024.06.13 York Nursing
URL:https://artsconnectva.org/event/beach-vibes-with-art-rowe/
LOCATION:VA
CATEGORIES:Outreach Program
END:VEVENT
BEGIN:VEVENT
DTSTART;TZID=America/New_York:20240614T103000
DTEND;TZID=America/New_York:20240614T113000
DTSTAMP:20260421T163510
CREATED:20240506T184655Z
LAST-MODIFIED:20240506T184655Z
UID:10575-1718361000-1718364600@artsconnectva.org
SUMMARY:Bottle Wall Opener with Rhona Dawson
DESCRIPTION:View Flyer
URL:https://artsconnectva.org/event/bottle-wall-opener-with-rhona-dawson/
LOCATION:VA
CATEGORIES:Outreach Program
END:VEVENT
BEGIN:VEVENT
DTSTART;TZID=America/New_York:20240614T110000
DTEND;TZID=America/New_York:20240614T120000
DTSTAMP:20260421T163510
CREATED:20240604T184649Z
LAST-MODIFIED:20240604T184649Z
UID:10672-1718362800-1718366400@artsconnectva.org
SUMMARY:All of the Favorites with Cory Laser
DESCRIPTION:
URL:https://artsconnectva.org/event/all-of-the-favorites-with-cory-laser-5/
LOCATION:VA
CATEGORIES:Outreach Program
END:VEVENT
BEGIN:VEVENT
DTSTART;TZID=America/New_York:20240614T140000
DTEND;TZID=America/New_York:20240614T150000
DTSTAMP:20260421T163510
CREATED:20240405T143127Z
LAST-MODIFIED:20240405T143127Z
UID:10308-1718373600-1718377200@artsconnectva.org
SUMMARY:TAO: Happy Hour with Tina and Jim
DESCRIPTION:Tina and Jim provide interactive singalongs with favorites including jazz standards\, acoustic favorites\, and even some show tunes!
URL:https://artsconnectva.org/event/tao-happy-hour-with-tina-and-jim/
LOCATION:VA
CATEGORIES:Outreach Program
END:VEVENT
BEGIN:VEVENT
DTSTART;TZID=America/New_York:20240614T140000
DTEND;TZID=America/New_York:20240614T150000
DTSTAMP:20260421T163510
CREATED:20240523T161730Z
LAST-MODIFIED:20240523T161730Z
UID:10658-1718373600-1718377200@artsconnectva.org
SUMMARY:All the Favorites with Adrienne & Jamie
DESCRIPTION:View Flyer
URL:https://artsconnectva.org/event/all-the-favorites-with-adrienne-jamie/
LOCATION:VA
CATEGORIES:Outreach Program
END:VEVENT
BEGIN:VEVENT
DTSTART;TZID=America/New_York:20240614T150000
DTEND;TZID=America/New_York:20240614T160000
DTSTAMP:20260421T163510
CREATED:20240506T183133Z
LAST-MODIFIED:20240506T183133Z
UID:10571-1718377200-1718380800@artsconnectva.org
SUMMARY:Oldies and Goodies with Karen Stowe
DESCRIPTION:Enjoy all your favorite songs played on the harp by Karen Stowe!
URL:https://artsconnectva.org/event/oldies-and-goodies-with-karen-stowe/
LOCATION:VA
CATEGORIES:Outreach Program
END:VEVENT
BEGIN:VEVENT
DTSTART;TZID=America/New_York:20240614T150000
DTEND;TZID=America/New_York:20240614T170000
DTSTAMP:20260421T163510
CREATED:20240523T155639Z
LAST-MODIFIED:20240523T155639Z
UID:10655-1718377200-1718384400@artsconnectva.org
SUMMARY:All American BBQ Pool Party with Tom\, Rose\, and Preston
DESCRIPTION:View Flyer
URL:https://artsconnectva.org/event/all-american-bbq-pool-party-with-tom-rose-and-preston/
LOCATION:VA
CATEGORIES:Outreach Program
END:VEVENT
BEGIN:VEVENT
DTSTART;TZID=America/New_York:20240614T173000
DTEND;TZID=America/New_York:20240614T183000
DTSTAMP:20260421T163510
CREATED:20240604T183844Z
LAST-MODIFIED:20240604T183844Z
UID:10670-1718386200-1718389800@artsconnectva.org
SUMMARY:Awesome Autistic Adults Art Program with Village Studio Arts
DESCRIPTION:
URL:https://artsconnectva.org/event/awesome-autistic-adults-art-program-with-village-studio-arts/
LOCATION:VA
CATEGORIES:Outreach Program
END:VEVENT
BEGIN:VEVENT
DTSTART;TZID=America/New_York:20240615T140000
DTEND;TZID=America/New_York:20240615T150000
DTSTAMP:20260421T163510
CREATED:20240523T144629Z
LAST-MODIFIED:20240523T144629Z
UID:10641-1718460000-1718463600@artsconnectva.org
SUMMARY:Trumpet Tunes with Chad McGill
DESCRIPTION:View Flyer
URL:https://artsconnectva.org/event/trumpet-tunes-with-chad-mcgill-16/
LOCATION:VA
CATEGORIES:Open to the Public
END:VEVENT
BEGIN:VEVENT
DTSTART;TZID=America/New_York:20240616T140000
DTEND;TZID=America/New_York:20240616T150000
DTSTAMP:20260421T163510
CREATED:20240327T185419Z
LAST-MODIFIED:20240327T185419Z
UID:10132-1718546400-1718550000@artsconnectva.org
SUMMARY:Sunday Social with Tidewater Bluegrass Revival
DESCRIPTION:Tidewater Bluegrass Revival is a 5-person band focusing on bluegrass music that will be sure to get feet moving and heads swaying! The group features a fiddle\, guitar\, mandolin\, banjo\, and bass. \n 
URL:https://artsconnectva.org/event/sunday-social-with-tidewater-bluegrass-revival-3/
LOCATION:VA
CATEGORIES:Outreach Program
END:VEVENT
BEGIN:VEVENT
DTSTART;TZID=America/New_York:20240616T140000
DTEND;TZID=America/New_York:20240616T150000
DTSTAMP:20260421T163510
CREATED:20240422T181733Z
LAST-MODIFIED:20240422T181733Z
UID:10455-1718546400-1718550000@artsconnectva.org
SUMMARY:Sunday Social with Adrienne and Jamie
DESCRIPTION:Join Adrienne and Jamie as they play some throwback tunes!
URL:https://artsconnectva.org/event/sunday-social-with-adrienne-and-jamie-2/
LOCATION:VA
CATEGORIES:Outreach Program
END:VEVENT
BEGIN:VEVENT
DTSTART;TZID=America/New_York:20240616T140000
DTEND;TZID=America/New_York:20240616T150000
DTSTAMP:20260421T163510
CREATED:20240502T232136Z
LAST-MODIFIED:20240502T232136Z
UID:10557-1718546400-1718550000@artsconnectva.org
SUMMARY:Father's Day with David Jacobs
DESCRIPTION:View Flyer
URL:https://artsconnectva.org/event/fathers-day-with-david-jacobs/
LOCATION:VA
CATEGORIES:Outreach Program
END:VEVENT
BEGIN:VEVENT
DTSTART;TZID=America/New_York:20240617T133000
DTEND;TZID=America/New_York:20240617T143000
DTSTAMP:20260421T163511
CREATED:20240605T141213Z
LAST-MODIFIED:20240605T141213Z
UID:10682-1718631000-1718634600@artsconnectva.org
SUMMARY:Jam Out with The Earthtones!
DESCRIPTION:View Flyer
URL:https://artsconnectva.org/event/jam-out-with-the-earthtones/
LOCATION:VA
CATEGORIES:Outreach Program
END:VEVENT
BEGIN:VEVENT
DTSTART;TZID=America/New_York:20240617T140000
DTEND;TZID=America/New_York:20240617T150000
DTSTAMP:20260421T163511
CREATED:20240605T135917Z
LAST-MODIFIED:20240605T135917Z
UID:10677-1718632800-1718636400@artsconnectva.org
SUMMARY:Father's Day Journal Art with Stephanie Slate
DESCRIPTION:
URL:https://artsconnectva.org/event/fathers-day-journal-art-with-stephanie-slate/
LOCATION:VA
CATEGORIES:Outreach Program
END:VEVENT
BEGIN:VEVENT
DTSTART;TZID=America/New_York:20240618T130000
DTEND;TZID=America/New_York:20240618T140000
DTSTAMP:20260421T163511
CREATED:20240327T183141Z
LAST-MODIFIED:20240327T183141Z
UID:10122-1718715600-1718719200@artsconnectva.org
SUMMARY:A Musical Potpourri with Karen Stowe
DESCRIPTION:Enjoy listening to beautiful harp music!
URL:https://artsconnectva.org/event/a-musical-potpourri-with-karen-stowe-11/
LOCATION:VA
CATEGORIES:Outreach Program
END:VEVENT
BEGIN:VEVENT
DTSTART;TZID=America/New_York:20240618T133000
DTEND;TZID=America/New_York:20240618T143000
DTSTAMP:20260421T163511
CREATED:20240327T211405Z
LAST-MODIFIED:20240327T211405Z
UID:10136-1718717400-1718721000@artsconnectva.org
SUMMARY:Keep the Beat Social with Chad McGill
DESCRIPTION:Join Chad as he plays a variety of music on the trumpet! From light jazz to The Beatles\, you will find his music has something for everyone!
URL:https://artsconnectva.org/event/keep-the-beat-social-with-chad-mcgill-2/
LOCATION:VA
CATEGORIES:Outreach Program
END:VEVENT
BEGIN:VEVENT
DTSTART;TZID=America/New_York:20240618T140000
DTEND;TZID=America/New_York:20240618T150000
DTSTAMP:20260421T163511
CREATED:20240506T190217Z
LAST-MODIFIED:20240506T190217Z
UID:10585-1718719200-1718722800@artsconnectva.org
SUMMARY:Throwbacks with Bryan Martin
DESCRIPTION:Join Bryan for all of these fun sing-a-longs from the 60s -2000s. Bryan will be singing country\, rock\, bluegrass and spirituals!
URL:https://artsconnectva.org/event/throwbacks-with-bryan-martin-9/
LOCATION:VA
CATEGORIES:Outreach Program
END:VEVENT
BEGIN:VEVENT
DTSTART;TZID=America/New_York:20240618T140000
DTEND;TZID=America/New_York:20240618T150000
DTSTAMP:20260421T163511
CREATED:20240605T142056Z
LAST-MODIFIED:20240605T142056Z
UID:10685-1718719200-1718722800@artsconnectva.org
SUMMARY:Violin Serenade with Alex Marlins
DESCRIPTION:
URL:https://artsconnectva.org/event/violin-serenade-with-alex-marlins-19/
LOCATION:VA
CATEGORIES:Outreach Program
END:VEVENT
BEGIN:VEVENT
DTSTART;TZID=America/New_York:20240619T123000
DTEND;TZID=America/New_York:20240619T133000
DTSTAMP:20260421T163511
CREATED:20240606T014031Z
LAST-MODIFIED:20240606T014031Z
UID:10705-1718800200-1718803800@artsconnectva.org
SUMMARY:Watercolor Painting with Susan Owens
DESCRIPTION:
URL:https://artsconnectva.org/event/watercolor-painting-with-susan-owens/
LOCATION:VA
CATEGORIES:Outreach Program
END:VEVENT
BEGIN:VEVENT
DTSTART;TZID=America/New_York:20240619T140000
DTEND;TZID=America/New_York:20240619T150000
DTSTAMP:20260421T163511
CREATED:20240605T164148Z
LAST-MODIFIED:20240605T164148Z
UID:10689-1718805600-1718809200@artsconnectva.org
SUMMARY:Jazz Trumpet Tunes with Chad McGill
DESCRIPTION:View Flyer
URL:https://artsconnectva.org/event/jazz-trumpet-tunes-with-chad-mcgill-4/
LOCATION:VA
CATEGORIES:Outreach Program
END:VEVENT
BEGIN:VEVENT
DTSTART;TZID=America/New_York:20240620T140000
DTEND;TZID=America/New_York:20240620T150000
DTSTAMP:20260421T163511
CREATED:20240402T152647Z
LAST-MODIFIED:20240402T152647Z
UID:10172-1718892000-1718895600@artsconnectva.org
SUMMARY:A Musical Potpourri with Karen Stowe
DESCRIPTION:Enjoy this musical harp mix of mixed styles of music–classical\, movie tunes\, hymns\, crooners\, etc.! You’ll recognize some of these fun classics!
URL:https://artsconnectva.org/event/a-musical-potpourri-with-karen-stowe-12/
LOCATION:VA
CATEGORIES:Outreach Program
END:VEVENT
BEGIN:VEVENT
DTSTART;TZID=America/New_York:20240620T140000
DTEND;TZID=America/New_York:20240620T150000
DTSTAMP:20260421T163511
CREATED:20240605T164952Z
LAST-MODIFIED:20240605T164952Z
UID:10692-1718892000-1718895600@artsconnectva.org
SUMMARY:Jazz Trumpet Tunes with Chad McGill
DESCRIPTION:
URL:https://artsconnectva.org/event/jazz-trumpet-tunes-with-chad-mcgill-5/
LOCATION:VA
CATEGORIES:Outreach Program
END:VEVENT
BEGIN:VEVENT
DTSTART;TZID=America/New_York:20240621T110000
DTEND;TZID=America/New_York:20240621T120000
DTSTAMP:20260421T163511
CREATED:20240606T013958Z
LAST-MODIFIED:20240606T013958Z
UID:10702-1718967600-1718971200@artsconnectva.org
SUMMARY:Fairy Garden Craft with Susan Owens
DESCRIPTION:View Flyer
URL:https://artsconnectva.org/event/fairy-garden-craft-with-susan-owens/
LOCATION:VA
CATEGORIES:Outreach Program
END:VEVENT
BEGIN:VEVENT
DTSTART;TZID=America/New_York:20240621T123000
DTEND;TZID=America/New_York:20240621T133000
DTSTAMP:20260421T163511
CREATED:20240606T014503Z
LAST-MODIFIED:20240606T014503Z
UID:10707-1718973000-1718976600@artsconnectva.org
SUMMARY:Volunteer Celebration with Dan Smith
DESCRIPTION:
URL:https://artsconnectva.org/event/volunteer-celebration-with-dan-smith/
LOCATION:VA
CATEGORIES:Outreach Program
END:VEVENT
BEGIN:VEVENT
DTSTART;TZID=America/New_York:20240621T124500
DTEND;TZID=America/New_York:20240621T134500
DTSTAMP:20260421T163511
CREATED:20240418T150623Z
LAST-MODIFIED:20240418T150623Z
UID:10402-1718973900-1718977500@artsconnectva.org
SUMMARY:The Classics with Lyle and Linda Dowling
DESCRIPTION:View Flyer
URL:https://artsconnectva.org/event/the-classics-with-lyle-and-linda-dowling-5/
LOCATION:VA
CATEGORIES:Outreach Program
END:VEVENT
BEGIN:VEVENT
DTSTART;TZID=America/New_York:20240621T130000
DTEND;TZID=America/New_York:20240621T140000
DTSTAMP:20260421T163511
CREATED:20240605T142525Z
LAST-MODIFIED:20240605T142525Z
UID:10687-1718974800-1718978400@artsconnectva.org
SUMMARY:Alzheimer's Association Fundraiser with Richard Mekdeci
DESCRIPTION:
URL:https://artsconnectva.org/event/alzheimers-association-fundraiser-with-richard-mekdeci/
LOCATION:VA
CATEGORIES:Outreach Program
END:VEVENT
BEGIN:VEVENT
DTSTART;TZID=America/New_York:20240621T140000
DTEND;TZID=America/New_York:20240621T150000
DTSTAMP:20260421T163511
CREATED:20240506T185637Z
LAST-MODIFIED:20240506T185637Z
UID:10581-1718978400-1718982000@artsconnectva.org
SUMMARY:Hits of the 50s and 60s with Adrienne and Bernie
DESCRIPTION:View Flyer
URL:https://artsconnectva.org/event/hits-of-the-50s-and-60s-with-adrienne-and-bernie/
LOCATION:VA
CATEGORIES:Outreach Program
END:VEVENT
BEGIN:VEVENT
DTSTART;TZID=America/New_York:20240621T140000
DTEND;TZID=America/New_York:20240621T150000
DTSTAMP:20260421T163511
CREATED:20240605T140003Z
LAST-MODIFIED:20240605T140130Z
UID:10679-1718978400-1718982000@artsconnectva.org
SUMMARY:Motown\, Music\, and More with Richard Mekdeci
DESCRIPTION:
URL:https://artsconnectva.org/event/motown-musci-and-more-with-richard-mekdeci/
LOCATION:VA
CATEGORIES:Outreach Program
END:VEVENT
BEGIN:VEVENT
DTSTART;TZID=America/New_York:20240621T143000
DTEND;TZID=America/New_York:20240621T153000
DTSTAMP:20260421T163511
CREATED:20240430T151020Z
LAST-MODIFIED:20240430T151020Z
UID:10517-1718980200-1718983800@artsconnectva.org
SUMMARY:Beach Bash with Mike Finn
DESCRIPTION:Join in the fun and bring back fond memories with Mike’s engaging mix of mellow rock classics and sing-along oldies.
URL:https://artsconnectva.org/event/beach-bash-with-mike-finn/
LOCATION:VA
CATEGORIES:Outreach Program
END:VEVENT
BEGIN:VEVENT
DTSTART;TZID=America/New_York:20240622T140000
DTEND;TZID=America/New_York:20240622T150000
DTSTAMP:20260421T163511
CREATED:20240607T133858Z
LAST-MODIFIED:20240607T133858Z
UID:10740-1719064800-1719068400@artsconnectva.org
SUMMARY:Red\, White\, and Blue Art with Delresa
DESCRIPTION:
URL:https://artsconnectva.org/event/red-white-and-blue-art-with-delresa/
LOCATION:VA
CATEGORIES:Outreach Program
END:VEVENT
END:VCALENDAR