BEGIN:VCALENDAR
VERSION:2.0
PRODID:-//ArtsConnect Virginia - ECPv6.15.20//NONSGML v1.0//EN
CALSCALE:GREGORIAN
METHOD:PUBLISH
X-WR-CALNAME:ArtsConnect Virginia
X-ORIGINAL-URL:https://artsconnectva.org
X-WR-CALDESC:Events for ArtsConnect Virginia
REFRESH-INTERVAL;VALUE=DURATION:PT1H
X-Robots-Tag:noindex
X-PUBLISHED-TTL:PT1H
BEGIN:VTIMEZONE
TZID:America/New_York
BEGIN:DAYLIGHT
TZOFFSETFROM:-0500
TZOFFSETTO:-0400
TZNAME:EDT
DTSTART:20240310T070000
END:DAYLIGHT
BEGIN:STANDARD
TZOFFSETFROM:-0400
TZOFFSETTO:-0500
TZNAME:EST
DTSTART:20241103T060000
END:STANDARD
BEGIN:DAYLIGHT
TZOFFSETFROM:-0500
TZOFFSETTO:-0400
TZNAME:EDT
DTSTART:20250309T070000
END:DAYLIGHT
BEGIN:STANDARD
TZOFFSETFROM:-0400
TZOFFSETTO:-0500
TZNAME:EST
DTSTART:20251102T060000
END:STANDARD
BEGIN:DAYLIGHT
TZOFFSETFROM:-0500
TZOFFSETTO:-0400
TZNAME:EDT
DTSTART:20260308T070000
END:DAYLIGHT
BEGIN:STANDARD
TZOFFSETFROM:-0400
TZOFFSETTO:-0500
TZNAME:EST
DTSTART:20261101T060000
END:STANDARD
END:VTIMEZONE
BEGIN:VEVENT
DTSTART;TZID=America/New_York:20250128T133000
DTEND;TZID=America/New_York:20250128T143000
DTSTAMP:20260419T225053
CREATED:20241126T175446Z
LAST-MODIFIED:20241126T175446Z
UID:12618-1738071000-1738074600@artsconnectva.org
SUMMARY:Keep the Beat Social with Ascension Melodies
DESCRIPTION:
URL:https://artsconnectva.org/event/keep-the-beat-social-with-ascension-melodies-2/
LOCATION:VA
CATEGORIES:Outreach Program
END:VEVENT
BEGIN:VEVENT
DTSTART;TZID=America/New_York:20250127T130000
DTEND;TZID=America/New_York:20250127T140000
DTSTAMP:20260419T225053
CREATED:20241122T152251Z
LAST-MODIFIED:20241122T152251Z
UID:12572-1737982800-1737986400@artsconnectva.org
SUMMARY:Favorite Throwbacks with Art Rowe
DESCRIPTION:
URL:https://artsconnectva.org/event/favorite-throwbacks-with-art-rowe-23/
LOCATION:VA
CATEGORIES:Outreach Program
END:VEVENT
BEGIN:VEVENT
DTSTART;TZID=America/New_York:20250127T104500
DTEND;TZID=America/New_York:20250127T114500
DTSTAMP:20260419T225053
CREATED:20250108T215028Z
LAST-MODIFIED:20250108T215028Z
UID:12813-1737974700-1737978300@artsconnectva.org
SUMMARY:Abstract Heart Painting with Stephanie Slate
DESCRIPTION:
URL:https://artsconnectva.org/event/abstract-heart-painting-with-stephanie-slate/
LOCATION:VA
CATEGORIES:Outreach Program
END:VEVENT
BEGIN:VEVENT
DTSTART;TZID=America/New_York:20250127T103000
DTEND;TZID=America/New_York:20250127T113000
DTSTAMP:20260419T225053
CREATED:20250108T214733Z
LAST-MODIFIED:20250108T214733Z
UID:12811-1737973800-1737977400@artsconnectva.org
SUMMARY:Valentine's Painted Bottles with Rhona Dawson
DESCRIPTION:
URL:https://artsconnectva.org/event/valentines-painted-bottles-with-rhona-dawson/
LOCATION:VA
CATEGORIES:Outreach Program
END:VEVENT
BEGIN:VEVENT
DTSTART;TZID=America/New_York:20250127T100000
DTEND;TZID=America/New_York:20250127T110000
DTSTAMP:20260419T225053
CREATED:20241224T165456Z
LAST-MODIFIED:20241224T165456Z
UID:12767-1737972000-1737975600@artsconnectva.org
SUMMARY:Pottery Class with Village Studio Arts
DESCRIPTION:The instructor will teach participants to create a piece of pottery in 1-hour class. The piece may be glazed as part of the hour or may be fired and glazed after the lesson. Completed pieces will be returned within 7-14 days.
URL:https://artsconnectva.org/event/pottery-class-with-village-studio-arts/
LOCATION:VA
CATEGORIES:Outreach Program
END:VEVENT
BEGIN:VEVENT
DTSTART;TZID=America/New_York:20250124T143000
DTEND;TZID=America/New_York:20250124T153000
DTSTAMP:20260419T225053
CREATED:20241220T165125Z
LAST-MODIFIED:20241220T165125Z
UID:12750-1737729000-1737732600@artsconnectva.org
SUMMARY:Winter Woods Painting with Maggie Kerrigan
DESCRIPTION:
URL:https://artsconnectva.org/event/winter-woods-painting-with-maggie-kerrigan/
LOCATION:VA
CATEGORIES:Outreach Program
END:VEVENT
BEGIN:VEVENT
DTSTART;TZID=America/New_York:20250124T140000
DTEND;TZID=America/New_York:20250124T150000
DTSTAMP:20260419T225053
CREATED:20241224T163046Z
LAST-MODIFIED:20241224T163046Z
UID:12762-1737727200-1737730800@artsconnectva.org
SUMMARY:Card Making with Sandy Kinchen
DESCRIPTION:Sandy guides participants through a card making activity for any season!
URL:https://artsconnectva.org/event/card-making-with-sandy-kinchen-4/
LOCATION:VA
CATEGORIES:Outreach Program
END:VEVENT
BEGIN:VEVENT
DTSTART;TZID=America/New_York:20250124T140000
DTEND;TZID=America/New_York:20250124T150000
DTSTAMP:20260419T225053
CREATED:20241218T220112Z
LAST-MODIFIED:20241218T220112Z
UID:12731-1737727200-1737730800@artsconnectva.org
SUMMARY:Fiddlin' and Pickin' with Tidewater Bluegrass Revival
DESCRIPTION:
URL:https://artsconnectva.org/event/fiddlin-and-pickin-with-tidewater-bluegrass-revival-13/
LOCATION:VA
CATEGORIES:Outreach Program
END:VEVENT
BEGIN:VEVENT
DTSTART;TZID=America/New_York:20250124T140000
DTEND;TZID=America/New_York:20250124T150000
DTSTAMP:20260419T225053
CREATED:20241122T151935Z
LAST-MODIFIED:20241122T151935Z
UID:12570-1737727200-1737730800@artsconnectva.org
SUMMARY:Melody Memories with Adrienne and Bernie
DESCRIPTION:
URL:https://artsconnectva.org/event/melody-memories-with-adrienne-and-bernie-2/
LOCATION:VA
CATEGORIES:Outreach Program
END:VEVENT
BEGIN:VEVENT
DTSTART;TZID=America/New_York:20250124T140000
DTEND;TZID=America/New_York:20250124T150000
DTSTAMP:20260419T225053
CREATED:20241121T153204Z
LAST-MODIFIED:20241216T173721Z
UID:12549-1737727200-1737730800@artsconnectva.org
SUMMARY:Golden Oldies with Ava & Bryan
DESCRIPTION:
URL:https://artsconnectva.org/event/golden-oldies-with-ava-stevenson-6/
LOCATION:VA
CATEGORIES:Outreach Program
END:VEVENT
BEGIN:VEVENT
DTSTART;TZID=America/New_York:20250124T130000
DTEND;TZID=America/New_York:20250124T140000
DTSTAMP:20260419T225053
CREATED:20250101T170023Z
LAST-MODIFIED:20250101T170023Z
UID:12784-1737723600-1737727200@artsconnectva.org
SUMMARY:Favorite Throwbacks with Art Rowe
DESCRIPTION:
URL:https://artsconnectva.org/event/favorite-throwbacks-with-art-rowe-27/
LOCATION:VA
CATEGORIES:Outreach Program
END:VEVENT
BEGIN:VEVENT
DTSTART;TZID=America/New_York:20250123T140000
DTEND;TZID=America/New_York:20250123T150000
DTSTAMP:20260419T225053
CREATED:20250110T152328Z
LAST-MODIFIED:20250110T152328Z
UID:12819-1737640800-1737644400@artsconnectva.org
SUMMARY:Piano Tunes with Christian Flores
DESCRIPTION:
URL:https://artsconnectva.org/event/piano-tunes-with-christian-flores-18/
LOCATION:VA
CATEGORIES:Outreach Program
END:VEVENT
BEGIN:VEVENT
DTSTART;TZID=America/New_York:20250123T130000
DTEND;TZID=America/New_York:20250123T140000
DTSTAMP:20260419T225053
CREATED:20250110T154123Z
LAST-MODIFIED:20250110T154123Z
UID:12825-1737637200-1737640800@artsconnectva.org
SUMMARY:Rock n' Roll with Mark Pettiford
DESCRIPTION:
URL:https://artsconnectva.org/event/rock-n-roll-with-mark-pettiford-16/
LOCATION:VA
CATEGORIES:Outreach Program
END:VEVENT
BEGIN:VEVENT
DTSTART;TZID=America/New_York:20250122T133000
DTEND;TZID=America/New_York:20250122T143000
DTSTAMP:20260419T225053
CREATED:20241218T173756Z
LAST-MODIFIED:20241218T173756Z
UID:12725-1737552600-1737556200@artsconnectva.org
SUMMARY:Piano Tunes with Christian Flores
DESCRIPTION:
URL:https://artsconnectva.org/event/piano-tunes-with-christian-flores-12/
LOCATION:VA
CATEGORIES:Outreach Program
END:VEVENT
BEGIN:VEVENT
DTSTART;TZID=America/New_York:20250122T130000
DTEND;TZID=America/New_York:20250122T140000
DTSTAMP:20260419T225053
CREATED:20241219T193405Z
LAST-MODIFIED:20241219T193405Z
UID:12737-1737550800-1737554400@artsconnectva.org
SUMMARY:Cardinal Wood Slice Craft with Stephanie Slate
DESCRIPTION:
URL:https://artsconnectva.org/event/cardinal-wood-slice-craft-with-stephanie-slate/
LOCATION:VA
CATEGORIES:Outreach Program
END:VEVENT
BEGIN:VEVENT
DTSTART;TZID=America/New_York:20250122T111500
DTEND;TZID=America/New_York:20250122T121500
DTSTAMP:20260419T225053
CREATED:20250108T214031Z
LAST-MODIFIED:20250108T214031Z
UID:12807-1737544500-1737548100@artsconnectva.org
SUMMARY:All the Favorites with Dan Smith
DESCRIPTION:
URL:https://artsconnectva.org/event/all-the-favorites-with-dan-smith-5/
LOCATION:VA
CATEGORIES:Outreach Program
END:VEVENT
BEGIN:VEVENT
DTSTART;TZID=America/New_York:20250121T140000
DTEND;TZID=America/New_York:20250121T150000
DTSTAMP:20260419T225053
CREATED:20250108T213000Z
LAST-MODIFIED:20250108T213000Z
UID:12801-1737468000-1737471600@artsconnectva.org
SUMMARY:Rock n' Roll with Mark Pettiford
DESCRIPTION:
URL:https://artsconnectva.org/event/rock-n-roll-with-mark-pettiford-15/
LOCATION:VA
CATEGORIES:Outreach Program
END:VEVENT
BEGIN:VEVENT
DTSTART;TZID=America/New_York:20250121T140000
DTEND;TZID=America/New_York:20250121T150000
DTSTAMP:20260419T225053
CREATED:20241224T161627Z
LAST-MODIFIED:20241224T161627Z
UID:12760-1737468000-1737471600@artsconnectva.org
SUMMARY:Musical Serenade with Ascension Melodies
DESCRIPTION:Lisa Villa (flute) and Rebecca Antonio (violin) joined together 15 years ago to create Ascension Melodies\, bring duets ranging from classical to more contemporary pieces.
URL:https://artsconnectva.org/event/musical-serenade-with-ascension-melodies-13/
LOCATION:VA
CATEGORIES:Outreach Program
END:VEVENT
BEGIN:VEVENT
DTSTART;TZID=America/New_York:20250121T133000
DTEND;TZID=America/New_York:20250121T143000
DTSTAMP:20260419T225053
CREATED:20250110T152037Z
LAST-MODIFIED:20250110T152037Z
UID:12817-1737466200-1737469800@artsconnectva.org
SUMMARY:Disco Tunes with Christian Flores
DESCRIPTION:
URL:https://artsconnectva.org/event/disco-tunes-with-christian-flores/
LOCATION:VA
CATEGORIES:Outreach Program
END:VEVENT
BEGIN:VEVENT
DTSTART;TZID=America/New_York:20250121T130000
DTEND;TZID=America/New_York:20250121T140000
DTSTAMP:20260419T225053
CREATED:20241220T164738Z
LAST-MODIFIED:20241220T164738Z
UID:12748-1737464400-1737468000@artsconnectva.org
SUMMARY:Snowman Board with Stephanie Slate
DESCRIPTION:
URL:https://artsconnectva.org/event/snowman-board-with-stephanie-slate/
LOCATION:VA
CATEGORIES:Outreach Program
END:VEVENT
BEGIN:VEVENT
DTSTART;TZID=America/New_York:20250121T110000
DTEND;TZID=America/New_York:20250121T120000
DTSTAMP:20260419T225053
CREATED:20250108T213424Z
LAST-MODIFIED:20250108T213424Z
UID:12803-1737457200-1737460800@artsconnectva.org
SUMMARY:Vision Boards with Amanda Wallace
DESCRIPTION:
URL:https://artsconnectva.org/event/vision-boards-with-amanda-wallace/
LOCATION:VA
CATEGORIES:Outreach Program
END:VEVENT
BEGIN:VEVENT
DTSTART;TZID=America/New_York:20250120T140000
DTEND;TZID=America/New_York:20250120T150000
DTSTAMP:20260419T225053
CREATED:20250108T212637Z
LAST-MODIFIED:20250108T212637Z
UID:12799-1737381600-1737385200@artsconnectva.org
SUMMARY:Art with David Duck
DESCRIPTION:
URL:https://artsconnectva.org/event/art-with-david-duck-2/
LOCATION:VA
CATEGORIES:Outreach Program
END:VEVENT
BEGIN:VEVENT
DTSTART;TZID=America/New_York:20250120T140000
DTEND;TZID=America/New_York:20250120T150000
DTSTAMP:20260419T225053
CREATED:20241121T155748Z
LAST-MODIFIED:20241121T155748Z
UID:12564-1737381600-1737385200@artsconnectva.org
SUMMARY:Snowman Sign with Stephanie Slate
DESCRIPTION:
URL:https://artsconnectva.org/event/snowman-sign-with-stephanie-slate/
LOCATION:VA
CATEGORIES:Outreach Program
END:VEVENT
BEGIN:VEVENT
DTSTART;TZID=America/New_York:20250118T150000
DTEND;TZID=America/New_York:20250118T160000
DTSTAMP:20260419T225053
CREATED:20241218T171248Z
LAST-MODIFIED:20241218T171248Z
UID:12713-1737212400-1737216000@artsconnectva.org
SUMMARY:Let's Jam with The Earthtones
DESCRIPTION:
URL:https://artsconnectva.org/event/lets-jam-with-the-earthtones-5/
LOCATION:VA
CATEGORIES:Outreach Program
END:VEVENT
BEGIN:VEVENT
DTSTART;TZID=America/New_York:20250118T120000
DTEND;TZID=America/New_York:20250118T130000
DTSTAMP:20260419T225053
CREATED:20250114T212717Z
LAST-MODIFIED:20250114T212717Z
UID:12861-1737201600-1737205200@artsconnectva.org
SUMMARY:Autism Society Tidewater hosts Vivian Davis
DESCRIPTION:
URL:https://artsconnectva.org/event/autism-society-tidewater-hosts-vivian-davis-2/
LOCATION:VA
CATEGORIES:Outreach Program
END:VEVENT
BEGIN:VEVENT
DTSTART;TZID=America/New_York:20250117T150000
DTEND;TZID=America/New_York:20250117T160000
DTSTAMP:20260419T225053
CREATED:20250102T165512Z
LAST-MODIFIED:20250102T165512Z
UID:12788-1737126000-1737129600@artsconnectva.org
SUMMARY:Strummin' and Pickin' with Ted and Eric
DESCRIPTION:
URL:https://artsconnectva.org/event/strummin-and-pickin-with-ted-and-eric-15/
LOCATION:VA
CATEGORIES:Outreach Program
END:VEVENT
BEGIN:VEVENT
DTSTART;TZID=America/New_York:20250117T140000
DTEND;TZID=America/New_York:20250117T150000
DTSTAMP:20260419T225053
CREATED:20250116T144141Z
LAST-MODIFIED:20250116T144141Z
UID:12890-1737122400-1737126000@artsconnectva.org
SUMMARY:Happy Hour with Art Rowe
DESCRIPTION:
URL:https://artsconnectva.org/event/happy-hour-with-art-rowe-2/
LOCATION:VA
CATEGORIES:Outreach Program
END:VEVENT
BEGIN:VEVENT
DTSTART;TZID=America/New_York:20250117T140000
DTEND;TZID=America/New_York:20250117T150000
DTSTAMP:20260419T225053
CREATED:20250101T165754Z
LAST-MODIFIED:20250101T165754Z
UID:12782-1737122400-1737126000@artsconnectva.org
SUMMARY:Rock n' Roll with Mark Pettiford
DESCRIPTION:
URL:https://artsconnectva.org/event/rock-n-roll-with-mark-pettiford-14/
LOCATION:VA
CATEGORIES:Outreach Program
END:VEVENT
BEGIN:VEVENT
DTSTART;TZID=America/New_York:20250117T140000
DTEND;TZID=America/New_York:20250117T150000
DTSTAMP:20260419T225053
CREATED:20241218T173112Z
LAST-MODIFIED:20241218T173112Z
UID:12723-1737122400-1737126000@artsconnectva.org
SUMMARY:Favorite Throwbacks with Bryan Martin
DESCRIPTION:
URL:https://artsconnectva.org/event/favorite-throwbacks-with-bryan-martin-7/
LOCATION:VA
CATEGORIES:Outreach Program
END:VEVENT
BEGIN:VEVENT
DTSTART;TZID=America/New_York:20250117T140000
DTEND;TZID=America/New_York:20250117T150000
DTSTAMP:20260419T225053
CREATED:20241218T165905Z
LAST-MODIFIED:20241218T165905Z
UID:12705-1737122400-1737126000@artsconnectva.org
SUMMARY:Cardinal Collage with Stephanie Slate
DESCRIPTION:
URL:https://artsconnectva.org/event/cardinal-collage-with-stephanie-slate/
LOCATION:VA
CATEGORIES:Outreach Program
END:VEVENT
END:VCALENDAR