BEGIN:VCALENDAR
VERSION:2.0
PRODID:-//ArtsConnect Virginia - ECPv6.15.20//NONSGML v1.0//EN
CALSCALE:GREGORIAN
METHOD:PUBLISH
X-WR-CALNAME:ArtsConnect Virginia
X-ORIGINAL-URL:https://artsconnectva.org
X-WR-CALDESC:Events for ArtsConnect Virginia
REFRESH-INTERVAL;VALUE=DURATION:PT1H
X-Robots-Tag:noindex
X-PUBLISHED-TTL:PT1H
BEGIN:VTIMEZONE
TZID:America/New_York
BEGIN:DAYLIGHT
TZOFFSETFROM:-0500
TZOFFSETTO:-0400
TZNAME:EDT
DTSTART:20230312T070000
END:DAYLIGHT
BEGIN:STANDARD
TZOFFSETFROM:-0400
TZOFFSETTO:-0500
TZNAME:EST
DTSTART:20231105T060000
END:STANDARD
BEGIN:DAYLIGHT
TZOFFSETFROM:-0500
TZOFFSETTO:-0400
TZNAME:EDT
DTSTART:20240310T070000
END:DAYLIGHT
BEGIN:STANDARD
TZOFFSETFROM:-0400
TZOFFSETTO:-0500
TZNAME:EST
DTSTART:20241103T060000
END:STANDARD
BEGIN:DAYLIGHT
TZOFFSETFROM:-0500
TZOFFSETTO:-0400
TZNAME:EDT
DTSTART:20250309T070000
END:DAYLIGHT
BEGIN:STANDARD
TZOFFSETFROM:-0400
TZOFFSETTO:-0500
TZNAME:EST
DTSTART:20251102T060000
END:STANDARD
END:VTIMEZONE
BEGIN:VEVENT
DTSTART;TZID=America/New_York:20240821T140000
DTEND;TZID=America/New_York:20240821T150000
DTSTAMP:20260419T225048
CREATED:20240805T192853Z
LAST-MODIFIED:20240805T192853Z
UID:11480-1724248800-1724252400@artsconnectva.org
SUMMARY:Mentalism & Magic with Sean McKenzie
DESCRIPTION:
URL:https://artsconnectva.org/event/mentalism-magic-with-sean-mckenzie-2/
LOCATION:VA
CATEGORIES:Outreach Program
END:VEVENT
BEGIN:VEVENT
DTSTART;TZID=America/New_York:20240821T140000
DTEND;TZID=America/New_York:20240821T150000
DTSTAMP:20260419T225048
CREATED:20240805T191100Z
LAST-MODIFIED:20240805T191100Z
UID:11470-1724248800-1724252400@artsconnectva.org
SUMMARY:Favorite Throwbacks with Art Rowe
DESCRIPTION:View Flyer
URL:https://artsconnectva.org/event/favorite-throwbacks-with-art-rowe-17/
LOCATION:VA
CATEGORIES:Outreach Program
END:VEVENT
BEGIN:VEVENT
DTSTART;TZID=America/New_York:20240821T133000
DTEND;TZID=America/New_York:20240821T143000
DTSTAMP:20260419T225048
CREATED:20240626T153830Z
LAST-MODIFIED:20240626T153830Z
UID:10911-1724247000-1724250600@artsconnectva.org
SUMMARY:Hits of the 50's & 60's with Adrienne and Jamie
DESCRIPTION:View Flyer
URL:https://artsconnectva.org/event/hits-of-the-50s-60s-with-adrienne-and-jamie/
LOCATION:VA
CATEGORIES:Open to the Public
END:VEVENT
BEGIN:VEVENT
DTSTART;TZID=America/New_York:20240820T173000
DTEND;TZID=America/New_York:20240820T183000
DTSTAMP:20260419T225048
CREATED:20240626T145100Z
LAST-MODIFIED:20240626T145100Z
UID:10898-1724175000-1724178600@artsconnectva.org
SUMMARY:The Classics with Mary Saunders
DESCRIPTION:
URL:https://artsconnectva.org/event/the-classics-with-mary-saunders/
LOCATION:VA
CATEGORIES:Outreach Program
END:VEVENT
BEGIN:VEVENT
DTSTART;TZID=America/New_York:20240820T140000
DTEND;TZID=America/New_York:20240820T150000
DTSTAMP:20260419T225048
CREATED:20240723T171627Z
LAST-MODIFIED:20240723T171627Z
UID:11104-1724162400-1724166000@artsconnectva.org
SUMMARY:Tape Art with Vanessa Golson
DESCRIPTION:View Flyer
URL:https://artsconnectva.org/event/tape-art-with-vanessa-golson/
LOCATION:VA
CATEGORIES:Outreach Program
END:VEVENT
BEGIN:VEVENT
DTSTART;TZID=America/New_York:20240820T140000
DTEND;TZID=America/New_York:20240820T150000
DTSTAMP:20260419T225048
CREATED:20240722T010729Z
LAST-MODIFIED:20240722T010729Z
UID:11083-1724162400-1724166000@artsconnectva.org
SUMMARY:Famous Hits with Cory Laser
DESCRIPTION:
URL:https://artsconnectva.org/event/famous-hits-with-cory-laser-20/
LOCATION:VA
CATEGORIES:Outreach Program
END:VEVENT
BEGIN:VEVENT
DTSTART;TZID=America/New_York:20240820T140000
DTEND;TZID=America/New_York:20240820T150000
DTSTAMP:20260419T225048
CREATED:20240707T192143Z
LAST-MODIFIED:20240707T192143Z
UID:11028-1724162400-1724166000@artsconnectva.org
SUMMARY:A Gathering of Great Tunes with Karen Stowe
DESCRIPTION:View Flyer
URL:https://artsconnectva.org/event/a-gathering-of-great-tunes-with-karen-stowe-2/
LOCATION:VA
CATEGORIES:Outreach Program
END:VEVENT
BEGIN:VEVENT
DTSTART;TZID=America/New_York:20240820T140000
DTEND;TZID=America/New_York:20240820T150000
DTSTAMP:20260419T225048
CREATED:20240626T154503Z
LAST-MODIFIED:20240626T154503Z
UID:10917-1724162400-1724166000@artsconnectva.org
SUMMARY:Polynesian Dance with Alicia Edwards
DESCRIPTION:
URL:https://artsconnectva.org/event/polynesian-dance-with-alicia-edwards-3/
LOCATION:VA
CATEGORIES:Outreach Program
END:VEVENT
BEGIN:VEVENT
DTSTART;TZID=America/New_York:20240820T133000
DTEND;TZID=America/New_York:20240820T143000
DTSTAMP:20260419T225048
CREATED:20240422T185254Z
LAST-MODIFIED:20240422T185254Z
UID:10465-1724160600-1724164200@artsconnectva.org
SUMMARY:Keep the Beat Social with Dan Smith
DESCRIPTION:Dan sings popular music from the 1940s\, 1950s and 1960s featuring big band\, classic country\, Elvis Presley\, Pat Boone\, and other icons of the era.
URL:https://artsconnectva.org/event/keep-the-beat-social-with-dan-smith-13/
LOCATION:VA
CATEGORIES:Outreach Program
END:VEVENT
BEGIN:VEVENT
DTSTART;TZID=America/New_York:20240820T130000
DTEND;TZID=America/New_York:20240820T140000
DTSTAMP:20260419T225048
CREATED:20240411T153105Z
LAST-MODIFIED:20240411T153105Z
UID:10342-1724158800-1724162400@artsconnectva.org
SUMMARY:Singing and Smiling with David Jones and Ron Vincent
DESCRIPTION:David and Ron’s sole objective is to interact with the audience via talking and singing with them and most important putting a “Smile” on their Face!
URL:https://artsconnectva.org/event/singing-and-smiling-with-david-jones-and-ron-vincent-2/
LOCATION:VA
CATEGORIES:Outreach Program
END:VEVENT
BEGIN:VEVENT
DTSTART;TZID=America/New_York:20240820T110000
DTEND;TZID=America/New_York:20240820T120000
DTSTAMP:20260419T225048
CREATED:20240726T143844Z
LAST-MODIFIED:20240726T143844Z
UID:11137-1724151600-1724155200@artsconnectva.org
SUMMARY:SINGO with Alicia Edwards
DESCRIPTION:View Flyer
URL:https://artsconnectva.org/event/singo-with-alicia-edwards/
LOCATION:VA
CATEGORIES:Outreach Program
END:VEVENT
BEGIN:VEVENT
DTSTART;TZID=America/New_York:20240819T170000
DTEND;TZID=America/New_York:20240819T180000
DTSTAMP:20260419T225048
CREATED:20240723T181014Z
LAST-MODIFIED:20240725T161204Z
UID:11122-1724086800-1724090400@artsconnectva.org
SUMMARY:Violin Serenade with Alex Marlins
DESCRIPTION:View Flyer
URL:https://artsconnectva.org/event/golden-oldies-with-ava-stevenson-3/
LOCATION:VA
CATEGORIES:Outreach Program
END:VEVENT
BEGIN:VEVENT
DTSTART;TZID=America/New_York:20240819T153000
DTEND;TZID=America/New_York:20240819T163000
DTSTAMP:20260419T225048
CREATED:20240807T130005Z
LAST-MODIFIED:20240807T130005Z
UID:11525-1724081400-1724085000@artsconnectva.org
SUMMARY:Favorite Throwbacks with Art Rowe
DESCRIPTION:View Flyer
URL:https://artsconnectva.org/event/favorite-throwbacks-with-art-rowe-18/
LOCATION:VA
CATEGORIES:Outreach Program
END:VEVENT
BEGIN:VEVENT
DTSTART;TZID=America/New_York:20240819T140000
DTEND;TZID=America/New_York:20240819T150000
DTSTAMP:20260419T225048
CREATED:20240730T163143Z
LAST-MODIFIED:20240730T163143Z
UID:11150-1724076000-1724079600@artsconnectva.org
SUMMARY:Chair Fitness with Vanessa Golson
DESCRIPTION:View Flyer
URL:https://artsconnectva.org/event/chair-fitness-with-vanessa-golson-14/
LOCATION:VA
CATEGORIES:Outreach Program
END:VEVENT
BEGIN:VEVENT
DTSTART;TZID=America/New_York:20240818T140000
DTEND;TZID=America/New_York:20240818T150000
DTSTAMP:20260419T225048
CREATED:20240416T180029Z
LAST-MODIFIED:20240416T180029Z
UID:10388-1723989600-1723993200@artsconnectva.org
SUMMARY:Sunday Social with Tom and Rose
DESCRIPTION:Join Tom and Rose Schlater as they play some fun throwbacks!
URL:https://artsconnectva.org/event/sunday-social-with-tom-and-rose-2/
LOCATION:VA
CATEGORIES:Outreach Program
END:VEVENT
BEGIN:VEVENT
DTSTART;TZID=America/New_York:20240816T140000
DTEND;TZID=America/New_York:20240816T150000
DTSTAMP:20260419T225048
CREATED:20240723T170954Z
LAST-MODIFIED:20240723T170954Z
UID:11101-1723816800-1723820400@artsconnectva.org
SUMMARY:A Gathering of Great Tunes with Karen Stowe
DESCRIPTION:View Flyer
URL:https://artsconnectva.org/event/a-gathering-of-great-tunes-with-karen-stowe-3/
LOCATION:VA
CATEGORIES:Outreach Program
END:VEVENT
BEGIN:VEVENT
DTSTART;TZID=America/New_York:20240816T140000
DTEND;TZID=America/New_York:20240816T150000
DTSTAMP:20260419T225048
CREATED:20240707T184609Z
LAST-MODIFIED:20240707T184609Z
UID:11015-1723816800-1723820400@artsconnectva.org
SUMMARY:Candle Making with Ginnie and Tracy
DESCRIPTION:
URL:https://artsconnectva.org/event/candle-making-with-ginnie-and-tracy/
LOCATION:VA
CATEGORIES:Outreach Program
END:VEVENT
BEGIN:VEVENT
DTSTART;TZID=America/New_York:20240815T140000
DTEND;TZID=America/New_York:20240815T150000
DTSTAMP:20260419T225048
CREATED:20240805T192413Z
LAST-MODIFIED:20240805T192413Z
UID:11476-1723730400-1723734000@artsconnectva.org
SUMMARY:Watermelon Pot with Stephanie Slate
DESCRIPTION:
URL:https://artsconnectva.org/event/watermelon-pot-with-stephanie-slate/
LOCATION:VA
CATEGORIES:Outreach Program
END:VEVENT
BEGIN:VEVENT
DTSTART;TZID=America/New_York:20240815T140000
DTEND;TZID=America/New_York:20240815T150000
DTSTAMP:20260419T225048
CREATED:20240723T180119Z
LAST-MODIFIED:20240723T180119Z
UID:11119-1723730400-1723734000@artsconnectva.org
SUMMARY:Strummin' and Pickin' with Ted and Eric
DESCRIPTION:View Flyer
URL:https://artsconnectva.org/event/strummin-and-pickin-with-ted-and-eric-14/
LOCATION:VA
CATEGORIES:Open to the Public
END:VEVENT
BEGIN:VEVENT
DTSTART;TZID=America/New_York:20240814T140000
DTEND;TZID=America/New_York:20240814T150000
DTSTAMP:20260419T225048
CREATED:20240805T190539Z
LAST-MODIFIED:20240805T190539Z
UID:11467-1723644000-1723647600@artsconnectva.org
SUMMARY:Rock n' Roll with Mark Pettiford
DESCRIPTION:View Flyer
URL:https://artsconnectva.org/event/rock-n-roll-with-mark-pettiford-2/
LOCATION:VA
CATEGORIES:Outreach Program
END:VEVENT
BEGIN:VEVENT
DTSTART;TZID=America/New_York:20240814T130000
DTEND;TZID=America/New_York:20240814T140000
DTSTAMP:20260419T225048
CREATED:20240626T151203Z
LAST-MODIFIED:20240707T200229Z
UID:10905-1723640400-1723644000@artsconnectva.org
SUMMARY:A Gathering of Great Tunes with Karen Stowe
DESCRIPTION:View Flyer
URL:https://artsconnectva.org/event/summer-tunes-with-karen-stowe-2/
LOCATION:VA
CATEGORIES:Outreach Program
END:VEVENT
BEGIN:VEVENT
DTSTART;TZID=America/New_York:20240814T111500
DTEND;TZID=America/New_York:20240814T121500
DTSTAMP:20260419T225048
CREATED:20240722T010310Z
LAST-MODIFIED:20240722T010310Z
UID:11081-1723634100-1723637700@artsconnectva.org
SUMMARY:All the Classics with Mary Saunders
DESCRIPTION:
URL:https://artsconnectva.org/event/all-the-classics-with-mary-saunders/
LOCATION:VA
CATEGORIES:Outreach Program
END:VEVENT
BEGIN:VEVENT
DTSTART;TZID=America/New_York:20240813T170000
DTEND;TZID=America/New_York:20240813T180000
DTSTAMP:20260419T225048
CREATED:20240726T142851Z
LAST-MODIFIED:20240726T142851Z
UID:11134-1723568400-1723572000@artsconnectva.org
SUMMARY:Musical Serenade with Ascension Melodies
DESCRIPTION:View Flyer
URL:https://artsconnectva.org/event/musical-serenade-with-ascension-melodies/
LOCATION:VA
CATEGORIES:Outreach Program
END:VEVENT
BEGIN:VEVENT
DTSTART;TZID=America/New_York:20240813T150000
DTEND;TZID=America/New_York:20240813T160000
DTSTAMP:20260419T225048
CREATED:20240723T170503Z
LAST-MODIFIED:20240723T170503Z
UID:11098-1723561200-1723564800@artsconnectva.org
SUMMARY:All the Classics with Tom and Rose Schlater
DESCRIPTION:View Flyer
URL:https://artsconnectva.org/event/all-the-classics-with-tom-and-rose-schlater/
LOCATION:VA
CATEGORIES:Outreach Program
END:VEVENT
BEGIN:VEVENT
DTSTART;TZID=America/New_York:20240813T140000
DTEND;TZID=America/New_York:20240813T150000
DTSTAMP:20260419T225048
CREATED:20240721T152403Z
LAST-MODIFIED:20240721T152403Z
UID:11072-1723557600-1723561200@artsconnectva.org
SUMMARY:Classic Rock Jams with The Earthtones
DESCRIPTION:View Flyer
URL:https://artsconnectva.org/event/classic-rock-jams-with-the-earthtones-2/
LOCATION:VA
CATEGORIES:Outreach Program
END:VEVENT
BEGIN:VEVENT
DTSTART;TZID=America/New_York:20240813T133000
DTEND;TZID=America/New_York:20240813T143000
DTSTAMP:20260419T225048
CREATED:20240624T154331Z
LAST-MODIFIED:20240624T154331Z
UID:10883-1723555800-1723559400@artsconnectva.org
SUMMARY:Keep the Beat Social with Art Rowe
DESCRIPTION:
URL:https://artsconnectva.org/event/keep-the-beat-social-with-art-rowe-10/
LOCATION:VA
CATEGORIES:Outreach Program
END:VEVENT
BEGIN:VEVENT
DTSTART;TZID=America/New_York:20240813T130000
DTEND;TZID=America/New_York:20240813T140000
DTSTAMP:20260419T225048
CREATED:20240422T182041Z
LAST-MODIFIED:20240422T182041Z
UID:10457-1723554000-1723557600@artsconnectva.org
SUMMARY:Trumpet Tunes with Chad McGill
DESCRIPTION:Join Chad as he plays a variety of music on the trumpet! From light jazz to The Beatles\, you will find his music has something for everyone!
URL:https://artsconnectva.org/event/trumpet-tunes-with-chad-mcgill-14/
LOCATION:VA
CATEGORIES:Outreach Program
END:VEVENT
BEGIN:VEVENT
DTSTART;TZID=America/New_York:20240812T133000
DTEND;TZID=America/New_York:20240812T143000
DTSTAMP:20260419T225048
CREATED:20240731T175404Z
LAST-MODIFIED:20240731T175404Z
UID:11159-1723469400-1723473000@artsconnectva.org
SUMMARY:Acrylic Paint and Pour with Vanessa Golson
DESCRIPTION:View Flyer
URL:https://artsconnectva.org/event/acrylic-paint-and-pour-with-vanessa-golson/
LOCATION:VA
CATEGORIES:Outreach Program
END:VEVENT
BEGIN:VEVENT
DTSTART;TZID=America/New_York:20240809T190000
DTEND;TZID=America/New_York:20240809T210000
DTSTAMP:20260419T225048
CREATED:20240624T153824Z
LAST-MODIFIED:20240624T153824Z
UID:10879-1723230000-1723237200@artsconnectva.org
SUMMARY:Pub Night with Richard Mekdeci
DESCRIPTION:
URL:https://artsconnectva.org/event/pub-night-with-richard-mekdeci-8/
LOCATION:VA
CATEGORIES:Outreach Program
END:VEVENT
BEGIN:VEVENT
DTSTART;TZID=America/New_York:20240809T150000
DTEND;TZID=America/New_York:20240809T160000
DTSTAMP:20260419T225048
CREATED:20240718T161400Z
LAST-MODIFIED:20240718T161400Z
UID:11069-1723215600-1723219200@artsconnectva.org
SUMMARY:Step-by-Step Painting with Vivian Davis
DESCRIPTION:View Flyer
URL:https://artsconnectva.org/event/step-by-step-painting-with-vivian-davis/
LOCATION:VA
CATEGORIES:Outreach Program
END:VEVENT
END:VCALENDAR