BEGIN:VCALENDAR
VERSION:2.0
PRODID:-//ArtsConnect Virginia - ECPv6.15.20//NONSGML v1.0//EN
CALSCALE:GREGORIAN
METHOD:PUBLISH
X-ORIGINAL-URL:https://artsconnectva.org
X-WR-CALDESC:Events for ArtsConnect Virginia
REFRESH-INTERVAL;VALUE=DURATION:PT1H
X-Robots-Tag:noindex
X-PUBLISHED-TTL:PT1H
BEGIN:VTIMEZONE
TZID:America/New_York
BEGIN:DAYLIGHT
TZOFFSETFROM:-0500
TZOFFSETTO:-0400
TZNAME:EDT
DTSTART:20230312T070000
END:DAYLIGHT
BEGIN:STANDARD
TZOFFSETFROM:-0400
TZOFFSETTO:-0500
TZNAME:EST
DTSTART:20231105T060000
END:STANDARD
BEGIN:DAYLIGHT
TZOFFSETFROM:-0500
TZOFFSETTO:-0400
TZNAME:EDT
DTSTART:20240310T070000
END:DAYLIGHT
BEGIN:STANDARD
TZOFFSETFROM:-0400
TZOFFSETTO:-0500
TZNAME:EST
DTSTART:20241103T060000
END:STANDARD
BEGIN:DAYLIGHT
TZOFFSETFROM:-0500
TZOFFSETTO:-0400
TZNAME:EDT
DTSTART:20250309T070000
END:DAYLIGHT
BEGIN:STANDARD
TZOFFSETFROM:-0400
TZOFFSETTO:-0500
TZNAME:EST
DTSTART:20251102T060000
END:STANDARD
END:VTIMEZONE
BEGIN:VEVENT
DTSTART;TZID=America/New_York:20241121T140000
DTEND;TZID=America/New_York:20241121T150000
DTSTAMP:20260419T145557
CREATED:20241015T225613Z
LAST-MODIFIED:20241016T164206Z
UID:12187-1732197600-1732201200@artsconnectva.org
SUMMARY:Hits of the 50's & 60's with Adrienne & Bernie
DESCRIPTION:View Flyer
URL:https://artsconnectva.org/event/hits-of-the-50s-60s-with-adrienne-bernie/
LOCATION:VA
CATEGORIES:Outreach Program
END:VEVENT
BEGIN:VEVENT
DTSTART;TZID=America/New_York:20241121T140000
DTEND;TZID=America/New_York:20241121T150000
DTSTAMP:20260419T145557
CREATED:20241029T174915Z
LAST-MODIFIED:20241104T152907Z
UID:12287-1732197600-1732201200@artsconnectva.org
SUMMARY:Paint & Sip with Susan Owens
DESCRIPTION:View Flyer
URL:https://artsconnectva.org/event/paint-sip-with-susan-owens/
LOCATION:VA
CATEGORIES:Outreach Program
END:VEVENT
BEGIN:VEVENT
DTSTART;TZID=America/New_York:20241121T143000
DTEND;TZID=America/New_York:20241121T153000
DTSTAMP:20260419T145557
CREATED:20241029T174316Z
LAST-MODIFIED:20241029T174316Z
UID:12285-1732199400-1732203000@artsconnectva.org
SUMMARY:Birthday Social with Art Rowe
DESCRIPTION:
URL:https://artsconnectva.org/event/birthday-social-with-art-rowe-3/
LOCATION:VA
CATEGORIES:Outreach Program
END:VEVENT
BEGIN:VEVENT
DTSTART;TZID=America/New_York:20241121T160000
DTEND;TZID=America/New_York:20241121T170000
DTSTAMP:20260419T145557
CREATED:20241115T122319Z
LAST-MODIFIED:20241117T131334Z
UID:12502-1732204800-1732208400@artsconnectva.org
SUMMARY:Bluegrass with Ted Drake & Eric Yoder
DESCRIPTION:
URL:https://artsconnectva.org/event/bluegrass-with-ted-drake-eric-yoder/
LOCATION:VA
CATEGORIES:Outreach Program
END:VEVENT
BEGIN:VEVENT
DTSTART;TZID=America/New_York:20241121T183000
DTEND;TZID=America/New_York:20241121T193000
DTSTAMP:20260419T145557
CREATED:20241029T172346Z
LAST-MODIFIED:20241029T172346Z
UID:12281-1732213800-1732217400@artsconnectva.org
SUMMARY:FACTS Costume & Parade Float Design with Nilsa
DESCRIPTION:
URL:https://artsconnectva.org/event/facts-costume-parade-float-design-with-nilsa/
LOCATION:VA
CATEGORIES:Outreach Program
END:VEVENT
BEGIN:VEVENT
DTSTART;TZID=America/New_York:20241122T103000
DTEND;TZID=America/New_York:20241122T113000
DTSTAMP:20260419T145557
CREATED:20241015T230311Z
LAST-MODIFIED:20241015T230311Z
UID:12191-1732271400-1732275000@artsconnectva.org
SUMMARY:Wooden Pumpkins with Stephanie Slate
DESCRIPTION:
URL:https://artsconnectva.org/event/wooden-pumpkins-with-stephanie-slate-2/
LOCATION:VA
CATEGORIES:Outreach Program
END:VEVENT
BEGIN:VEVENT
DTSTART;TZID=America/New_York:20241122T110000
DTEND;TZID=America/New_York:20241122T120000
DTSTAMP:20260419T145557
CREATED:20241030T133002Z
LAST-MODIFIED:20241030T133002Z
UID:12302-1732273200-1732276800@artsconnectva.org
SUMMARY:Paper Clay Mushrooms with Vivian Davis
DESCRIPTION:
URL:https://artsconnectva.org/event/paper-clay-mushrooms-with-vivian-davis/
LOCATION:VA
CATEGORIES:Outreach Program
END:VEVENT
BEGIN:VEVENT
DTSTART;TZID=America/New_York:20241122T140000
DTEND;TZID=America/New_York:20241122T150000
DTSTAMP:20260419T145557
CREATED:20241004T154949Z
LAST-MODIFIED:20241004T154949Z
UID:12070-1732284000-1732287600@artsconnectva.org
SUMMARY:Trumpet Tunes with Chad McGill
DESCRIPTION:
URL:https://artsconnectva.org/event/trumpet-tunes-with-chad-mcgill-24/
LOCATION:VA
CATEGORIES:Outreach Program
END:VEVENT
BEGIN:VEVENT
DTSTART;TZID=America/New_York:20241122T140000
DTEND;TZID=America/New_York:20241122T150000
DTSTAMP:20260419T145557
CREATED:20241015T230005Z
LAST-MODIFIED:20241016T220009Z
UID:12189-1732284000-1732287600@artsconnectva.org
SUMMARY:Hits of the 50's & 60's with Adrienne & Jamie
DESCRIPTION:
URL:https://artsconnectva.org/event/hits-of-the-50s-60s-with-adrienne-bernie-2/
LOCATION:VA
CATEGORIES:Outreach Program
END:VEVENT
BEGIN:VEVENT
DTSTART;TZID=America/New_York:20241122T140000
DTEND;TZID=America/New_York:20241122T150000
DTSTAMP:20260419T145557
CREATED:20241016T165824Z
LAST-MODIFIED:20241016T165824Z
UID:12228-1732284000-1732287600@artsconnectva.org
SUMMARY:Piano Tunes with Christian Flores
DESCRIPTION:
URL:https://artsconnectva.org/event/piano-tunes-with-christian-flores-9/
LOCATION:VA
CATEGORIES:Outreach Program
END:VEVENT
BEGIN:VEVENT
DTSTART;TZID=America/New_York:20241122T150000
DTEND;TZID=America/New_York:20241122T160000
DTSTAMP:20260419T145557
CREATED:20241008T144730Z
LAST-MODIFIED:20241016T164528Z
UID:12089-1732287600-1732291200@artsconnectva.org
SUMMARY:Rock Tunes with Paul Dickson
DESCRIPTION:View Flyer
URL:https://artsconnectva.org/event/rock-tunes-with-paul-dickson/
LOCATION:VA
CATEGORIES:Outreach Program
END:VEVENT
BEGIN:VEVENT
DTSTART;TZID=America/New_York:20241122T150000
DTEND;TZID=America/New_York:20241122T160000
DTSTAMP:20260419T145557
CREATED:20241108T002237Z
LAST-MODIFIED:20241108T002237Z
UID:12364-1732287600-1732291200@artsconnectva.org
SUMMARY:Music with Emma Boney
DESCRIPTION:
URL:https://artsconnectva.org/event/music-with-emma-boney/
LOCATION:VA
CATEGORIES:Outreach Program
END:VEVENT
BEGIN:VEVENT
DTSTART;TZID=America/New_York:20241122T160000
DTEND;TZID=America/New_York:20241122T170000
DTSTAMP:20260419T145557
CREATED:20241014T153709Z
LAST-MODIFIED:20241014T153709Z
UID:12148-1732291200-1732294800@artsconnectva.org
SUMMARY:Happy Hour with Art Rowe
DESCRIPTION:
URL:https://artsconnectva.org/event/happy-hour-with-art-rowe/
LOCATION:VA
CATEGORIES:Outreach Program
END:VEVENT
BEGIN:VEVENT
DTSTART;TZID=America/New_York:20241123T140000
DTEND;TZID=America/New_York:20241123T150000
DTSTAMP:20260419T145557
CREATED:20241029T175240Z
LAST-MODIFIED:20241029T175240Z
UID:12289-1732370400-1732374000@artsconnectva.org
SUMMARY:Stocking Arrangements with Delresa
DESCRIPTION:
URL:https://artsconnectva.org/event/stocking-arrangements-with-delresa/
LOCATION:VA
CATEGORIES:Outreach Program
END:VEVENT
BEGIN:VEVENT
DTSTART;TZID=America/New_York:20241125T110000
DTEND;TZID=America/New_York:20241125T120000
DTSTAMP:20260419T145557
CREATED:20241029T180116Z
LAST-MODIFIED:20241029T180116Z
UID:12294-1732532400-1732536000@artsconnectva.org
SUMMARY:Pumpkin Painting with Amanda Wallace
DESCRIPTION:
URL:https://artsconnectva.org/event/pumpkin-painting-with-amanda-wallace-2/
LOCATION:VA
CATEGORIES:Outreach Program
END:VEVENT
BEGIN:VEVENT
DTSTART;TZID=America/New_York:20241125T130000
DTEND;TZID=America/New_York:20241125T140000
DTSTAMP:20260419T145557
CREATED:20241016T211839Z
LAST-MODIFIED:20241016T211839Z
UID:12232-1732539600-1732543200@artsconnectva.org
SUMMARY:Singing and Smiling with Art Rowe and David Jones
DESCRIPTION:
URL:https://artsconnectva.org/event/singing-and-smiling-with-art-rowe-and-david-jones/
LOCATION:VA
CATEGORIES:Outreach Program
END:VEVENT
BEGIN:VEVENT
DTSTART;TZID=America/New_York:20241125T140000
DTEND;TZID=America/New_York:20241125T150000
DTSTAMP:20260419T145557
CREATED:20241016T212459Z
LAST-MODIFIED:20241016T212459Z
UID:12234-1732543200-1732546800@artsconnectva.org
SUMMARY:Wood Slice Ornaments with Stephanie Slate
DESCRIPTION:
URL:https://artsconnectva.org/event/wood-slice-ornaments-with-stephanie-slate/
LOCATION:VA
CATEGORIES:Outreach Program
END:VEVENT
BEGIN:VEVENT
DTSTART;TZID=America/New_York:20241125T140000
DTEND;TZID=America/New_York:20241125T150000
DTSTAMP:20260419T145557
CREATED:20241016T212921Z
LAST-MODIFIED:20241016T212921Z
UID:12236-1732543200-1732546800@artsconnectva.org
SUMMARY:Mosaic Tape Painting with Adrienne Searle
DESCRIPTION:
URL:https://artsconnectva.org/event/mosaic-tape-painting-with-adrienne-searle/
LOCATION:VA
CATEGORIES:Outreach Program
END:VEVENT
BEGIN:VEVENT
DTSTART;TZID=America/New_York:20241125T153000
DTEND;TZID=America/New_York:20241125T163000
DTSTAMP:20260419T145557
CREATED:20241029T175712Z
LAST-MODIFIED:20241029T175712Z
UID:12291-1732548600-1732552200@artsconnectva.org
SUMMARY:Singing and Smiling with Art Rowe & David Jones
DESCRIPTION:
URL:https://artsconnectva.org/event/singing-and-smiling-with-art-rowe-david-jones-2/
LOCATION:VA
CATEGORIES:Outreach Program
END:VEVENT
BEGIN:VEVENT
DTSTART;TZID=America/New_York:20241125T170000
DTEND;TZID=America/New_York:20241125T190000
DTSTAMP:20260419T145557
CREATED:20241016T213334Z
LAST-MODIFIED:20241016T213419Z
UID:12238-1732554000-1732561200@artsconnectva.org
SUMMARY:Piano Tunes with Christian Flores
DESCRIPTION:
URL:https://artsconnectva.org/event/piano-tunes-with-christian-flores-10/
LOCATION:VA
CATEGORIES:Outreach Program
END:VEVENT
BEGIN:VEVENT
DTSTART;TZID=America/New_York:20241126T130000
DTEND;TZID=America/New_York:20241126T140000
DTSTAMP:20260419T145557
CREATED:20241016T213751Z
LAST-MODIFIED:20241016T213751Z
UID:12240-1732626000-1732629600@artsconnectva.org
SUMMARY:Singing and Smiles with David Jones & Bryan Martin
DESCRIPTION:
URL:https://artsconnectva.org/event/singing-and-smiles-with-david-jones-bryan-martin/
LOCATION:VA
CATEGORIES:Outreach Program
END:VEVENT
BEGIN:VEVENT
DTSTART;TZID=America/New_York:20241126T133000
DTEND;TZID=America/New_York:20241126T143000
DTSTAMP:20260419T145557
CREATED:20241029T180524Z
LAST-MODIFIED:20241029T180524Z
UID:12296-1732627800-1732631400@artsconnectva.org
SUMMARY:Keep the Beat Social with Richard Mekdeci
DESCRIPTION:
URL:https://artsconnectva.org/event/keep-the-beat-social-with-richard-mekdeci-7/
LOCATION:VA
CATEGORIES:Outreach Program
END:VEVENT
BEGIN:VEVENT
DTSTART;TZID=America/New_York:20241126T170000
DTEND;TZID=America/New_York:20241126T180000
DTSTAMP:20260419T145557
CREATED:20241115T122021Z
LAST-MODIFIED:20241115T122021Z
UID:12500-1732640400-1732644000@artsconnectva.org
SUMMARY:Music with Bryan Martin
DESCRIPTION:
URL:https://artsconnectva.org/event/music-with-bryan-martin-2/
LOCATION:VA
CATEGORIES:Outreach Program
END:VEVENT
BEGIN:VEVENT
DTSTART;TZID=America/New_York:20241126T180000
DTEND;TZID=America/New_York:20241126T190000
DTSTAMP:20260419T145557
CREATED:20241016T214600Z
LAST-MODIFIED:20241016T214632Z
UID:12244-1732644000-1732647600@artsconnectva.org
SUMMARY:Candle Making with Rhona Dawson
DESCRIPTION:
URL:https://artsconnectva.org/event/candle-making-with-rhona-dawson/
LOCATION:Pearl Bailey Library\, 2510 Wickham Ave\, Newport News\, VA\, 23607\, United States
CATEGORIES:Open to the Public
END:VEVENT
BEGIN:VEVENT
DTSTART;TZID=America/New_York:20241127T103000
DTEND;TZID=America/New_York:20241127T113000
DTSTAMP:20260419T145557
CREATED:20241108T132724Z
LAST-MODIFIED:20241108T132724Z
UID:12366-1732703400-1732707000@artsconnectva.org
SUMMARY:Mosaic Tape Painting with Adrienne
DESCRIPTION:
URL:https://artsconnectva.org/event/mosaic-tape-painting-with-adrienne/
LOCATION:VA
CATEGORIES:Outreach Program
END:VEVENT
BEGIN:VEVENT
DTSTART;TZID=America/New_York:20241127T140000
DTEND;TZID=America/New_York:20241127T150000
DTSTAMP:20260419T145557
CREATED:20241016T214956Z
LAST-MODIFIED:20241016T214956Z
UID:12246-1732716000-1732719600@artsconnectva.org
SUMMARY:Collage Nightlight with Susan Owens
DESCRIPTION:
URL:https://artsconnectva.org/event/collage-nightlight-with-susan-owens/
LOCATION:VA
CATEGORIES:Outreach Program
END:VEVENT
BEGIN:VEVENT
DTSTART;TZID=America/New_York:20241127T140000
DTEND;TZID=America/New_York:20241127T150000
DTSTAMP:20260419T145557
CREATED:20241111T183913Z
LAST-MODIFIED:20241111T183913Z
UID:12411-1732716000-1732719600@artsconnectva.org
SUMMARY:Mentalism and Magic with Sean McKenzie
DESCRIPTION:
URL:https://artsconnectva.org/event/mentalism-and-magic-with-sean-mckenzie-2/
LOCATION:VA
CATEGORIES:Outreach Program
END:VEVENT
BEGIN:VEVENT
DTSTART;TZID=America/New_York:20241129T140000
DTEND;TZID=America/New_York:20241129T150000
DTSTAMP:20260419T145557
CREATED:20241030T133319Z
LAST-MODIFIED:20241115T192945Z
UID:12304-1732888800-1732892400@artsconnectva.org
SUMMARY:Happy Hour with Jimmy G
DESCRIPTION:
URL:https://artsconnectva.org/event/happy-hour-with-bryan-martin-11/
LOCATION:VA
CATEGORIES:Outreach Program
END:VEVENT
BEGIN:VEVENT
DTSTART;TZID=America/New_York:20241129T140000
DTEND;TZID=America/New_York:20241129T150000
DTSTAMP:20260419T145557
CREATED:20241030T144332Z
LAST-MODIFIED:20241030T144332Z
UID:12308-1732888800-1732892400@artsconnectva.org
SUMMARY:Trumpet Tunes with Chad McGill
DESCRIPTION:
URL:https://artsconnectva.org/event/trumpet-tunes-with-chad-mcgill-26/
LOCATION:VA
CATEGORIES:Outreach Program
END:VEVENT
BEGIN:VEVENT
DTSTART;TZID=America/New_York:20241129T144500
DTEND;TZID=America/New_York:20241129T154500
DTSTAMP:20260419T145557
CREATED:20241030T144816Z
LAST-MODIFIED:20241030T144816Z
UID:12310-1732891500-1732895100@artsconnectva.org
SUMMARY:Favorite Throwbacks with Dan Smith
DESCRIPTION:
URL:https://artsconnectva.org/event/favorite-throwbacks-with-dan-smith-13/
LOCATION:VA
CATEGORIES:Outreach Program
END:VEVENT
END:VCALENDAR