BEGIN:VCALENDAR
VERSION:2.0
PRODID:-//ArtsConnect Virginia - ECPv6.15.20//NONSGML v1.0//EN
CALSCALE:GREGORIAN
METHOD:PUBLISH
X-ORIGINAL-URL:https://artsconnectva.org
X-WR-CALDESC:Events for ArtsConnect Virginia
REFRESH-INTERVAL;VALUE=DURATION:PT1H
X-Robots-Tag:noindex
X-PUBLISHED-TTL:PT1H
BEGIN:VTIMEZONE
TZID:America/New_York
BEGIN:DAYLIGHT
TZOFFSETFROM:-0500
TZOFFSETTO:-0400
TZNAME:EDT
DTSTART:20230312T070000
END:DAYLIGHT
BEGIN:STANDARD
TZOFFSETFROM:-0400
TZOFFSETTO:-0500
TZNAME:EST
DTSTART:20231105T060000
END:STANDARD
BEGIN:DAYLIGHT
TZOFFSETFROM:-0500
TZOFFSETTO:-0400
TZNAME:EDT
DTSTART:20240310T070000
END:DAYLIGHT
BEGIN:STANDARD
TZOFFSETFROM:-0400
TZOFFSETTO:-0500
TZNAME:EST
DTSTART:20241103T060000
END:STANDARD
BEGIN:DAYLIGHT
TZOFFSETFROM:-0500
TZOFFSETTO:-0400
TZNAME:EDT
DTSTART:20250309T070000
END:DAYLIGHT
BEGIN:STANDARD
TZOFFSETFROM:-0400
TZOFFSETTO:-0500
TZNAME:EST
DTSTART:20251102T060000
END:STANDARD
END:VTIMEZONE
BEGIN:VEVENT
DTSTART;TZID=America/New_York:20241102T120000
DTEND;TZID=America/New_York:20241102T140000
DTSTAMP:20260419T145559
CREATED:20241003T172638Z
LAST-MODIFIED:20241003T172638Z
UID:12050-1730548800-1730556000@artsconnectva.org
SUMMARY:Book Art with Maggie Kerrigan
DESCRIPTION:
URL:https://artsconnectva.org/event/book-art-with-maggie-kerrigan/
LOCATION:VA
CATEGORIES:Open to the Public
END:VEVENT
BEGIN:VEVENT
DTSTART;TZID=America/New_York:20241104T130000
DTEND;TZID=America/New_York:20241104T140000
DTSTAMP:20260419T145559
CREATED:20241016T211234Z
LAST-MODIFIED:20241016T211234Z
UID:12230-1730725200-1730728800@artsconnectva.org
SUMMARY:Birthday Celebration with Mark Pettiford
DESCRIPTION:
URL:https://artsconnectva.org/event/birthday-celebration-with-mark-pettiford/
LOCATION:VA
CATEGORIES:Outreach Program
END:VEVENT
BEGIN:VEVENT
DTSTART;TZID=America/New_York:20241104T140000
DTEND;TZID=America/New_York:20241104T150000
DTSTAMP:20260419T145559
CREATED:20241003T173056Z
LAST-MODIFIED:20241003T173056Z
UID:12052-1730728800-1730732400@artsconnectva.org
SUMMARY:Happy Hour with Linda & Lyle Dowling
DESCRIPTION:
URL:https://artsconnectva.org/event/happy-hour-with-linda-lyle-dowling/
LOCATION:VA
CATEGORIES:Outreach Program
END:VEVENT
BEGIN:VEVENT
DTSTART;TZID=America/New_York:20241105T110000
DTEND;TZID=America/New_York:20241105T120000
DTSTAMP:20260419T145559
CREATED:20241004T152740Z
LAST-MODIFIED:20241004T152740Z
UID:12063-1730804400-1730808000@artsconnectva.org
SUMMARY:Salsa Dancing with Nilsa
DESCRIPTION:View Flyer
URL:https://artsconnectva.org/event/salsa-dancing-with-nilsa/
LOCATION:VA
CATEGORIES:Outreach Program
END:VEVENT
BEGIN:VEVENT
DTSTART;TZID=America/New_York:20241105T110000
DTEND;TZID=America/New_York:20241105T120000
DTSTAMP:20260419T145559
CREATED:20241004T180405Z
LAST-MODIFIED:20241015T214308Z
UID:12076-1730804400-1730808000@artsconnectva.org
SUMMARY:Wooden Pumpkins with Stephanie Slate
DESCRIPTION:
URL:https://artsconnectva.org/event/fall-candle-making-with-ginnie-tracy/
LOCATION:VA
CATEGORIES:Outreach Program
END:VEVENT
BEGIN:VEVENT
DTSTART;TZID=America/New_York:20241105T130000
DTEND;TZID=America/New_York:20241105T140000
DTSTAMP:20260419T145559
CREATED:20241003T173525Z
LAST-MODIFIED:20241003T173525Z
UID:12054-1730811600-1730815200@artsconnectva.org
SUMMARY:Musical Serenade with Ascension Melodies
DESCRIPTION:
URL:https://artsconnectva.org/event/musical-serenade-with-ascension-melodies-7/
LOCATION:VA
CATEGORIES:Outreach Program
END:VEVENT
BEGIN:VEVENT
DTSTART;TZID=America/New_York:20241105T133000
DTEND;TZID=America/New_York:20241105T143000
DTSTAMP:20260419T145559
CREATED:20241030T132323Z
LAST-MODIFIED:20241030T132323Z
UID:12300-1730813400-1730817000@artsconnectva.org
SUMMARY:Keep the Beat Social with Art Rowe
DESCRIPTION:
URL:https://artsconnectva.org/event/keep-the-beat-social-with-art-rowe-12/
LOCATION:VA
CATEGORIES:Outreach Program
END:VEVENT
BEGIN:VEVENT
DTSTART;TZID=America/New_York:20241105T140000
DTEND;TZID=America/New_York:20241105T150000
DTSTAMP:20260419T145559
CREATED:20241003T174551Z
LAST-MODIFIED:20241003T174551Z
UID:12056-1730815200-1730818800@artsconnectva.org
SUMMARY:All the Favorites with Cory Laser
DESCRIPTION:
URL:https://artsconnectva.org/event/all-the-favorites-with-cory-laser-2/
LOCATION:VA
CATEGORIES:Outreach Program
END:VEVENT
BEGIN:VEVENT
DTSTART;TZID=America/New_York:20241105T140000
DTEND;TZID=America/New_York:20241105T150000
DTSTAMP:20260419T145559
CREATED:20241009T163716Z
LAST-MODIFIED:20241009T163716Z
UID:12101-1730815200-1730818800@artsconnectva.org
SUMMARY:All the Classics with Linda & Lyle
DESCRIPTION:
URL:https://artsconnectva.org/event/all-the-classics-with-linda-lyle/
LOCATION:VA
CATEGORIES:Outreach Program
END:VEVENT
BEGIN:VEVENT
DTSTART;TZID=America/New_York:20241105T140000
DTEND;TZID=America/New_York:20241105T150000
DTSTAMP:20260419T145559
CREATED:20241009T164708Z
LAST-MODIFIED:20241009T164708Z
UID:12103-1730815200-1730818800@artsconnectva.org
SUMMARY:Songs of Autumn and Thanksgiving with Karen Stowe
DESCRIPTION:View Flyer
URL:https://artsconnectva.org/event/songs-of-autumn-and-thanksgiving-with-karen-stowe-3/
LOCATION:VA
CATEGORIES:Outreach Program
END:VEVENT
BEGIN:VEVENT
DTSTART;TZID=America/New_York:20241106T140000
DTEND;TZID=America/New_York:20241106T150000
DTSTAMP:20260419T145559
CREATED:20241003T175414Z
LAST-MODIFIED:20241003T175414Z
UID:12058-1730901600-1730905200@artsconnectva.org
SUMMARY:Rock n' Roll with Mark Pettiford
DESCRIPTION:View Flyer
URL:https://artsconnectva.org/event/rock-n-roll-with-mark-pettiford-7/
LOCATION:VA
CATEGORIES:Outreach Program
END:VEVENT
BEGIN:VEVENT
DTSTART;TZID=America/New_York:20241106T140000
DTEND;TZID=America/New_York:20241106T150000
DTSTAMP:20260419T145559
CREATED:20241003T175752Z
LAST-MODIFIED:20241016T140634Z
UID:12061-1730901600-1730905200@artsconnectva.org
SUMMARY:Favorite Throwbacks with Dan Smith
DESCRIPTION:View Flyer
URL:https://artsconnectva.org/event/favorite-throwbacks-with-dan-smith-12/
LOCATION:VA
CATEGORIES:Outreach Program
END:VEVENT
BEGIN:VEVENT
DTSTART;TZID=America/New_York:20241107T113000
DTEND;TZID=America/New_York:20241107T123000
DTSTAMP:20260419T145559
CREATED:20241009T173918Z
LAST-MODIFIED:20241009T173918Z
UID:12108-1730979000-1730982600@artsconnectva.org
SUMMARY:Veteran's Day Party with Dan Smith
DESCRIPTION:View Flyer
URL:https://artsconnectva.org/event/veterans-day-party-with-dan-smith/
LOCATION:Courthouse Way Community Center\, 14302 Old Courthouse Way\, Newport News\, VA\, 23602\, United States
CATEGORIES:Open to the Public
END:VEVENT
BEGIN:VEVENT
DTSTART;TZID=America/New_York:20241107T140000
DTEND;TZID=America/New_York:20241107T150000
DTSTAMP:20260419T145559
CREATED:20241009T165646Z
LAST-MODIFIED:20241016T141140Z
UID:12106-1730988000-1730991600@artsconnectva.org
SUMMARY:Musical Serenade with Ascension Melodies
DESCRIPTION:View Flyer
URL:https://artsconnectva.org/event/musical-serenade-with-ascension-melodies-8/
LOCATION:VA
CATEGORIES:Outreach Program
END:VEVENT
BEGIN:VEVENT
DTSTART;TZID=America/New_York:20241107T180000
DTEND;TZID=America/New_York:20241107T190000
DTSTAMP:20260419T145559
CREATED:20241009T174513Z
LAST-MODIFIED:20241009T174513Z
UID:12111-1731002400-1731006000@artsconnectva.org
SUMMARY:Tape Painting with Camille Donne
DESCRIPTION:View Flyer
URL:https://artsconnectva.org/event/tape-painting-with-camille-donne/
LOCATION:Pearl Bailey Library\, 2510 Wickham Ave\, Newport News\, VA\, 23607\, United States
CATEGORIES:Open to the Public
END:VEVENT
BEGIN:VEVENT
DTSTART;TZID=America/New_York:20241107T181500
DTEND;TZID=America/New_York:20241107T191500
DTSTAMP:20260419T145559
CREATED:20241029T170535Z
LAST-MODIFIED:20241029T170535Z
UID:12273-1731003300-1731006900@artsconnectva.org
SUMMARY:FACTS Parade and Costume Design
DESCRIPTION:
URL:https://artsconnectva.org/event/facts-parade-and-costume-design/
LOCATION:VA
CATEGORIES:Outreach Program
END:VEVENT
BEGIN:VEVENT
DTSTART;TZID=America/New_York:20241108T130000
DTEND;TZID=America/New_York:20241108T140000
DTSTAMP:20260419T145559
CREATED:20241009T175848Z
LAST-MODIFIED:20241009T175848Z
UID:12119-1731070800-1731074400@artsconnectva.org
SUMMARY:All the Classics with Mary Saunders
DESCRIPTION:
URL:https://artsconnectva.org/event/all-the-classics-with-mary-saunders-4/
LOCATION:VA
CATEGORIES:Outreach Program
END:VEVENT
BEGIN:VEVENT
DTSTART;TZID=America/New_York:20241108T140000
DTEND;TZID=America/New_York:20241108T150000
DTSTAMP:20260419T145559
CREATED:20241004T153157Z
LAST-MODIFIED:20241004T153157Z
UID:12066-1731074400-1731078000@artsconnectva.org
SUMMARY:Improv Fun with Leila Stephanie
DESCRIPTION:
URL:https://artsconnectva.org/event/improv-fun-with-leila-stephanie-5/
LOCATION:VA
CATEGORIES:Outreach Program
END:VEVENT
BEGIN:VEVENT
DTSTART;TZID=America/New_York:20241108T140000
DTEND;TZID=America/New_York:20241108T150000
DTSTAMP:20260419T145559
CREATED:20241009T174840Z
LAST-MODIFIED:20241009T174840Z
UID:12114-1731074400-1731078000@artsconnectva.org
SUMMARY:Happy Hour with Dan Smith
DESCRIPTION:
URL:https://artsconnectva.org/event/happy-hour-with-dan-smith-15/
LOCATION:VA
CATEGORIES:Outreach Program
END:VEVENT
BEGIN:VEVENT
DTSTART;TZID=America/New_York:20241108T140000
DTEND;TZID=America/New_York:20241108T150000
DTSTAMP:20260419T145559
CREATED:20241009T175243Z
LAST-MODIFIED:20241016T142008Z
UID:12116-1731074400-1731078000@artsconnectva.org
SUMMARY:Rock n' roll with Mark Pettiford
DESCRIPTION:View Flyer
URL:https://artsconnectva.org/event/rock-n-roll-with-mark-pettiford-9/
LOCATION:VA
CATEGORIES:Outreach Program
END:VEVENT
BEGIN:VEVENT
DTSTART;TZID=America/New_York:20241108T140000
DTEND;TZID=America/New_York:20241108T150000
DTSTAMP:20260419T145600
CREATED:20241009T180818Z
LAST-MODIFIED:20241016T215645Z
UID:12123-1731074400-1731078000@artsconnectva.org
SUMMARY:All the Favorites with Adrienne & Jamie
DESCRIPTION:
URL:https://artsconnectva.org/event/all-the-favorites-with-adrienne-jamie-3/
LOCATION:VA
CATEGORIES:Outreach Program
END:VEVENT
BEGIN:VEVENT
DTSTART;TZID=America/New_York:20241108T143000
DTEND;TZID=America/New_York:20241108T153000
DTSTAMP:20260419T145600
CREATED:20241009T182007Z
LAST-MODIFIED:20241009T182007Z
UID:12125-1731076200-1731079800@artsconnectva.org
SUMMARY:Acrylic Painting with Maggie Kerrigan
DESCRIPTION:
URL:https://artsconnectva.org/event/acrylic-painting-with-maggie-kerrigan-2/
LOCATION:VA
CATEGORIES:Outreach Program
END:VEVENT
BEGIN:VEVENT
DTSTART;TZID=America/New_York:20241108T170000
DTEND;TZID=America/New_York:20241108T180000
DTSTAMP:20260419T145600
CREATED:20241009T180319Z
LAST-MODIFIED:20241009T180319Z
UID:12121-1731085200-1731088800@artsconnectva.org
SUMMARY:Second Friday Art with Susan Owens
DESCRIPTION:
URL:https://artsconnectva.org/event/second-friday-art-with-susan-owens/
LOCATION:VA
CATEGORIES:Outreach Program
END:VEVENT
BEGIN:VEVENT
DTSTART;TZID=America/New_York:20241109T170000
DTEND;TZID=America/New_York:20241109T180000
DTSTAMP:20260419T145600
CREATED:20241009T182406Z
LAST-MODIFIED:20241009T182406Z
UID:12127-1731171600-1731175200@artsconnectva.org
SUMMARY:Autism Society Tidewater hosts Vivian Davis
DESCRIPTION:
URL:https://artsconnectva.org/event/autism-society-tidewater-hosts-vivian-davis/
LOCATION:VA
CATEGORIES:Outreach Program
END:VEVENT
BEGIN:VEVENT
DTSTART;TZID=America/New_York:20241111T131500
DTEND;TZID=America/New_York:20241111T141500
DTSTAMP:20260419T145600
CREATED:20241011T123820Z
LAST-MODIFIED:20241011T123820Z
UID:12133-1731330900-1731334500@artsconnectva.org
SUMMARY:Veteran's Ceremony with Art Rowe
DESCRIPTION:
URL:https://artsconnectva.org/event/veterans-ceremony-with-art-rowe/
LOCATION:VA
CATEGORIES:Outreach Program
END:VEVENT
BEGIN:VEVENT
DTSTART;TZID=America/New_York:20241111T140000
DTEND;TZID=America/New_York:20241111T150000
DTSTAMP:20260419T145600
CREATED:20241009T182920Z
LAST-MODIFIED:20241009T182920Z
UID:12129-1731333600-1731337200@artsconnectva.org
SUMMARY:Veteran's Day Celebration with Dan Smith
DESCRIPTION:
URL:https://artsconnectva.org/event/veterans-day-celebration-with-dan-smith/
LOCATION:VA
CATEGORIES:Outreach Program
END:VEVENT
BEGIN:VEVENT
DTSTART;TZID=America/New_York:20241111T144500
DTEND;TZID=America/New_York:20241111T154500
DTSTAMP:20260419T145600
CREATED:20241011T124303Z
LAST-MODIFIED:20241011T124303Z
UID:12135-1731336300-1731339900@artsconnectva.org
SUMMARY:Patriotic Mason Jars with Susan Owens
DESCRIPTION:
URL:https://artsconnectva.org/event/patriotic-mason-jars-with-susan-owens/
LOCATION:VA
CATEGORIES:Outreach Program
END:VEVENT
BEGIN:VEVENT
DTSTART;TZID=America/New_York:20241111T160000
DTEND;TZID=America/New_York:20241111T170000
DTSTAMP:20260419T145600
CREATED:20241030T154019Z
LAST-MODIFIED:20241030T154019Z
UID:12322-1731340800-1731344400@artsconnectva.org
SUMMARY:Veteran's Day with Bryan Martin
DESCRIPTION:
URL:https://artsconnectva.org/event/veterans-day-with-bryan-martin/
LOCATION:VA
CATEGORIES:Outreach Program
END:VEVENT
BEGIN:VEVENT
DTSTART;TZID=America/New_York:20241112T133000
DTEND;TZID=America/New_York:20241112T143000
DTSTAMP:20260419T145600
CREATED:20241029T171615Z
LAST-MODIFIED:20241029T171615Z
UID:12277-1731418200-1731421800@artsconnectva.org
SUMMARY:Keep the Beat Social with Ascension Melodies
DESCRIPTION:
URL:https://artsconnectva.org/event/keep-the-beat-social-with-ascension-melodies/
LOCATION:VA
CATEGORIES:Outreach Program
END:VEVENT
BEGIN:VEVENT
DTSTART;TZID=America/New_York:20241112T140000
DTEND;TZID=America/New_York:20241112T150000
DTSTAMP:20260419T145600
CREATED:20241011T124515Z
LAST-MODIFIED:20241011T124515Z
UID:12137-1731420000-1731423600@artsconnectva.org
SUMMARY:Birthday Social with Christian Flores
DESCRIPTION:
URL:https://artsconnectva.org/event/birthday-social-with-christian-flores/
LOCATION:VA
CATEGORIES:Outreach Program
END:VEVENT
END:VCALENDAR