BEGIN:VCALENDAR
VERSION:2.0
PRODID:-//ArtsConnect Virginia - ECPv6.15.20//NONSGML v1.0//EN
CALSCALE:GREGORIAN
METHOD:PUBLISH
X-ORIGINAL-URL:https://artsconnectva.org
X-WR-CALDESC:Events for ArtsConnect Virginia
REFRESH-INTERVAL;VALUE=DURATION:PT1H
X-Robots-Tag:noindex
X-PUBLISHED-TTL:PT1H
BEGIN:VTIMEZONE
TZID:America/New_York
BEGIN:DAYLIGHT
TZOFFSETFROM:-0500
TZOFFSETTO:-0400
TZNAME:EDT
DTSTART:20230312T070000
END:DAYLIGHT
BEGIN:STANDARD
TZOFFSETFROM:-0400
TZOFFSETTO:-0500
TZNAME:EST
DTSTART:20231105T060000
END:STANDARD
BEGIN:DAYLIGHT
TZOFFSETFROM:-0500
TZOFFSETTO:-0400
TZNAME:EDT
DTSTART:20240310T070000
END:DAYLIGHT
BEGIN:STANDARD
TZOFFSETFROM:-0400
TZOFFSETTO:-0500
TZNAME:EST
DTSTART:20241103T060000
END:STANDARD
BEGIN:DAYLIGHT
TZOFFSETFROM:-0500
TZOFFSETTO:-0400
TZNAME:EDT
DTSTART:20250309T070000
END:DAYLIGHT
BEGIN:STANDARD
TZOFFSETFROM:-0400
TZOFFSETTO:-0500
TZNAME:EST
DTSTART:20251102T060000
END:STANDARD
END:VTIMEZONE
BEGIN:VEVENT
DTSTART;TZID=America/New_York:20240830T130000
DTEND;TZID=America/New_York:20240830T140000
DTSTAMP:20260419T193720
CREATED:20240626T151756Z
LAST-MODIFIED:20240626T151756Z
UID:10908-1725022800-1725026400@artsconnectva.org
SUMMARY:End of Summer Bash with Art Rowe
DESCRIPTION:View Flyer
URL:https://artsconnectva.org/event/end-of-summer-bash-with-art-rowe/
LOCATION:VA
CATEGORIES:Outreach Program
END:VEVENT
BEGIN:VEVENT
DTSTART;TZID=America/New_York:20240830T130000
DTEND;TZID=America/New_York:20240830T140000
DTSTAMP:20260419T193720
CREATED:20240813T145822Z
LAST-MODIFIED:20240813T145822Z
UID:11658-1725022800-1725026400@artsconnectva.org
SUMMARY:South Pacific Hula with Alicia Edwards
DESCRIPTION:View Flyer
URL:https://artsconnectva.org/event/south-pacific-hula-with-alicia-edwards/
LOCATION:VA
CATEGORIES:Outreach Program
END:VEVENT
BEGIN:VEVENT
DTSTART;TZID=America/New_York:20240830T140000
DTEND;TZID=America/New_York:20240830T150000
DTSTAMP:20260419T193720
CREATED:20240624T160618Z
LAST-MODIFIED:20240624T160618Z
UID:10887-1725026400-1725030000@artsconnectva.org
SUMMARY:Happy Hour with Richard Mekdeci
DESCRIPTION:View Flyer
URL:https://artsconnectva.org/event/happy-hour-with-richard-mekdeci/
LOCATION:VA
CATEGORIES:Outreach Program
END:VEVENT
BEGIN:VEVENT
DTSTART;TZID=America/New_York:20240830T140000
DTEND;TZID=America/New_York:20240830T150000
DTSTAMP:20260419T193720
CREATED:20240723T173758Z
LAST-MODIFIED:20240723T173758Z
UID:11116-1725026400-1725030000@artsconnectva.org
SUMMARY:Rock Painting with Adrienne Searle
DESCRIPTION:View Flyer
URL:https://artsconnectva.org/event/rock-painting-with-adrienne-searle-3/
LOCATION:VA
CATEGORIES:Outreach Program
END:VEVENT
BEGIN:VEVENT
DTSTART;TZID=America/New_York:20240902T140000
DTEND;TZID=America/New_York:20240902T150000
DTSTAMP:20260419T193720
CREATED:20240620T153431Z
LAST-MODIFIED:20240902T175536Z
UID:10832-1725285600-1725289200@artsconnectva.org
SUMMARY:Happy Hour with Dan Smith
DESCRIPTION:
URL:https://artsconnectva.org/event/happy-hour-with-dan-smith-11/
LOCATION:VA
CATEGORIES:Outreach Program
END:VEVENT
BEGIN:VEVENT
DTSTART;TZID=America/New_York:20240903T133000
DTEND;TZID=America/New_York:20240903T143000
DTSTAMP:20260419T193720
CREATED:20240805T194628Z
LAST-MODIFIED:20240805T194628Z
UID:11485-1725370200-1725373800@artsconnectva.org
SUMMARY:Keep the Beat Social with Tom & Rose Schlater
DESCRIPTION:View Flyer
URL:https://artsconnectva.org/event/keep-the-beat-social-with-tom-rose-schlater/
LOCATION:VA
CATEGORIES:Outreach Program
END:VEVENT
BEGIN:VEVENT
DTSTART;TZID=America/New_York:20240903T140000
DTEND;TZID=America/New_York:20240903T150000
DTSTAMP:20260419T193720
CREATED:20240805T203102Z
LAST-MODIFIED:20240805T203102Z
UID:11491-1725372000-1725375600@artsconnectva.org
SUMMARY:Musical Serenade with Ascension Melodies
DESCRIPTION:View Flyer
URL:https://artsconnectva.org/event/musical-serenade-with-ascension-melodies-2/
LOCATION:VA
CATEGORIES:Outreach Program
END:VEVENT
BEGIN:VEVENT
DTSTART;TZID=America/New_York:20240903T143000
DTEND;TZID=America/New_York:20240903T153000
DTSTAMP:20260419T193720
CREATED:20240821T161031Z
LAST-MODIFIED:20240821T161031Z
UID:11724-1725373800-1725377400@artsconnectva.org
SUMMARY:Music\, Motown\, and More with Richard Mekdeci
DESCRIPTION:
URL:https://artsconnectva.org/event/music-motown-and-more-with-richard-mekdeci-40/
LOCATION:VA
CATEGORIES:Outreach Program
END:VEVENT
BEGIN:VEVENT
DTSTART;TZID=America/New_York:20240904T110000
DTEND;TZID=America/New_York:20240904T120000
DTSTAMP:20260419T193720
CREATED:20240805T203653Z
LAST-MODIFIED:20240805T203653Z
UID:11494-1725447600-1725451200@artsconnectva.org
SUMMARY:Butterfly Wreaths with Rhona Dawson
DESCRIPTION:
URL:https://artsconnectva.org/event/butterfly-wreaths-with-rhona-dawson-2/
LOCATION:VA
CATEGORIES:Outreach Program
END:VEVENT
BEGIN:VEVENT
DTSTART;TZID=America/New_York:20240904T140000
DTEND;TZID=America/New_York:20240904T150000
DTSTAMP:20260419T193720
CREATED:20240805T193700Z
LAST-MODIFIED:20240805T193700Z
UID:11482-1725458400-1725462000@artsconnectva.org
SUMMARY:Trumpet Tunes with Chad McGill
DESCRIPTION:View Flyer
URL:https://artsconnectva.org/event/trumpet-tunes-with-chad-mcgill-19/
LOCATION:VA
CATEGORIES:Outreach Program
END:VEVENT
BEGIN:VEVENT
DTSTART;TZID=America/New_York:20240905T130000
DTEND;TZID=America/New_York:20240905T140000
DTSTAMP:20260419T193720
CREATED:20240806T133400Z
LAST-MODIFIED:20240806T133400Z
UID:11508-1725541200-1725544800@artsconnectva.org
SUMMARY:Let's Sing with David Jones & Bryan Martin
DESCRIPTION:
URL:https://artsconnectva.org/event/lets-sing-with-david-jones-bryan-martin/
LOCATION:VA
CATEGORIES:Outreach Program
END:VEVENT
BEGIN:VEVENT
DTSTART;TZID=America/New_York:20240905T140000
DTEND;TZID=America/New_York:20240905T150000
DTSTAMP:20260419T193720
CREATED:20240806T132004Z
LAST-MODIFIED:20240806T132004Z
UID:11504-1725544800-1725548400@artsconnectva.org
SUMMARY:Trumpet Tunes with Chad McGill
DESCRIPTION:
URL:https://artsconnectva.org/event/trumpet-tunes-with-chad-mcgill-20/
LOCATION:VA
CATEGORIES:Outreach Program
END:VEVENT
BEGIN:VEVENT
DTSTART;TZID=America/New_York:20240905T140000
DTEND;TZID=America/New_York:20240905T150000
DTSTAMP:20260419T193720
CREATED:20240815T170534Z
LAST-MODIFIED:20240815T170534Z
UID:11671-1725544800-1725548400@artsconnectva.org
SUMMARY:Musical Serenade with Ascension Melodies
DESCRIPTION:
URL:https://artsconnectva.org/event/musical-serenade-with-ascension-melodies-5/
LOCATION:VA
CATEGORIES:Outreach Program
END:VEVENT
BEGIN:VEVENT
DTSTART;TZID=America/New_York:20240905T140000
DTEND;TZID=America/New_York:20240905T150000
DTSTAMP:20260419T193720
CREATED:20240827T181343Z
LAST-MODIFIED:20240827T181343Z
UID:11747-1725544800-1725548400@artsconnectva.org
SUMMARY:Summer Wreath Making with Amanda Wallace
DESCRIPTION:
URL:https://artsconnectva.org/event/summer-wreath-making-with-amanda-wallace/
LOCATION:VA
CATEGORIES:Outreach Program
END:VEVENT
BEGIN:VEVENT
DTSTART;TZID=America/New_York:20240905T180000
DTEND;TZID=America/New_York:20240905T190000
DTSTAMP:20260419T193720
CREATED:20240806T142925Z
LAST-MODIFIED:20240902T175313Z
UID:11520-1725559200-1725562800@artsconnectva.org
SUMMARY:Clappy Hour with Art Rowe
DESCRIPTION:View Flyer
URL:https://artsconnectva.org/event/clappy-hour-with-art-rowe/
LOCATION:Pearl Bailey Library\, 2510 Wickham Ave\, Newport News\, VA\, 23607\, United States
CATEGORIES:Open to the Public
END:VEVENT
BEGIN:VEVENT
DTSTART;TZID=America/New_York:20240906T140000
DTEND;TZID=America/New_York:20240906T150000
DTSTAMP:20260419T193720
CREATED:20240821T161355Z
LAST-MODIFIED:20240821T161355Z
UID:11726-1725631200-1725634800@artsconnectva.org
SUMMARY:Trumpet Tunes with Chad McGill
DESCRIPTION:
URL:https://artsconnectva.org/event/trumpet-tunes-with-chad-mcgill-21/
LOCATION:VA
CATEGORIES:Outreach Program
END:VEVENT
BEGIN:VEVENT
DTSTART;TZID=America/New_York:20240906T140000
DTEND;TZID=America/New_York:20240906T150000
DTSTAMP:20260419T193720
CREATED:20240903T172015Z
LAST-MODIFIED:20240903T172015Z
UID:11782-1725631200-1725634800@artsconnectva.org
SUMMARY:Rock and Roll with Mark Pettiford
DESCRIPTION:
URL:https://artsconnectva.org/event/rock-and-roll-with-mark-pettiford/
LOCATION:VA
CATEGORIES:Outreach Program
END:VEVENT
BEGIN:VEVENT
DTSTART;TZID=America/New_York:20240906T160000
DTEND;TZID=America/New_York:20240906T170000
DTSTAMP:20260419T193720
CREATED:20240806T134403Z
LAST-MODIFIED:20240806T134403Z
UID:11510-1725638400-1725642000@artsconnectva.org
SUMMARY:Musical Serenade with Ascension Melodies
DESCRIPTION:View Flyer
URL:https://artsconnectva.org/event/musical-serenade-with-ascension-melodies-3/
LOCATION:VA
CATEGORIES:Outreach Program
END:VEVENT
BEGIN:VEVENT
DTSTART;TZID=America/New_York:20240907T170000
DTEND;TZID=America/New_York:20240907T180000
DTSTAMP:20260419T193720
CREATED:20240806T141304Z
LAST-MODIFIED:20240806T141304Z
UID:11516-1725728400-1725732000@artsconnectva.org
SUMMARY:autism Society Tidewater Virginia hosts Concetta Morales
DESCRIPTION:
URL:https://artsconnectva.org/event/autism-society-tidewater-virginia-hosts-concetta-morales/
LOCATION:VA
CATEGORIES:Outreach Program
END:VEVENT
BEGIN:VEVENT
DTSTART;TZID=America/New_York:20240909T123000
DTEND;TZID=America/New_York:20240909T133000
DTSTAMP:20260419T193720
CREATED:20240903T213451Z
LAST-MODIFIED:20240903T213451Z
UID:11809-1725885000-1725888600@artsconnectva.org
SUMMARY:Back to School Bash with Christian Flores
DESCRIPTION:
URL:https://artsconnectva.org/event/back-to-school-bash-with-christian-flores/
LOCATION:VA
CATEGORIES:Outreach Program
END:VEVENT
BEGIN:VEVENT
DTSTART;TZID=America/New_York:20240909T130000
DTEND;TZID=America/New_York:20240909T140000
DTSTAMP:20260419T193720
CREATED:20240909T142141Z
LAST-MODIFIED:20240909T142141Z
UID:11831-1725886800-1725890400@artsconnectva.org
SUMMARY:Music from the Wizard of Oz with Karen Stowe
DESCRIPTION:View Flyer
URL:https://artsconnectva.org/event/music-from-the-wizard-of-oz-with-karen-stowe-2/
LOCATION:VA
CATEGORIES:Outreach Program
END:VEVENT
BEGIN:VEVENT
DTSTART;TZID=America/New_York:20240910T110000
DTEND;TZID=America/New_York:20240910T120000
DTSTAMP:20260419T193720
CREATED:20240806T141830Z
LAST-MODIFIED:20240806T141830Z
UID:11518-1725966000-1725969600@artsconnectva.org
SUMMARY:Painting with David Duck
DESCRIPTION:
URL:https://artsconnectva.org/event/painting-with-david-duck-2/
LOCATION:VA
CATEGORIES:Outreach Program
END:VEVENT
BEGIN:VEVENT
DTSTART;TZID=America/New_York:20240910T130000
DTEND;TZID=America/New_York:20240910T140000
DTSTAMP:20260419T193720
CREATED:20240812T173046Z
LAST-MODIFIED:20240812T173046Z
UID:11637-1725973200-1725976800@artsconnectva.org
SUMMARY:Golden Oldies with Ava and Bryan
DESCRIPTION:
URL:https://artsconnectva.org/event/golden-oldies-with-ava-and-bryan-2/
LOCATION:VA
CATEGORIES:Outreach Program
END:VEVENT
BEGIN:VEVENT
DTSTART;TZID=America/New_York:20240910T133000
DTEND;TZID=America/New_York:20240910T143000
DTSTAMP:20260419T193720
CREATED:20240805T195353Z
LAST-MODIFIED:20240805T195353Z
UID:11488-1725975000-1725978600@artsconnectva.org
SUMMARY:Keep the Beat Social with Alex Marlins
DESCRIPTION:View Flyer
URL:https://artsconnectva.org/event/keep-the-beat-social-with-alex-marlins-9/
LOCATION:VA
CATEGORIES:Outreach Program
END:VEVENT
BEGIN:VEVENT
DTSTART;TZID=America/New_York:20240910T150000
DTEND;TZID=America/New_York:20240910T160000
DTSTAMP:20260419T193720
CREATED:20240821T161730Z
LAST-MODIFIED:20240821T161730Z
UID:11728-1725980400-1725984000@artsconnectva.org
SUMMARY:Throwbacks with Bryan Martin
DESCRIPTION:
URL:https://artsconnectva.org/event/throwbacks-with-bryan-martin-11/
LOCATION:VA
CATEGORIES:Outreach Program
END:VEVENT
BEGIN:VEVENT
DTSTART;TZID=America/New_York:20240911T100000
DTEND;TZID=America/New_York:20240911T120000
DTSTAMP:20260419T193720
CREATED:20240807T131002Z
LAST-MODIFIED:20240807T131100Z
UID:11531-1726048800-1726056000@artsconnectva.org
SUMMARY:Pop Top Opener with Suffolk Center for the Cultural Arts
DESCRIPTION:
URL:https://artsconnectva.org/event/pop-top-opener-with-suffolk-center-for-the-cultural-arts/
LOCATION:Suffolk Center for the Cultural Arts\, 110 W. Finney Ave\, Suffolk\, VA\, 23434\, United States
CATEGORIES:Open to the Public
END:VEVENT
BEGIN:VEVENT
DTSTART;TZID=America/New_York:20240911T133000
DTEND;TZID=America/New_York:20240911T143000
DTSTAMP:20260419T193720
CREATED:20240807T131547Z
LAST-MODIFIED:20240807T131547Z
UID:11534-1726061400-1726065000@artsconnectva.org
SUMMARY:Let's Jam with The Earthtones
DESCRIPTION:View Flyer
URL:https://artsconnectva.org/event/lets-jam-with-the-earthtones-2/
LOCATION:VA
CATEGORIES:Outreach Program
END:VEVENT
BEGIN:VEVENT
DTSTART;TZID=America/New_York:20240911T140000
DTEND;TZID=America/New_York:20240911T150000
DTSTAMP:20260419T193720
CREATED:20240817T193406Z
LAST-MODIFIED:20240817T193406Z
UID:11702-1726063200-1726066800@artsconnectva.org
SUMMARY:Songs of the 50's with Karen Stowe
DESCRIPTION:View Flyer
URL:https://artsconnectva.org/event/songs-of-the-50s-with-karen-stowe-2/
LOCATION:VA
CATEGORIES:Outreach Program
END:VEVENT
BEGIN:VEVENT
DTSTART;TZID=America/New_York:20240911T150000
DTEND;TZID=America/New_York:20240911T160000
DTSTAMP:20260419T193720
CREATED:20240828T200507Z
LAST-MODIFIED:20240828T200507Z
UID:11755-1726066800-1726070400@artsconnectva.org
SUMMARY:Golden Oldies with Ava Stevenson
DESCRIPTION:
URL:https://artsconnectva.org/event/golden-oldies-with-ava-stevenson-4/
LOCATION:Kempsville Health & Rehab Center\, 5520 Indian River Rd\, Virginia Beach\, VA\, 23464\, United States
CATEGORIES:Open to the Public
END:VEVENT
BEGIN:VEVENT
DTSTART;TZID=America/New_York:20240912T130000
DTEND;TZID=America/New_York:20240912T140000
DTSTAMP:20260419T193720
CREATED:20240708T160032Z
LAST-MODIFIED:20240708T160032Z
UID:11050-1726146000-1726149600@artsconnectva.org
SUMMARY:Caribbean Carnival Expo with Alicia Edwards
DESCRIPTION:
URL:https://artsconnectva.org/event/caribbean-carnival-expo-with-alicia-edwards/
LOCATION:VA
CATEGORIES:Outreach Program
END:VEVENT
END:VCALENDAR