BEGIN:VCALENDAR
VERSION:2.0
PRODID:-//ArtsConnect Virginia - ECPv6.15.20//NONSGML v1.0//EN
CALSCALE:GREGORIAN
METHOD:PUBLISH
X-WR-CALNAME:ArtsConnect Virginia
X-ORIGINAL-URL:https://artsconnectva.org
X-WR-CALDESC:Events for ArtsConnect Virginia
REFRESH-INTERVAL;VALUE=DURATION:PT1H
X-Robots-Tag:noindex
X-PUBLISHED-TTL:PT1H
BEGIN:VTIMEZONE
TZID:America/New_York
BEGIN:DAYLIGHT
TZOFFSETFROM:-0500
TZOFFSETTO:-0400
TZNAME:EDT
DTSTART:20230312T070000
END:DAYLIGHT
BEGIN:STANDARD
TZOFFSETFROM:-0400
TZOFFSETTO:-0500
TZNAME:EST
DTSTART:20231105T060000
END:STANDARD
BEGIN:DAYLIGHT
TZOFFSETFROM:-0500
TZOFFSETTO:-0400
TZNAME:EDT
DTSTART:20240310T070000
END:DAYLIGHT
BEGIN:STANDARD
TZOFFSETFROM:-0400
TZOFFSETTO:-0500
TZNAME:EST
DTSTART:20241103T060000
END:STANDARD
BEGIN:DAYLIGHT
TZOFFSETFROM:-0500
TZOFFSETTO:-0400
TZNAME:EDT
DTSTART:20250309T070000
END:DAYLIGHT
BEGIN:STANDARD
TZOFFSETFROM:-0400
TZOFFSETTO:-0500
TZNAME:EST
DTSTART:20251102T060000
END:STANDARD
END:VTIMEZONE
BEGIN:VEVENT
DTSTART;TZID=America/New_York:20240130T133000
DTEND;TZID=America/New_York:20240130T143000
DTSTAMP:20260421T205438
CREATED:20231116T185627Z
LAST-MODIFIED:20231116T185627Z
UID:8953-1706621400-1706625000@artsconnectva.org
SUMMARY:Favorite Throwbacks with MaryAnn Toboz
DESCRIPTION:MaryAnn sings and accompanies herself on guitar. She shares songbooks with large print lyrics to familiar songs spanning genres and decades. The lively\, upbeat program has participants singing\, dancing\, and reminiscing!
URL:https://artsconnectva.org/event/favorite-throwbacks-with-maryann-toboz-2/
LOCATION:VA
CATEGORIES:Outreach Program
END:VEVENT
BEGIN:VEVENT
DTSTART;TZID=America/New_York:20240130T140000
DTEND;TZID=America/New_York:20240130T150000
DTSTAMP:20260421T205438
CREATED:20231211T194321Z
LAST-MODIFIED:20231211T194321Z
UID:9289-1706623200-1706626800@artsconnectva.org
SUMMARY:Strummin' and Pickin' with Ted and Eric
DESCRIPTION:Eric and Ted perform a variety of original and traditional songs accompanying themselves on guitar and mandolin\, bluegrass\, folk\, ragtime\, novelty.
URL:https://artsconnectva.org/event/strummin-and-pickin-with-ted-and-eric-6/
LOCATION:VA
CATEGORIES:Outreach Program
END:VEVENT
BEGIN:VEVENT
DTSTART;TZID=America/New_York:20240130T140000
DTEND;TZID=America/New_York:20240130T150000
DTSTAMP:20260421T205438
CREATED:20231214T151713Z
LAST-MODIFIED:20231214T151713Z
UID:9297-1706623200-1706626800@artsconnectva.org
SUMMARY:Candle Making with Ginnie Stover
DESCRIPTION:Join Ginnie as she guides you through the process of creating your own decorative gel candle!
URL:https://artsconnectva.org/event/candle-making-with-ginnie-stover-6/
LOCATION:VA
CATEGORIES:Outreach Program
END:VEVENT
BEGIN:VEVENT
DTSTART;TZID=America/New_York:20240130T140000
DTEND;TZID=America/New_York:20240130T150000
DTSTAMP:20260421T205438
CREATED:20231220T163017Z
LAST-MODIFIED:20231220T163017Z
UID:9381-1706623200-1706626800@artsconnectva.org
SUMMARY:Acrylic Paint Pour with Vanessa Golson
DESCRIPTION:Acrylic Paint Pour is a interactive art experience that allows the participant to create a colorful\, one-of-a-kind masterpiece.
URL:https://artsconnectva.org/event/acrylic-paint-pour-with-vanessa-golson-16/
LOCATION:VA
CATEGORIES:Outreach Program
END:VEVENT
BEGIN:VEVENT
DTSTART;TZID=America/New_York:20240130T140000
DTEND;TZID=America/New_York:20240130T150000
DTSTAMP:20260421T205438
CREATED:20240117T204648Z
LAST-MODIFIED:20240117T204648Z
UID:9609-1706623200-1706626800@artsconnectva.org
SUMMARY:Let's Sing! with Art Rowe
DESCRIPTION:Art’s is an acoustic guitarist and singer that performs a variety of country\, oldies\, and classic rock music from the 1950’s on up!
URL:https://artsconnectva.org/event/lets-sing-with-art-rowe-4/
LOCATION:VA
CATEGORIES:Outreach Program
END:VEVENT
BEGIN:VEVENT
DTSTART;TZID=America/New_York:20240130T150000
DTEND;TZID=America/New_York:20240130T160000
DTSTAMP:20260421T205438
CREATED:20231227T205512Z
LAST-MODIFIED:20231227T205512Z
UID:9413-1706626800-1706630400@artsconnectva.org
SUMMARY:Paint like Picasso with Creative Connections
DESCRIPTION:Let’s paint like Picasso with creative connections!
URL:https://artsconnectva.org/event/paint-like-picasso-with-creative-connections-3/
LOCATION:VA
CATEGORIES:Outreach Program
END:VEVENT
BEGIN:VEVENT
DTSTART;TZID=America/New_York:20240131T150000
DTEND;TZID=America/New_York:20240131T160000
DTSTAMP:20260421T205438
CREATED:20231227T191102Z
LAST-MODIFIED:20231227T191102Z
UID:9396-1706713200-1706716800@artsconnectva.org
SUMMARY:Paint Like Picasso with Creative Connections
DESCRIPTION:Let’s paint like Picasso with Creative Connections!
URL:https://artsconnectva.org/event/paint-like-picasso-with-creative-connections-2/
LOCATION:VA
CATEGORIES:Outreach Program
END:VEVENT
BEGIN:VEVENT
DTSTART;TZID=America/New_York:20240201T140000
DTEND;TZID=America/New_York:20240201T150000
DTSTAMP:20260421T205438
CREATED:20231204T190753Z
LAST-MODIFIED:20231204T190753Z
UID:9280-1706796000-1706799600@artsconnectva.org
SUMMARY:Trumpet Tunes with Chad McGill
DESCRIPTION:Join Chad as he plays a variety of music on the trumpet! From light jazz to The Beatles\, you will find his music has something for everyone!
URL:https://artsconnectva.org/event/trumpet-tunes-with-chad-mcgill/
LOCATION:VA
CATEGORIES:Outreach Program
END:VEVENT
BEGIN:VEVENT
DTSTART;TZID=America/New_York:20240202T140000
DTEND;TZID=America/New_York:20240202T150000
DTSTAMP:20260421T205438
CREATED:20240102T174800Z
LAST-MODIFIED:20240102T174800Z
UID:9457-1706882400-1706886000@artsconnectva.org
SUMMARY:Trumpet Tunes with Chad McGill
DESCRIPTION:Join Chad as he plays a variety of music on the trumpet! From light jazz to The Beatles\, you will find his music has something for everyone! \n 
URL:https://artsconnectva.org/event/trumpet-tunes-with-chad-mcgill-4/
LOCATION:VA
CATEGORIES:Outreach Program
END:VEVENT
BEGIN:VEVENT
DTSTART;TZID=America/New_York:20240202T140000
DTEND;TZID=America/New_York:20240202T150000
DTSTAMP:20260421T205438
CREATED:20240104T185332Z
LAST-MODIFIED:20240104T185332Z
UID:9492-1706882400-1706886000@artsconnectva.org
SUMMARY:Happy Hour with Adrienne and Jamie
DESCRIPTION:Join Adrienne and Jamie as they play some throwback tunes!
URL:https://artsconnectva.org/event/happy-hour-with-adrienne-and-jamie-3/
LOCATION:VA
CATEGORIES:Outreach Program
END:VEVENT
BEGIN:VEVENT
DTSTART;TZID=America/New_York:20240205T140000
DTEND;TZID=America/New_York:20240205T150000
DTSTAMP:20260421T205438
CREATED:20240104T184430Z
LAST-MODIFIED:20240104T184430Z
UID:9490-1707141600-1707145200@artsconnectva.org
SUMMARY:Happy Hour with Lyle and Linda Dowling
DESCRIPTION:Join Lyle and Linda as they perform a combination of styles of music from the 1940s-1980s! You will not want to miss this!
URL:https://artsconnectva.org/event/happy-hour-with-lyle-and-linda-dowling-3/
LOCATION:VA
CATEGORIES:Outreach Program
END:VEVENT
BEGIN:VEVENT
DTSTART;TZID=America/New_York:20240205T140000
DTEND;TZID=America/New_York:20240205T150000
DTSTAMP:20260421T205438
CREATED:20240111T160829Z
LAST-MODIFIED:20240111T160829Z
UID:9539-1707141600-1707145200@artsconnectva.org
SUMMARY:Mardi Gras Masks with Creative Connections
DESCRIPTION:Let’s make Mardi Gras Masks with Creative Connections!
URL:https://artsconnectva.org/event/mardi-gras-masks-with-creative-connections-4/
LOCATION:VA
CATEGORIES:Outreach Program
END:VEVENT
BEGIN:VEVENT
DTSTART;TZID=America/New_York:20240206T130000
DTEND;TZID=America/New_York:20240206T140000
DTSTAMP:20260421T205438
CREATED:20240115T182906Z
LAST-MODIFIED:20240115T182906Z
UID:9556-1707224400-1707228000@artsconnectva.org
SUMMARY:Singing and Smiling with David and Ron
DESCRIPTION:David and Ron’s sole objective is to interact with the audience via talking and singing with them and most important putting a “Smile” on their Face!
URL:https://artsconnectva.org/event/singing-and-smiling-with-david-and-ron-4/
LOCATION:VA
CATEGORIES:Outreach Program
END:VEVENT
BEGIN:VEVENT
DTSTART;TZID=America/New_York:20240206T133000
DTEND;TZID=America/New_York:20240206T143000
DTSTAMP:20260421T205438
CREATED:20231204T180857Z
LAST-MODIFIED:20231204T180857Z
UID:9262-1707226200-1707229800@artsconnectva.org
SUMMARY:Keep the Beat Social with Adrienne and Jamie
DESCRIPTION:Join Adrienne and Jamie as they play some throwback tunes!
URL:https://artsconnectva.org/event/keep-the-beat-social-with-adrienne-and-jamie-2/
LOCATION:VA
CATEGORIES:Outreach Program
END:VEVENT
BEGIN:VEVENT
DTSTART;TZID=America/New_York:20240206T133000
DTEND;TZID=America/New_York:20240206T143000
DTSTAMP:20260421T205438
CREATED:20231229T163630Z
LAST-MODIFIED:20231229T163630Z
UID:9448-1707226200-1707229800@artsconnectva.org
SUMMARY:Mardi Gras Mask with Creative Connections
DESCRIPTION:Let’s make Mardi Gras Masks with Creative Connections!
URL:https://artsconnectva.org/event/mardi-gras-mask-with-creative-connections-2/
LOCATION:VA
CATEGORIES:Outreach Program
END:VEVENT
BEGIN:VEVENT
DTSTART;TZID=America/New_York:20240206T140000
DTEND;TZID=America/New_York:20240206T150000
DTSTAMP:20260421T205438
CREATED:20240102T175720Z
LAST-MODIFIED:20240102T175720Z
UID:9460-1707228000-1707231600@artsconnectva.org
SUMMARY:Cardinal Mixed Media Painting with Stephanie Slate
DESCRIPTION:View Flyer
URL:https://artsconnectva.org/event/cardinal-mixed-media-painting-with-stephanie-slate/
LOCATION:VA
CATEGORIES:Outreach Program
END:VEVENT
BEGIN:VEVENT
DTSTART;TZID=America/New_York:20240207T130000
DTEND;TZID=America/New_York:20240207T140000
DTSTAMP:20260421T205438
CREATED:20231227T200342Z
LAST-MODIFIED:20231227T200342Z
UID:9403-1707310800-1707314400@artsconnectva.org
SUMMARY:Fletcher and Friends
DESCRIPTION:View Flyer
URL:https://artsconnectva.org/event/fletcher-and-friends-18/
LOCATION:VA
CATEGORIES:Outreach Program
END:VEVENT
BEGIN:VEVENT
DTSTART;TZID=America/New_York:20240208T130000
DTEND;TZID=America/New_York:20240208T140000
DTSTAMP:20260421T205438
CREATED:20240124T163708Z
LAST-MODIFIED:20240124T163708Z
UID:9640-1707397200-1707400800@artsconnectva.org
SUMMARY:Favorite Throwbacks with Art Rowe & David Jones
DESCRIPTION:View Flyer
URL:https://artsconnectva.org/event/favorite-throwbacks-with-art-rowe-david-jones/
LOCATION:VA
CATEGORIES:Outreach Program
END:VEVENT
BEGIN:VEVENT
DTSTART;TZID=America/New_York:20240208T140000
DTEND;TZID=America/New_York:20240208T150000
DTSTAMP:20260421T205438
CREATED:20231204T181458Z
LAST-MODIFIED:20231204T181458Z
UID:9264-1707400800-1707404400@artsconnectva.org
SUMMARY:Singing Songs with Tina and Jim
DESCRIPTION:Tina and Jim do interactive singalongs with favorites including jazz standards\, acoustic favorites and even some show tunes! They both have a passion for helping others heal through music and songwriting! \n 
URL:https://artsconnectva.org/event/singing-songs-with-tina-and-jim-9/
LOCATION:VA
CATEGORIES:Outreach Program
END:VEVENT
BEGIN:VEVENT
DTSTART;TZID=America/New_York:20240208T140000
DTEND;TZID=America/New_York:20240208T150000
DTSTAMP:20260421T205438
CREATED:20231229T133133Z
LAST-MODIFIED:20231229T133133Z
UID:9442-1707400800-1707404400@artsconnectva.org
SUMMARY:Stand Up Comedy with Rona Hyman
DESCRIPTION:View Flyer
URL:https://artsconnectva.org/event/stand-up-comedy-with-rona-hyman-3/
LOCATION:VA
CATEGORIES:Outreach Program
END:VEVENT
BEGIN:VEVENT
DTSTART;TZID=America/New_York:20240208T153000
DTEND;TZID=America/New_York:20240208T163000
DTSTAMP:20260421T205438
CREATED:20240115T181224Z
LAST-MODIFIED:20240115T181224Z
UID:9552-1707406200-1707409800@artsconnectva.org
SUMMARY:Love Collage with Aekta
DESCRIPTION:
URL:https://artsconnectva.org/event/love-collage-with-aekta/
LOCATION:VA
CATEGORIES:Outreach Program
END:VEVENT
BEGIN:VEVENT
DTSTART;TZID=America/New_York:20240209T130000
DTEND;TZID=America/New_York:20240209T140000
DTSTAMP:20260421T205438
CREATED:20240206T155245Z
LAST-MODIFIED:20240206T155245Z
UID:9712-1707483600-1707487200@artsconnectva.org
SUMMARY:Heart Paint-A-Long with Stephanie Slate
DESCRIPTION:View Flyer
URL:https://artsconnectva.org/event/heart-paint-a-long-with-stephanie-slate-2/
LOCATION:VA
CATEGORIES:Outreach Program
END:VEVENT
BEGIN:VEVENT
DTSTART;TZID=America/New_York:20240209T140000
DTEND;TZID=America/New_York:20240209T150000
DTSTAMP:20260421T205438
CREATED:20231214T160145Z
LAST-MODIFIED:20231214T160204Z
UID:9303-1707487200-1707490800@artsconnectva.org
SUMMARY:Mardi Gras Mask with Creative Connections
DESCRIPTION:Lets make Mardi Gras Masks with Creative Connections!
URL:https://artsconnectva.org/event/mardi-gras-mask-with-creative-connections/
LOCATION:VA
CATEGORIES:Outreach Program
END:VEVENT
BEGIN:VEVENT
DTSTART;TZID=America/New_York:20240209T140000
DTEND;TZID=America/New_York:20240209T150000
DTSTAMP:20260421T205438
CREATED:20240104T185644Z
LAST-MODIFIED:20240104T185644Z
UID:9494-1707487200-1707490800@artsconnectva.org
SUMMARY:Happy Hour with Dan Smith
DESCRIPTION:Enjoy a live performance of popular music from the 1940s\, 1950s and 1960s featuring big band\, classic country\, Elvis Presley\, Pat Boone\, and other icons of the era.
URL:https://artsconnectva.org/event/happy-hour-with-dan-smith-6/
LOCATION:VA
CATEGORIES:Outreach Program
END:VEVENT
BEGIN:VEVENT
DTSTART;TZID=America/New_York:20240209T140000
DTEND;TZID=America/New_York:20240209T150000
DTSTAMP:20260421T205438
CREATED:20240124T161806Z
LAST-MODIFIED:20240124T161806Z
UID:9637-1707487200-1707490800@artsconnectva.org
SUMMARY:Bells with a Beat with Jean Howard
DESCRIPTION:View Flyer
URL:https://artsconnectva.org/event/bells-with-a-beat-with-jean-howard/
LOCATION:VA
CATEGORIES:Outreach Program
END:VEVENT
BEGIN:VEVENT
DTSTART;TZID=America/New_York:20240209T150000
DTEND;TZID=America/New_York:20240209T160000
DTSTAMP:20260421T205439
CREATED:20240115T184120Z
LAST-MODIFIED:20240115T184120Z
UID:9560-1707490800-1707494400@artsconnectva.org
SUMMARY:Love Collage with Aekta Bandodker
DESCRIPTION:Join Aekta as she helps you make a love collage! We encourage you to bring pictures or something personal to include in your collage!
URL:https://artsconnectva.org/event/love-collage-with-aekta-bandodker/
LOCATION:VA
CATEGORIES:Outreach Program
END:VEVENT
BEGIN:VEVENT
DTSTART;TZID=America/New_York:20240209T153000
DTEND;TZID=America/New_York:20240209T160000
DTSTAMP:20260421T205439
CREATED:20240115T184456Z
LAST-MODIFIED:20240115T184456Z
UID:9562-1707492600-1707494400@artsconnectva.org
SUMMARY:All of the Favorites with Adrienne and Jamie
DESCRIPTION:Enjoy Jamie and Adrienne as they play a variety of genres of music from the 50s\, 60ss\, 70s\, 80\,s and current!
URL:https://artsconnectva.org/event/all-of-the-favorites-with-adrienne-and-jamie-2/
LOCATION:VA
CATEGORIES:Outreach Program
END:VEVENT
BEGIN:VEVENT
DTSTART;TZID=America/New_York:20240209T153000
DTEND;TZID=America/New_York:20240209T163000
DTSTAMP:20260421T205439
CREATED:20240115T182243Z
LAST-MODIFIED:20240115T182621Z
UID:9554-1707492600-1707496200@artsconnectva.org
SUMMARY:Favorite Throwbacks with Art Rowe
DESCRIPTION:
URL:https://artsconnectva.org/event/favorite-throwbacks-with-art-rowe-11/
LOCATION:VA
CATEGORIES:Outreach Program
END:VEVENT
BEGIN:VEVENT
DTSTART;TZID=America/New_York:20240212T103000
DTEND;TZID=America/New_York:20240212T113000
DTSTAMP:20260421T205439
CREATED:20231227T191622Z
LAST-MODIFIED:20231227T191622Z
UID:9398-1707733800-1707737400@artsconnectva.org
SUMMARY:Heart Paint-A-Long with Stephanie Slate
DESCRIPTION:Let’s celebrate Valentine’s Day with a heart paint-a-long!
URL:https://artsconnectva.org/event/heart-paint-a-long-with-stephanie-slate/
LOCATION:VA
CATEGORIES:Outreach Program
END:VEVENT
BEGIN:VEVENT
DTSTART;TZID=America/New_York:20240212T143000
DTEND;TZID=America/New_York:20240212T153000
DTSTAMP:20260421T205439
CREATED:20240124T195701Z
LAST-MODIFIED:20240124T195701Z
UID:9667-1707748200-1707751800@artsconnectva.org
SUMMARY:Mardi Gras Celebration with Chad McGill
DESCRIPTION:Join Chad as he plays a variety of music on the trumpet! From light jazz to The Beatles\, you will find his music has something for everyone!
URL:https://artsconnectva.org/event/mardi-gras-celebration-with-chad-mcgill/
LOCATION:VA
CATEGORIES:Outreach Program
END:VEVENT
END:VCALENDAR