BEGIN:VCALENDAR
VERSION:2.0
PRODID:-//ArtsConnect Virginia - ECPv6.15.20//NONSGML v1.0//EN
CALSCALE:GREGORIAN
METHOD:PUBLISH
X-WR-CALNAME:ArtsConnect Virginia
X-ORIGINAL-URL:https://artsconnectva.org
X-WR-CALDESC:Events for ArtsConnect Virginia
REFRESH-INTERVAL;VALUE=DURATION:PT1H
X-Robots-Tag:noindex
X-PUBLISHED-TTL:PT1H
BEGIN:VTIMEZONE
TZID:America/New_York
BEGIN:DAYLIGHT
TZOFFSETFROM:-0500
TZOFFSETTO:-0400
TZNAME:EDT
DTSTART:20230312T070000
END:DAYLIGHT
BEGIN:STANDARD
TZOFFSETFROM:-0400
TZOFFSETTO:-0500
TZNAME:EST
DTSTART:20231105T060000
END:STANDARD
BEGIN:DAYLIGHT
TZOFFSETFROM:-0500
TZOFFSETTO:-0400
TZNAME:EDT
DTSTART:20240310T070000
END:DAYLIGHT
BEGIN:STANDARD
TZOFFSETFROM:-0400
TZOFFSETTO:-0500
TZNAME:EST
DTSTART:20241103T060000
END:STANDARD
BEGIN:DAYLIGHT
TZOFFSETFROM:-0500
TZOFFSETTO:-0400
TZNAME:EDT
DTSTART:20250309T070000
END:DAYLIGHT
BEGIN:STANDARD
TZOFFSETFROM:-0400
TZOFFSETTO:-0500
TZNAME:EST
DTSTART:20251102T060000
END:STANDARD
END:VTIMEZONE
BEGIN:VEVENT
DTSTART;TZID=America/New_York:20241028T144500
DTEND;TZID=America/New_York:20241028T154500
DTSTAMP:20260419T162330
CREATED:20240924T145003Z
LAST-MODIFIED:20240924T145003Z
UID:12003-1730126700-1730130300@artsconnectva.org
SUMMARY:Spooky Spiderwebs with Stephanie Slate
DESCRIPTION:
URL:https://artsconnectva.org/event/spooky-spiderwebs-with-stephanie-slate-2/
LOCATION:VA
CATEGORIES:Outreach Program
END:VEVENT
BEGIN:VEVENT
DTSTART;TZID=America/New_York:20241028T140000
DTEND;TZID=America/New_York:20241028T143000
DTSTAMP:20260419T162330
CREATED:20240930T161403Z
LAST-MODIFIED:20240930T161403Z
UID:12032-1730124000-1730125800@artsconnectva.org
SUMMARY:Funny Face Jars with Kym Bach
DESCRIPTION:
URL:https://artsconnectva.org/event/funny-face-jars-with-kym-bach-2/
LOCATION:VA
CATEGORIES:Outreach Program
END:VEVENT
BEGIN:VEVENT
DTSTART;TZID=America/New_York:20241028T130000
DTEND;TZID=America/New_York:20241028T140000
DTSTAMP:20260419T162330
CREATED:20240922T171104Z
LAST-MODIFIED:20240922T171104Z
UID:11970-1730120400-1730124000@artsconnectva.org
SUMMARY:Line Dancing with Ava Stevenson
DESCRIPTION:
URL:https://artsconnectva.org/event/line-dancing-with-ava-stevenson/
LOCATION:VA
CATEGORIES:Outreach Program
END:VEVENT
BEGIN:VEVENT
DTSTART;TZID=America/New_York:20241028T113000
DTEND;TZID=America/New_York:20241028T123000
DTSTAMP:20260419T162330
CREATED:20240924T145910Z
LAST-MODIFIED:20241010T170440Z
UID:12007-1730115000-1730118600@artsconnectva.org
SUMMARY:Acrylic Paint and Pour with Vivian Davis
DESCRIPTION:
URL:https://artsconnectva.org/event/acrylic-paint-and-pour-with-vanessa-golson-6/
LOCATION:VA
CATEGORIES:Outreach Program
END:VEVENT
BEGIN:VEVENT
DTSTART;TZID=America/New_York:20241028T104500
DTEND;TZID=America/New_York:20241028T234500
DTSTAMP:20260419T162330
CREATED:20240930T161033Z
LAST-MODIFIED:20240930T161033Z
UID:12030-1730112300-1730159100@artsconnectva.org
SUMMARY:Musical Serenade with Ascension Melodies
DESCRIPTION:
URL:https://artsconnectva.org/event/musical-serenade-with-ascension-melodies-6/
LOCATION:VA
CATEGORIES:Outreach Program
END:VEVENT
BEGIN:VEVENT
DTSTART;TZID=America/New_York:20241026T140000
DTEND;TZID=America/New_York:20241026T150000
DTSTAMP:20260419T162330
CREATED:20241003T170124Z
LAST-MODIFIED:20241003T170124Z
UID:12045-1729951200-1729954800@artsconnectva.org
SUMMARY:A Horn of Plenty with Delresa White
DESCRIPTION:View Flyer
URL:https://artsconnectva.org/event/a-horn-of-plenty-with-delresa-white/
LOCATION:VA
CATEGORIES:Outreach Program
END:VEVENT
BEGIN:VEVENT
DTSTART;TZID=America/New_York:20241026T140000
DTEND;TZID=America/New_York:20241026T150000
DTSTAMP:20260419T162330
CREATED:20240922T170229Z
LAST-MODIFIED:20240922T170713Z
UID:11965-1729951200-1729954800@artsconnectva.org
SUMMARY:Flute through the Ages with Sean Arawjo
DESCRIPTION:View Flyer
URL:https://artsconnectva.org/event/flute-through-the-ages-with-sean-arawjo-10/
LOCATION:Hampton Public Library\, 4207 Victoria Blvd\, Hampton\, VA\, 23669\, United States
CATEGORIES:Open to the Public
END:VEVENT
BEGIN:VEVENT
DTSTART;TZID=America/New_York:20241025T160000
DTEND;TZID=America/New_York:20241025T173000
DTSTAMP:20260419T162330
CREATED:20240910T144829Z
LAST-MODIFIED:20240916T175154Z
UID:11869-1729872000-1729877400@artsconnectva.org
SUMMARY:Sing-Along with Karen Stowe
DESCRIPTION:
URL:https://artsconnectva.org/event/sing-along-with-karen-stowe/
LOCATION:VA
CATEGORIES:Outreach Program
END:VEVENT
BEGIN:VEVENT
DTSTART;TZID=America/New_York:20241025T153000
DTEND;TZID=America/New_York:20241025T163000
DTSTAMP:20260419T162330
CREATED:20240922T164448Z
LAST-MODIFIED:20240922T164448Z
UID:11956-1729870200-1729873800@artsconnectva.org
SUMMARY:Flute through the Ages with Sean Arawjo
DESCRIPTION:View Flyer
URL:https://artsconnectva.org/event/flute-through-the-ages-with-sean-arawjo-9/
LOCATION:VA
CATEGORIES:Outreach Program
END:VEVENT
BEGIN:VEVENT
DTSTART;TZID=America/New_York:20241025T143000
DTEND;TZID=America/New_York:20241025T153000
DTSTAMP:20260419T162330
CREATED:20240922T165605Z
LAST-MODIFIED:20241010T170236Z
UID:11963-1729866600-1729870200@artsconnectva.org
SUMMARY:Acrylic Paint and Pour with Vivian Davis
DESCRIPTION:
URL:https://artsconnectva.org/event/acrylic-paint-and-pour-with-vanessa-golson-5/
LOCATION:VA
CATEGORIES:Outreach Program
END:VEVENT
BEGIN:VEVENT
DTSTART;TZID=America/New_York:20241025T140000
DTEND;TZID=America/New_York:20241025T150000
DTSTAMP:20260419T162330
CREATED:20240923T124339Z
LAST-MODIFIED:20240923T124339Z
UID:11982-1729864800-1729868400@artsconnectva.org
SUMMARY:Fall Wreath Making with Stephanie Slate
DESCRIPTION:
URL:https://artsconnectva.org/event/fall-wreath-making-with-stephanie-slate-2/
LOCATION:VA
CATEGORIES:Outreach Program
END:VEVENT
BEGIN:VEVENT
DTSTART;TZID=America/New_York:20241025T140000
DTEND;TZID=America/New_York:20241025T150000
DTSTAMP:20260419T162330
CREATED:20240922T165302Z
LAST-MODIFIED:20241016T134227Z
UID:11959-1729864800-1729868400@artsconnectva.org
SUMMARY:All the Favorites with Art Rowe
DESCRIPTION:View Flyer
URL:https://artsconnectva.org/event/all-the-classics-with-tom-rose-schlater/
LOCATION:VA
CATEGORIES:Outreach Program
END:VEVENT
BEGIN:VEVENT
DTSTART;TZID=America/New_York:20241025T140000
DTEND;TZID=America/New_York:20241025T150000
DTSTAMP:20260419T162330
CREATED:20240922T163751Z
LAST-MODIFIED:20240922T163751Z
UID:11954-1729864800-1729868400@artsconnectva.org
SUMMARY:Favorite Throwbacks with Dan Smith
DESCRIPTION:
URL:https://artsconnectva.org/event/favorite-throwbacks-with-dan-smith-10/
LOCATION:VA
CATEGORIES:Outreach Program
END:VEVENT
BEGIN:VEVENT
DTSTART;TZID=America/New_York:20241025T140000
DTEND;TZID=America/New_York:20241025T150000
DTSTAMP:20260419T162330
CREATED:20240829T220619Z
LAST-MODIFIED:20240829T220619Z
UID:11772-1729864800-1729868400@artsconnectva.org
SUMMARY:Happy Hour with Bryan Martin
DESCRIPTION:
URL:https://artsconnectva.org/event/happy-hour-with-bryan-martin-10/
LOCATION:VA
CATEGORIES:Outreach Program
END:VEVENT
BEGIN:VEVENT
DTSTART;TZID=America/New_York:20241025T103000
DTEND;TZID=America/New_York:20241025T113000
DTSTAMP:20260419T162330
CREATED:20241003T165536Z
LAST-MODIFIED:20241003T165536Z
UID:12043-1729852200-1729855800@artsconnectva.org
SUMMARY:Scarecrow Popsicle Stick Art with Adrienne Searle
DESCRIPTION:
URL:https://artsconnectva.org/event/scarecrow-popsicle-stick-art-with-adrienne-searle/
LOCATION:VA
CATEGORIES:Outreach Program
END:VEVENT
BEGIN:VEVENT
DTSTART;TZID=America/New_York:20241024T170000
DTEND;TZID=America/New_York:20241024T180000
DTSTAMP:20260419T162330
CREATED:20240922T163417Z
LAST-MODIFIED:20240922T163417Z
UID:11951-1729789200-1729792800@artsconnectva.org
SUMMARY:Clay Crafts with Camille Donne
DESCRIPTION:View Flyer
URL:https://artsconnectva.org/event/clay-crafts-with-camille-donne/
LOCATION:VA
CATEGORIES:Outreach Program
END:VEVENT
BEGIN:VEVENT
DTSTART;TZID=America/New_York:20241024T140000
DTEND;TZID=America/New_York:20241024T150000
DTSTAMP:20260419T162330
CREATED:20240922T162800Z
LAST-MODIFIED:20240922T162800Z
UID:11949-1729778400-1729782000@artsconnectva.org
SUMMARY:Piano Tunes with Christian Flores
DESCRIPTION:
URL:https://artsconnectva.org/event/piano-tunes-with-christian-flores-6/
LOCATION:VA
CATEGORIES:Outreach Program
END:VEVENT
BEGIN:VEVENT
DTSTART;TZID=America/New_York:20241024T120000
DTEND;TZID=America/New_York:20241024T130000
DTSTAMP:20260419T162330
CREATED:20240922T161140Z
LAST-MODIFIED:20240922T161140Z
UID:11945-1729771200-1729774800@artsconnectva.org
SUMMARY:Acrylic Paint and Pour with Vanessa Golson
DESCRIPTION:
URL:https://artsconnectva.org/event/acrylic-paint-and-pour-with-vanessa-golson-4/
LOCATION:VA
CATEGORIES:Outreach Program
END:VEVENT
BEGIN:VEVENT
DTSTART;TZID=America/New_York:20241024T111500
DTEND;TZID=America/New_York:20241024T121500
DTSTAMP:20260419T162330
CREATED:20241007T173630Z
LAST-MODIFIED:20241007T173630Z
UID:12081-1729768500-1729772100@artsconnectva.org
SUMMARY:Wooden Pumpkins with Stephanie Slate
DESCRIPTION:
URL:https://artsconnectva.org/event/wooden-pumpkins-with-stephanie-slate/
LOCATION:VA
END:VEVENT
BEGIN:VEVENT
DTSTART;TZID=America/New_York:20241024T103000
DTEND;TZID=America/New_York:20241024T113000
DTSTAMP:20260419T162330
CREATED:20240922T162304Z
LAST-MODIFIED:20240922T162304Z
UID:11947-1729765800-1729769400@artsconnectva.org
SUMMARY:Card Making with Myra Basnight
DESCRIPTION:
URL:https://artsconnectva.org/event/card-making-with-myra-basnight/
LOCATION:VA
CATEGORIES:Outreach Program
END:VEVENT
BEGIN:VEVENT
DTSTART;TZID=America/New_York:20241023T140000
DTEND;TZID=America/New_York:20241023T150000
DTSTAMP:20260419T162330
CREATED:20240922T160755Z
LAST-MODIFIED:20240922T160755Z
UID:11942-1729692000-1729695600@artsconnectva.org
SUMMARY:Painted Pumpkins with Susan Owens
DESCRIPTION:View Flyer
URL:https://artsconnectva.org/event/painted-pumpkins-with-susan-owens/
LOCATION:VA
CATEGORIES:Outreach Program
END:VEVENT
BEGIN:VEVENT
DTSTART;TZID=America/New_York:20241023T114500
DTEND;TZID=America/New_York:20241023T124500
DTSTAMP:20260419T162330
CREATED:20240922T160227Z
LAST-MODIFIED:20240922T160227Z
UID:11940-1729683900-1729687500@artsconnectva.org
SUMMARY:Fall Fest with Dan Smith
DESCRIPTION:
URL:https://artsconnectva.org/event/fall-fest-with-dan-smith/
LOCATION:VA
CATEGORIES:Outreach Program
END:VEVENT
BEGIN:VEVENT
DTSTART;TZID=America/New_York:20241022T140000
DTEND;TZID=America/New_York:20241022T150000
DTSTAMP:20260419T162330
CREATED:20240922T155754Z
LAST-MODIFIED:20240922T155754Z
UID:11938-1729605600-1729609200@artsconnectva.org
SUMMARY:Fiddlin' & Pickin' with Tidewater Bluegrass Revival
DESCRIPTION:
URL:https://artsconnectva.org/event/fiddlin-pickin-with-tidewater-bluegrass-revival/
LOCATION:VA
CATEGORIES:Outreach Program
END:VEVENT
BEGIN:VEVENT
DTSTART;TZID=America/New_York:20241022T133000
DTEND;TZID=America/New_York:20241022T143000
DTSTAMP:20260419T162330
CREATED:20240921T150149Z
LAST-MODIFIED:20240921T150149Z
UID:11935-1729603800-1729607400@artsconnectva.org
SUMMARY:Keep the Beat Social with Art Rowe
DESCRIPTION:View Flyer
URL:https://artsconnectva.org/event/keep-the-beat-social-with-art-rowe-11/
LOCATION:VA
CATEGORIES:Outreach Program
END:VEVENT
BEGIN:VEVENT
DTSTART;TZID=America/New_York:20241022T130000
DTEND;TZID=America/New_York:20241022T140000
DTSTAMP:20260419T162330
CREATED:20240829T222218Z
LAST-MODIFIED:20240829T222218Z
UID:11778-1729602000-1729605600@artsconnectva.org
SUMMARY:Music\, Motown\, and More with Richard Mekdeci
DESCRIPTION:
URL:https://artsconnectva.org/event/music-motown-and-more-with-richard-mekdeci-43/
LOCATION:VA
CATEGORIES:Outreach Program
END:VEVENT
BEGIN:VEVENT
DTSTART;TZID=America/New_York:20241022T110000
DTEND;TZID=America/New_York:20241022T120000
DTSTAMP:20260419T162331
CREATED:20241014T142948Z
LAST-MODIFIED:20241014T142948Z
UID:12144-1729594800-1729598400@artsconnectva.org
SUMMARY:Piano Tunes with Christian Flores
DESCRIPTION:
URL:https://artsconnectva.org/event/piano-tunes-with-christian-flores-8/
LOCATION:VA
CATEGORIES:Outreach Program
END:VEVENT
BEGIN:VEVENT
DTSTART;TZID=America/New_York:20241021T110000
DTEND;TZID=America/New_York:20241021T120000
DTSTAMP:20260419T162331
CREATED:20241003T165039Z
LAST-MODIFIED:20241003T165039Z
UID:12041-1729508400-1729512000@artsconnectva.org
SUMMARY:Fall Gnome with Rhona Dawson
DESCRIPTION:
URL:https://artsconnectva.org/event/fall-gnome-with-rhona-dawson-2/
LOCATION:VA
CATEGORIES:Outreach Program
END:VEVENT
BEGIN:VEVENT
DTSTART;TZID=America/New_York:20241019T133000
DTEND;TZID=America/New_York:20241019T153000
DTSTAMP:20260419T162331
CREATED:20240921T143918Z
LAST-MODIFIED:20240921T143918Z
UID:11930-1729344600-1729351800@artsconnectva.org
SUMMARY:Artful Blooms with Karen Stowe
DESCRIPTION:
URL:https://artsconnectva.org/event/artful-blooms-with-karen-stowe/
LOCATION:VA
CATEGORIES:Outreach Program
END:VEVENT
BEGIN:VEVENT
DTSTART;TZID=America/New_York:20241018T150000
DTEND;TZID=America/New_York:20241018T160000
DTSTAMP:20260419T162331
CREATED:20240924T143515Z
LAST-MODIFIED:20240924T143515Z
UID:11999-1729263600-1729267200@artsconnectva.org
SUMMARY:Floral Pumpkins with Susan Owens
DESCRIPTION:
URL:https://artsconnectva.org/event/floral-pumpkins-with-susan-owens/
LOCATION:VA
CATEGORIES:Outreach Program
END:VEVENT
BEGIN:VEVENT
DTSTART;TZID=America/New_York:20241018T140000
DTEND;TZID=America/New_York:20241018T150000
DTSTAMP:20260419T162331
CREATED:20240921T143018Z
LAST-MODIFIED:20240921T143018Z
UID:11925-1729260000-1729263600@artsconnectva.org
SUMMARY:Music from Wizard of Oz with Karen Stowe
DESCRIPTION:View Flyer
URL:https://artsconnectva.org/event/music-from-wizard-of-oz-with-karen-stowe-2/
LOCATION:VA
CATEGORIES:Outreach Program
END:VEVENT
END:VCALENDAR