BEGIN:VCALENDAR
VERSION:2.0
PRODID:-//ArtsConnect Virginia - ECPv6.15.20//NONSGML v1.0//EN
CALSCALE:GREGORIAN
METHOD:PUBLISH
X-WR-CALNAME:ArtsConnect Virginia
X-ORIGINAL-URL:https://artsconnectva.org
X-WR-CALDESC:Events for ArtsConnect Virginia
REFRESH-INTERVAL;VALUE=DURATION:PT1H
X-Robots-Tag:noindex
X-PUBLISHED-TTL:PT1H
BEGIN:VTIMEZONE
TZID:America/New_York
BEGIN:DAYLIGHT
TZOFFSETFROM:-0500
TZOFFSETTO:-0400
TZNAME:EDT
DTSTART:20230312T070000
END:DAYLIGHT
BEGIN:STANDARD
TZOFFSETFROM:-0400
TZOFFSETTO:-0500
TZNAME:EST
DTSTART:20231105T060000
END:STANDARD
BEGIN:DAYLIGHT
TZOFFSETFROM:-0500
TZOFFSETTO:-0400
TZNAME:EDT
DTSTART:20240310T070000
END:DAYLIGHT
BEGIN:STANDARD
TZOFFSETFROM:-0400
TZOFFSETTO:-0500
TZNAME:EST
DTSTART:20241103T060000
END:STANDARD
BEGIN:DAYLIGHT
TZOFFSETFROM:-0500
TZOFFSETTO:-0400
TZNAME:EDT
DTSTART:20250309T070000
END:DAYLIGHT
BEGIN:STANDARD
TZOFFSETFROM:-0400
TZOFFSETTO:-0500
TZNAME:EST
DTSTART:20251102T060000
END:STANDARD
END:VTIMEZONE
BEGIN:VEVENT
DTSTART;TZID=America/New_York:20240403T133000
DTEND;TZID=America/New_York:20240403T143000
DTSTAMP:20260421T181227
CREATED:20240327T153546Z
LAST-MODIFIED:20240327T153546Z
UID:10085-1712151000-1712154600@artsconnectva.org
SUMMARY:Fletcher and Friends
DESCRIPTION:Fletcher and Friends are a guitar\, bass and drums trio that play a variety of music genres. They play old and new jazz as well as blues\, rhythm and blues\, and Latins. They also include tunes from mainstream pop.
URL:https://artsconnectva.org/event/fletcher-and-friends-22/
LOCATION:VA
CATEGORIES:Outreach Program
END:VEVENT
BEGIN:VEVENT
DTSTART;TZID=America/New_York:20240403T133000
DTEND;TZID=America/New_York:20240403T143000
DTSTAMP:20260421T181227
CREATED:20240216T165446Z
LAST-MODIFIED:20240216T165446Z
UID:9851-1712151000-1712154600@artsconnectva.org
SUMMARY:Favorite Throwbacks with Lyle and Linda Dowling
DESCRIPTION:Lyle and Linda love entertaining seniors and performing a combination of style! The Genre of songs they sing include a variety of artists as well\, something to please everyone!
URL:https://artsconnectva.org/event/favorite-throwbacks-with-lyle-and-linda-dowling-6/
LOCATION:VA
CATEGORIES:Outreach Program
END:VEVENT
BEGIN:VEVENT
DTSTART;TZID=America/New_York:20240403T103000
DTEND;TZID=America/New_York:20240403T113000
DTSTAMP:20260421T181227
CREATED:20240207T204209Z
LAST-MODIFIED:20240207T204209Z
UID:9791-1712140200-1712143800@artsconnectva.org
SUMMARY:Chair Fitness with Vanessa Golson
DESCRIPTION:Chair Fitness is a fun\, effective\, seated\, low intensity\, physical movement experience enhanced by upbeat music.
URL:https://artsconnectva.org/event/chair-fitness-with-vanessa-golson-12/
LOCATION:VA
CATEGORIES:Outreach Program
END:VEVENT
BEGIN:VEVENT
DTSTART;TZID=America/New_York:20240402T140000
DTEND;TZID=America/New_York:20240402T150000
DTSTAMP:20260421T181227
CREATED:20240221T155206Z
LAST-MODIFIED:20240221T155206Z
UID:9869-1712066400-1712070000@artsconnectva.org
SUMMARY:Strummin' and Pickin' with Ted and Eric
DESCRIPTION:Eric and Ted perform a variety of original and traditional songs accompanying themselves on guitar and mandolin\, bluegrass\, folk\, ragtime\, novelty.
URL:https://artsconnectva.org/event/strummin-and-pickin-with-ted-and-eric-10/
LOCATION:VA
CATEGORIES:Outreach Program
END:VEVENT
BEGIN:VEVENT
DTSTART;TZID=America/New_York:20240402T133000
DTEND;TZID=America/New_York:20240402T143000
DTSTAMP:20260421T181227
CREATED:20240206T170844Z
LAST-MODIFIED:20240206T170844Z
UID:9740-1712064600-1712068200@artsconnectva.org
SUMMARY:Keep the Beat Social with MaryAnn Toboz
DESCRIPTION:MaryAnn sings and accompanies herself on guitar. She shares songbooks with large print lyrics to familiar songs spanning genres and decades. The lively\, upbeat program has participants singing\, dancing\, and reminiscing!
URL:https://artsconnectva.org/event/keep-the-beat-social-with-maryann-toboz/
LOCATION:VA
END:VEVENT
BEGIN:VEVENT
DTSTART;TZID=America/New_York:20240402T130000
DTEND;TZID=America/New_York:20240402T140000
DTSTAMP:20260421T181227
CREATED:20240206T172525Z
LAST-MODIFIED:20240206T172525Z
UID:9746-1712062800-1712066400@artsconnectva.org
SUMMARY:Old Time Favorites with Tom and Rose Schlater
DESCRIPTION:Enjoy listening to well known popular hits from 1900 to 1975!
URL:https://artsconnectva.org/event/old-time-favorites-with-tom-and-rose-schlater-11/
LOCATION:VA
CATEGORIES:Outreach Program
END:VEVENT
BEGIN:VEVENT
DTSTART;TZID=America/New_York:20240402T110000
DTEND;TZID=America/New_York:20240402T120000
DTSTAMP:20260421T181227
CREATED:20240129T195448Z
LAST-MODIFIED:20240129T195448Z
UID:9691-1712055600-1712059200@artsconnectva.org
SUMMARY:The Classics with Lyle and Linda Dowling
DESCRIPTION:Lyle and Linda love entertaining seniors and performing a combination of style! The Genre of songs they sing include a variety of artists as well\, something to please everyone!
URL:https://artsconnectva.org/event/the-classics-with-lyle-and-linda-dowling/
LOCATION:VA
CATEGORIES:Outreach Program
END:VEVENT
BEGIN:VEVENT
DTSTART;TZID=America/New_York:20240401T140000
DTEND;TZID=America/New_York:20240401T150000
DTSTAMP:20260421T181227
CREATED:20240226T215223Z
LAST-MODIFIED:20240226T215223Z
UID:9905-1711980000-1711983600@artsconnectva.org
SUMMARY:Spring Harp with Karen Stowe
DESCRIPTION:Enjoy this live performance played by Karen Stowe on the harp! You will not want to miss this beautiful performance!
URL:https://artsconnectva.org/event/spring-harp-with-karen-stowe-8/
LOCATION:VA
CATEGORIES:Outreach Program
END:VEVENT
BEGIN:VEVENT
DTSTART;TZID=America/New_York:20240401T140000
DTEND;TZID=America/New_York:20240401T150000
DTSTAMP:20260421T181227
CREATED:20240207T203149Z
LAST-MODIFIED:20240207T203149Z
UID:9787-1711980000-1711983600@artsconnectva.org
SUMMARY:Happy Hour with Lyle and Linda Dowling
DESCRIPTION:Join Lyle and Linda as they perform a combination of styles of music from the 1940s-1980s! You will not want to miss this! \n 
URL:https://artsconnectva.org/event/happy-hour-with-lyle-and-linda-dowling-4/
LOCATION:VA
CATEGORIES:Outreach Program
END:VEVENT
BEGIN:VEVENT
DTSTART;TZID=America/New_York:20240329T150000
DTEND;TZID=America/New_York:20240329T160000
DTSTAMP:20260421T181227
CREATED:20240227T150117Z
LAST-MODIFIED:20240227T150117Z
UID:9919-1711724400-1711728000@artsconnectva.org
SUMMARY:Old Time Favorites with Thomas and Rose
DESCRIPTION:View Flyer
URL:https://artsconnectva.org/event/old-time-favorites-with-thomas-and-rose-2/
LOCATION:VA
CATEGORIES:Outreach Program
END:VEVENT
BEGIN:VEVENT
DTSTART;TZID=America/New_York:20240329T143000
DTEND;TZID=America/New_York:20240329T153000
DTSTAMP:20260421T181227
CREATED:20240115T192606Z
LAST-MODIFIED:20240115T192606Z
UID:9580-1711722600-1711726200@artsconnectva.org
SUMMARY:Easter Harp with Karen Stowe
DESCRIPTION:Enjoy listening to beautiful and elegant harp music!
URL:https://artsconnectva.org/event/easter-harp-with-karen-stowe/
LOCATION:VA
CATEGORIES:Outreach Program
END:VEVENT
BEGIN:VEVENT
DTSTART;TZID=America/New_York:20240329T140000
DTEND;TZID=America/New_York:20240329T150000
DTSTAMP:20260421T181227
CREATED:20240207T202833Z
LAST-MODIFIED:20240207T202833Z
UID:9785-1711720800-1711724400@artsconnectva.org
SUMMARY:Happy Hour with Bryan Martin
DESCRIPTION:Join Bryan as he sings all of your favorite country\, bluegrass\, 70’s\, 80’s\, and 90’s hits\, and spirituals.
URL:https://artsconnectva.org/event/happy-hour-with-bryan-martin-6/
LOCATION:VA
CATEGORIES:Outreach Program
END:VEVENT
BEGIN:VEVENT
DTSTART;TZID=America/New_York:20240329T140000
DTEND;TZID=America/New_York:20240329T150000
DTSTAMP:20260421T181227
CREATED:20240129T200735Z
LAST-MODIFIED:20240129T200735Z
UID:9695-1711720800-1711724400@artsconnectva.org
SUMMARY:Fletcher and Friends
DESCRIPTION:Fletcher and Friends are a guitar\, bass and drums trio that play a variety of music genres. They play old and new jazz as well as blues\, rhythm and blues\, and Latins. They also include tunes from mainstream pop.
URL:https://artsconnectva.org/event/fletcher-and-friends-19/
LOCATION:VA
CATEGORIES:Outreach Program
END:VEVENT
BEGIN:VEVENT
DTSTART;TZID=America/New_York:20240328T173000
DTEND;TZID=America/New_York:20240328T183000
DTSTAMP:20260421T181227
CREATED:20240125T172303Z
LAST-MODIFIED:20240125T172303Z
UID:9683-1711647000-1711650600@artsconnectva.org
SUMMARY:Sew into Spring with Stephanie Slate
DESCRIPTION:Learn some sewing basics with Stephanie Slate!
URL:https://artsconnectva.org/event/sew-into-spring-with-stephanie-slate/
LOCATION:VA
CATEGORIES:Outreach Program
END:VEVENT
BEGIN:VEVENT
DTSTART;TZID=America/New_York:20240328T140000
DTEND;TZID=America/New_York:20240328T150000
DTSTAMP:20260421T181227
CREATED:20240226T194947Z
LAST-MODIFIED:20240226T194947Z
UID:9897-1711634400-1711638000@artsconnectva.org
SUMMARY:Favorite Throwbacks with Dan Smith
DESCRIPTION:View Flyer
URL:https://artsconnectva.org/event/favorite-throwbacks-with-dan-smith-6/
LOCATION:VA
CATEGORIES:Outreach Program
END:VEVENT
BEGIN:VEVENT
DTSTART;TZID=America/New_York:20240328T140000
DTEND;TZID=America/New_York:20240328T150000
DTSTAMP:20260421T181227
CREATED:20231227T210523Z
LAST-MODIFIED:20231227T210523Z
UID:9417-1711634400-1711638000@artsconnectva.org
SUMMARY:All of the Favorites with Adrienne and Jamie
DESCRIPTION:Join Adrienne and Jamie as they play your favorite throwback tunes!
URL:https://artsconnectva.org/event/all-of-the-favorites-with-adrienne-and-jamie/
LOCATION:VA
CATEGORIES:Outreach Program
END:VEVENT
BEGIN:VEVENT
DTSTART;TZID=America/New_York:20240328T110000
DTEND;TZID=America/New_York:20240328T120000
DTSTAMP:20260421T181227
CREATED:20240304T194830Z
LAST-MODIFIED:20240304T194830Z
UID:9963-1711623600-1711627200@artsconnectva.org
SUMMARY:Acrylic Paint Pour with Vanessa Golson
DESCRIPTION:Enjoy a colorful\, art experience and walk away with a one-of-a-kind masterpiece\, with Vanessa’s step-by-step instructions of an acrylic paint pour technique!
URL:https://artsconnectva.org/event/acrylic-paint-pour-with-vanessa-golson-22/
LOCATION:VA
CATEGORIES:Outreach Program
END:VEVENT
BEGIN:VEVENT
DTSTART;TZID=America/New_York:20240328T103000
DTEND;TZID=America/New_York:20240328T113000
DTSTAMP:20260421T181227
CREATED:20240124T201341Z
LAST-MODIFIED:20240124T201341Z
UID:9675-1711621800-1711625400@artsconnectva.org
SUMMARY:Bunny Wreath with Creative Connections
DESCRIPTION:Let’s make a bunny wreath for spring!
URL:https://artsconnectva.org/event/bunny-wreath-with-creative-connections/
LOCATION:VA
CATEGORIES:Outreach Program
END:VEVENT
BEGIN:VEVENT
DTSTART;TZID=America/New_York:20240327T111500
DTEND;TZID=America/New_York:20240327T121500
DTSTAMP:20260421T181228
CREATED:20231228T212456Z
LAST-MODIFIED:20231228T212456Z
UID:9440-1711538100-1711541700@artsconnectva.org
SUMMARY:Best of Yesteryear with Mike Finn
DESCRIPTION:Join in the fun and bring back fond memories with Mike’s engaging mix of mellow rock classics and sing-along oldies.
URL:https://artsconnectva.org/event/best-of-yesteryear-with-mike-finn-39/
LOCATION:VA
CATEGORIES:Outreach Program
END:VEVENT
BEGIN:VEVENT
DTSTART;TZID=America/New_York:20240327T103000
DTEND;TZID=America/New_York:20240327T113000
DTSTAMP:20260421T181228
CREATED:20240206T170410Z
LAST-MODIFIED:20240206T170410Z
UID:9738-1711535400-1711539000@artsconnectva.org
SUMMARY:Bunny Wreath with Creative Connections
DESCRIPTION:Let’s make a bunny wreath for spring!
URL:https://artsconnectva.org/event/bunny-wreath-with-creative-connections-2/
LOCATION:VA
CATEGORIES:Outreach Program
END:VEVENT
BEGIN:VEVENT
DTSTART;TZID=America/New_York:20240326T140000
DTEND;TZID=America/New_York:20240326T150000
DTSTAMP:20260421T181228
CREATED:20240117T211837Z
LAST-MODIFIED:20240117T211837Z
UID:9615-1711461600-1711465200@artsconnectva.org
SUMMARY:Chair Fitness with Vanessa Golson
DESCRIPTION:Chair Fitness is a fun\, effective\, seated\, low intensity\, physical movement experience enhanced by upbeat music.
URL:https://artsconnectva.org/event/chair-fitness-with-vanessa-golson-9/
LOCATION:VA
CATEGORIES:Outreach Program
END:VEVENT
BEGIN:VEVENT
DTSTART;TZID=America/New_York:20240326T133000
DTEND;TZID=America/New_York:20240326T143000
DTSTAMP:20260421T181228
CREATED:20240104T152534Z
LAST-MODIFIED:20240104T152534Z
UID:9488-1711459800-1711463400@artsconnectva.org
SUMMARY:Keep the Beat Social with Art Rowe
DESCRIPTION:Join Art as he plays classic rock and country hits!
URL:https://artsconnectva.org/event/keep-the-beat-social-with-art-rowe-7/
LOCATION:VA
CATEGORIES:Outreach Program
END:VEVENT
BEGIN:VEVENT
DTSTART;TZID=America/New_York:20240326T130000
DTEND;TZID=America/New_York:20240326T140000
DTSTAMP:20260421T181228
CREATED:20240116T163707Z
LAST-MODIFIED:20240116T163707Z
UID:9598-1711458000-1711461600@artsconnectva.org
SUMMARY:The Classics with Mary M Saunders
DESCRIPTION:Join Mary as she plays music from the 40s to the 80s! \n 
URL:https://artsconnectva.org/event/the-classics-with-mary-m-saunders-2/
LOCATION:VA
CATEGORIES:Outreach Program
END:VEVENT
BEGIN:VEVENT
DTSTART;TZID=America/New_York:20240326T110000
DTEND;TZID=America/New_York:20240326T120000
DTSTAMP:20260421T181228
CREATED:20240207T153958Z
LAST-MODIFIED:20240207T153958Z
UID:9779-1711450800-1711454400@artsconnectva.org
SUMMARY:Cardboard Flower Sun Catcher with Sam Lewis
DESCRIPTION:Join Sam as she guides you through creating a beautiful sun catcher!
URL:https://artsconnectva.org/event/cardboard-flower-sun-catcher-with-sam-lewis-2/
LOCATION:VA
CATEGORIES:Outreach Program
END:VEVENT
BEGIN:VEVENT
DTSTART;TZID=America/New_York:20240325T153000
DTEND;TZID=America/New_York:20240325T163000
DTSTAMP:20260421T181228
CREATED:20240321T144356Z
LAST-MODIFIED:20240321T144356Z
UID:10073-1711380600-1711384200@artsconnectva.org
SUMMARY:Music and Motion with Jena Chenkin
DESCRIPTION:
URL:https://artsconnectva.org/event/music-and-motion-with-jena-chenkin/
LOCATION:VA
CATEGORIES:Outreach Program
END:VEVENT
BEGIN:VEVENT
DTSTART;TZID=America/New_York:20240325T130000
DTEND;TZID=America/New_York:20240325T140000
DTSTAMP:20260421T181228
CREATED:20240216T163619Z
LAST-MODIFIED:20240216T163619Z
UID:9846-1711371600-1711375200@artsconnectva.org
SUMMARY:Jam with The Earthtones!
DESCRIPTION:View Flyer
URL:https://artsconnectva.org/event/jam-with-the-earthtones/
LOCATION:VA
CATEGORIES:Outreach Program
END:VEVENT
BEGIN:VEVENT
DTSTART;TZID=America/New_York:20240324T140000
DTEND;TZID=America/New_York:20240324T150000
DTSTAMP:20260421T181228
CREATED:20240216T170809Z
LAST-MODIFIED:20240216T170809Z
UID:9853-1711288800-1711292400@artsconnectva.org
SUMMARY:Women Oral History Workshop with The Muse Writing Center
DESCRIPTION:Join us for an enriching workshop focused on the “How to” of capturing stories and oral histories\, with a special emphasis on the essential skills of preparation\, information gathering\, interviewing techniques\, and providing valuable resources for preserving history.  In keeping with this month’s theme of “Women Who Advocate for Equity\, diversity\, and Inclusion” we’ll focus on examples from a history full of women who have been pioneers in advocating for equity\, diversity\, and inclusion\, highlighting their invaluable contributions to history.
URL:https://artsconnectva.org/event/women-oral-history-workshop-with-the-muse-writing-center/
LOCATION:VA
CATEGORIES:Outreach Program
END:VEVENT
BEGIN:VEVENT
DTSTART;TZID=America/New_York:20240323T140000
DTEND;TZID=America/New_York:20240323T150000
DTSTAMP:20260421T181228
CREATED:20240213T224849Z
LAST-MODIFIED:20240213T224849Z
UID:9811-1711202400-1711206000@artsconnectva.org
SUMMARY:Yellow Spring Arrangement with Delresa White
DESCRIPTION:Join Delresa as she guides you through creating a beautiful yellow spring arrangement!
URL:https://artsconnectva.org/event/yellow-spring-arrangement-with-delresa-white/
LOCATION:VA
CATEGORIES:Outreach Program
END:VEVENT
BEGIN:VEVENT
DTSTART;TZID=America/New_York:20240323T133000
DTEND;TZID=America/New_York:20240323T143000
DTSTAMP:20260421T181228
CREATED:20231218T211115Z
LAST-MODIFIED:20231218T211235Z
UID:9349-1711200600-1711204200@artsconnectva.org
SUMMARY:One Women's Story with Vanessa Golson
DESCRIPTION:View Flyer
URL:https://artsconnectva.org/event/one-womens-story-with-vanessa-golson/
LOCATION:VA
CATEGORIES:Open to the Public
END:VEVENT
BEGIN:VEVENT
DTSTART;TZID=America/New_York:20240322T140000
DTEND;TZID=America/New_York:20240322T150000
DTSTAMP:20260421T181228
CREATED:20240221T154722Z
LAST-MODIFIED:20240221T154722Z
UID:9867-1711116000-1711119600@artsconnectva.org
SUMMARY:Improv Fun with Leila Stephanie
DESCRIPTION:The programs that I will implement include: improvisation\, literary readings\, poetry\, and sensory visual arts. The programs will consist of implementing movement and mobility\, fostering positive social interactions\, and encouraging creativity.
URL:https://artsconnectva.org/event/improv-fun-with-leila-stephanie-2/
LOCATION:VA
CATEGORIES:Outreach Program
END:VEVENT
END:VCALENDAR