BEGIN:VCALENDAR
VERSION:2.0
PRODID:-//ArtsConnect Virginia - ECPv6.15.20//NONSGML v1.0//EN
CALSCALE:GREGORIAN
METHOD:PUBLISH
X-WR-CALNAME:ArtsConnect Virginia
X-ORIGINAL-URL:https://artsconnectva.org
X-WR-CALDESC:Events for ArtsConnect Virginia
REFRESH-INTERVAL;VALUE=DURATION:PT1H
X-Robots-Tag:noindex
X-PUBLISHED-TTL:PT1H
BEGIN:VTIMEZONE
TZID:America/New_York
BEGIN:DAYLIGHT
TZOFFSETFROM:-0500
TZOFFSETTO:-0400
TZNAME:EDT
DTSTART:20220313T070000
END:DAYLIGHT
BEGIN:STANDARD
TZOFFSETFROM:-0400
TZOFFSETTO:-0500
TZNAME:EST
DTSTART:20221106T060000
END:STANDARD
BEGIN:DAYLIGHT
TZOFFSETFROM:-0500
TZOFFSETTO:-0400
TZNAME:EDT
DTSTART:20230312T070000
END:DAYLIGHT
BEGIN:STANDARD
TZOFFSETFROM:-0400
TZOFFSETTO:-0500
TZNAME:EST
DTSTART:20231105T060000
END:STANDARD
BEGIN:DAYLIGHT
TZOFFSETFROM:-0500
TZOFFSETTO:-0400
TZNAME:EDT
DTSTART:20240310T070000
END:DAYLIGHT
BEGIN:STANDARD
TZOFFSETFROM:-0400
TZOFFSETTO:-0500
TZNAME:EST
DTSTART:20241103T060000
END:STANDARD
BEGIN:DAYLIGHT
TZOFFSETFROM:-0500
TZOFFSETTO:-0400
TZNAME:EDT
DTSTART:20250309T070000
END:DAYLIGHT
BEGIN:STANDARD
TZOFFSETFROM:-0400
TZOFFSETTO:-0500
TZNAME:EST
DTSTART:20251102T060000
END:STANDARD
END:VTIMEZONE
BEGIN:VEVENT
DTSTART;TZID=America/New_York:20240105T153000
DTEND;TZID=America/New_York:20240105T163000
DTSTAMP:20260422T183316
CREATED:20231219T155814Z
LAST-MODIFIED:20231219T155814Z
UID:9355-1704468600-1704472200@artsconnectva.org
SUMMARY:Mix & Mingle with Jimmy G Sings
DESCRIPTION:Jimmy is a Solo Singer and acoustic guitar player performing the most popular acoustic rock and pop songs from the past 5 decades and today!
URL:https://artsconnectva.org/event/mix-mingle-with-jimmy-g-sings-2/
LOCATION:VA
CATEGORIES:Outreach Program
END:VEVENT
BEGIN:VEVENT
DTSTART;TZID=America/New_York:20240105T140000
DTEND;TZID=America/New_York:20240105T150000
DTSTAMP:20260422T183316
CREATED:20231219T203303Z
LAST-MODIFIED:20231219T203303Z
UID:9377-1704463200-1704466800@artsconnectva.org
SUMMARY:Happy Hour with Dan Smith
DESCRIPTION:Enjoy a live performance of popular music from the 1940s\, 1950s and 1960s featuring big band\, classic country\, Elvis Presley\, Pat Boone\, and other icons of the era.
URL:https://artsconnectva.org/event/happy-hour-with-dan-smith-5/
LOCATION:VA
CATEGORIES:Outreach Program
END:VEVENT
BEGIN:VEVENT
DTSTART;TZID=America/New_York:20240105T140000
DTEND;TZID=America/New_York:20240105T150000
DTSTAMP:20260422T183316
CREATED:20231219T172605Z
LAST-MODIFIED:20231219T172605Z
UID:9371-1704463200-1704466800@artsconnectva.org
SUMMARY:Candle Making with Ginnie Stover
DESCRIPTION:Join Ginnie as she guides you through the process of creating your own decorative gel candle!
URL:https://artsconnectva.org/event/candle-making-with-ginnie-stover-7/
LOCATION:VA
CATEGORIES:Outreach Program
END:VEVENT
BEGIN:VEVENT
DTSTART;TZID=America/New_York:20240104T140000
DTEND;TZID=America/New_York:20240104T150000
DTSTAMP:20260422T183316
CREATED:20231025T203646Z
LAST-MODIFIED:20231025T203646Z
UID:8833-1704376800-1704380400@artsconnectva.org
SUMMARY:Famous Hits! with Cory Laser
DESCRIPTION:Enjoy listening to famous hits from 50’s\, 60’s\, and 70’s that everyone knows and can easily sing along!
URL:https://artsconnectva.org/event/famous-hits-with-cory-laser-3/
LOCATION:VA
CATEGORIES:Outreach Program
END:VEVENT
BEGIN:VEVENT
DTSTART;TZID=America/New_York:20240102T133000
DTEND;TZID=America/New_York:20240102T143000
DTSTAMP:20260422T183316
CREATED:20231025T202708Z
LAST-MODIFIED:20231025T202708Z
UID:8827-1704202200-1704205800@artsconnectva.org
SUMMARY:Keep the Beat Social with Dan Smith
DESCRIPTION:Join Dan Smith. Dan sings popular music from the 1940s\, 1950s and 1960s featuring big band\, classic country\, Elvis Presley\, Pat Boone\, and other icons of the era.
URL:https://artsconnectva.org/event/keep-the-beat-social-with-dan-smith-8/
LOCATION:VA
CATEGORIES:Outreach Program
END:VEVENT
BEGIN:VEVENT
DTSTART;TZID=America/New_York:20231231T190000
DTEND;TZID=America/New_York:20231231T200000
DTSTAMP:20260422T183316
CREATED:20231127T183800Z
LAST-MODIFIED:20231127T183800Z
UID:9190-1704049200-1704052800@artsconnectva.org
SUMMARY:Classic Harp with Karen Stowe
DESCRIPTION:Enjoy listening to beautiful and elegant harp music!
URL:https://artsconnectva.org/event/classic-harp-with-karen-stowe/
LOCATION:VA
CATEGORIES:Outreach Program
END:VEVENT
BEGIN:VEVENT
DTSTART;TZID=America/New_York:20231229T143000
DTEND;TZID=America/New_York:20231229T153000
DTSTAMP:20260422T183316
CREATED:20231109T184035Z
LAST-MODIFIED:20231109T184035Z
UID:8906-1703860200-1703863800@artsconnectva.org
SUMMARY:Best of Yesteryear in the New Year with Mike Finn
DESCRIPTION:Join in the fun and bring back fond memories with Mike’s engaging mix of mellow rock classics and sing-along oldies!
URL:https://artsconnectva.org/event/best-of-yesteryear-in-the-new-year-with-mike-finn/
LOCATION:VA
CATEGORIES:Outreach Program
END:VEVENT
BEGIN:VEVENT
DTSTART;TZID=America/New_York:20231229T140000
DTEND;TZID=America/New_York:20231229T150000
DTSTAMP:20260422T183316
CREATED:20231121T184632Z
LAST-MODIFIED:20231121T184632Z
UID:9051-1703858400-1703862000@artsconnectva.org
SUMMARY:Music\, Motown\, and More! with Richard Mekdeci
DESCRIPTION:Richard is going to be playing all of your favorite Motown tunes. You are going to love this fun and upbeat program!
URL:https://artsconnectva.org/event/music-motown-and-more-with-richard-mekdeci-25/
LOCATION:VA
CATEGORIES:Outreach Program
END:VEVENT
BEGIN:VEVENT
DTSTART;TZID=America/New_York:20231229T140000
DTEND;TZID=America/New_York:20231229T150000
DTSTAMP:20260422T183316
CREATED:20231113T211723Z
LAST-MODIFIED:20231113T211723Z
UID:8921-1703858400-1703862000@artsconnectva.org
SUMMARY:All of the Favorites with Dan Smith
DESCRIPTION:Enjoy live performance of popular music from the 1940s\, 1950s and 1960s featuring big band\, classic country\, Elvis Presley\, Pat Boone\, and other icons of the era.
URL:https://artsconnectva.org/event/all-of-the-favorites-with-dan-smith-25/
LOCATION:VA
CATEGORIES:Outreach Program
END:VEVENT
BEGIN:VEVENT
DTSTART;TZID=America/New_York:20231229T140000
DTEND;TZID=America/New_York:20231229T150000
DTSTAMP:20260422T183316
CREATED:20231109T184504Z
LAST-MODIFIED:20231109T184504Z
UID:8908-1703858400-1703862000@artsconnectva.org
SUMMARY:Happy Hour with Dan Smith
DESCRIPTION:Enjoy a live performance of popular music from the 1940s\, 1950s and 1960s featuring big band\, classic country\, Elvis Presley\, Pat Boone\, and other icons of the era.
URL:https://artsconnectva.org/event/happy-hour-with-dan-smith-4/
LOCATION:VA
CATEGORIES:Outreach Program
END:VEVENT
BEGIN:VEVENT
DTSTART;TZID=America/New_York:20231228T140000
DTEND;TZID=America/New_York:20231228T150000
DTSTAMP:20260422T183316
CREATED:20231009T190045Z
LAST-MODIFIED:20231009T190045Z
UID:8718-1703772000-1703775600@artsconnectva.org
SUMMARY:The Great American Song Book with Tom and Becky
DESCRIPTION:With Tom on trumpet and Flugelhorn and Becky on Keyboards and French horn\, they play and demonstrate all aspects of brass performance using the “Great American Songbook” and the most requested music in history.
URL:https://artsconnectva.org/event/the-great-american-song-book-with-tom-and-becky/
LOCATION:VA
CATEGORIES:Outreach Program
END:VEVENT
BEGIN:VEVENT
DTSTART;TZID=America/New_York:20231228T130000
DTEND;TZID=America/New_York:20231228T140000
DTSTAMP:20260422T183316
CREATED:20231127T180609Z
LAST-MODIFIED:20231127T180609Z
UID:9174-1703768400-1703772000@artsconnectva.org
SUMMARY:New Year Card Craft with Diane Brock-Gerald!
DESCRIPTION:
URL:https://artsconnectva.org/event/new-year-card-craft-with-diane-brock-gerald/
LOCATION:VA
CATEGORIES:Outreach Program
END:VEVENT
BEGIN:VEVENT
DTSTART;TZID=America/New_York:20231227T130000
DTEND;TZID=America/New_York:20231227T140000
DTSTAMP:20260422T183316
CREATED:20231005T145531Z
LAST-MODIFIED:20231005T145531Z
UID:8703-1703682000-1703685600@artsconnectva.org
SUMMARY:Favorite Throwbacks with Cory Laser
DESCRIPTION:Famous hits from 50s\, 60s 70s that everyone knows and can easily sing along.
URL:https://artsconnectva.org/event/favorite-throwbacks-with-cory-laser/
LOCATION:VA
CATEGORIES:Outreach Program
END:VEVENT
BEGIN:VEVENT
DTSTART;TZID=America/New_York:20231226T130000
DTEND;TZID=America/New_York:20231226T140000
DTSTAMP:20260422T183316
CREATED:20230927T163713Z
LAST-MODIFIED:20230927T163713Z
UID:8642-1703595600-1703599200@artsconnectva.org
SUMMARY:The Classics with Thyme and Beat
DESCRIPTION:Thyme & Beats plays a genre of 60s and 70s covers with some Christmas Tunes mixed in! \n 
URL:https://artsconnectva.org/event/the-classics-with-thyme-and-beat/
LOCATION:VA
CATEGORIES:Outreach Program
END:VEVENT
BEGIN:VEVENT
DTSTART;TZID=America/New_York:20231224T140000
DTEND;TZID=America/New_York:20231224T150000
DTSTAMP:20260422T183316
CREATED:20231003T153700Z
LAST-MODIFIED:20231003T153700Z
UID:8662-1703426400-1703430000@artsconnectva.org
SUMMARY:Sunday Social with Thyme and Beat
DESCRIPTION:Thyme & Beats plays a genre of 60s and 70s covers with some originals mixed in. \n 
URL:https://artsconnectva.org/event/sunday-social-with-thyme-and-beat-2/
LOCATION:VA
CATEGORIES:Outreach Program
END:VEVENT
BEGIN:VEVENT
DTSTART;TZID=America/New_York:20231222T183000
DTEND;TZID=America/New_York:20231222T193000
DTSTAMP:20260422T183316
CREATED:20231003T180608Z
LAST-MODIFIED:20231003T180608Z
UID:8680-1703269800-1703273400@artsconnectva.org
SUMMARY:Holly Ball with Deep Blue
DESCRIPTION:The next generation of jazz musicians is excited to bring their sound to you! Join them for this jazz happy hour!
URL:https://artsconnectva.org/event/holly-ball-with-deep-blue-2/
LOCATION:VA
CATEGORIES:Outreach Program
END:VEVENT
BEGIN:VEVENT
DTSTART;TZID=America/New_York:20231222T150000
DTEND;TZID=America/New_York:20231222T160000
DTSTAMP:20260422T183316
CREATED:20231121T180042Z
LAST-MODIFIED:20231121T180042Z
UID:9044-1703257200-1703260800@artsconnectva.org
SUMMARY:Hits of the 50s and 60s with Adrienne and Jamie
DESCRIPTION:Join Adrienne and Jamie as they play some throwback tunes!
URL:https://artsconnectva.org/event/hits-of-the-50s-and-60s-with-adrienne-and-jamie/
LOCATION:VA
CATEGORIES:Outreach Program
END:VEVENT
BEGIN:VEVENT
DTSTART;TZID=America/New_York:20231222T143000
DTEND;TZID=America/New_York:20231222T153000
DTSTAMP:20260422T183316
CREATED:20231127T175358Z
LAST-MODIFIED:20231127T175358Z
UID:9167-1703255400-1703259000@artsconnectva.org
SUMMARY:Holiday Tunes with Art Rowe
DESCRIPTION:
URL:https://artsconnectva.org/event/holiday-tunes-with-art-rowe/
LOCATION:VA
CATEGORIES:Outreach Program
END:VEVENT
BEGIN:VEVENT
DTSTART;TZID=America/New_York:20231222T140000
DTEND;TZID=America/New_York:20231222T150000
DTSTAMP:20260422T183316
CREATED:20231109T183515Z
LAST-MODIFIED:20231109T183515Z
UID:8904-1703253600-1703257200@artsconnectva.org
SUMMARY:Best of Yesteryear with Mike Finn
DESCRIPTION:Join in the fun and bring back fond memories with Mike’s engaging mix of mellow rock classics and singalong oldies. From the Beatles to Jimmy Buffett\, audiences will be singing choruses and swaying to the beat of their favorite songs from yesteryear.
URL:https://artsconnectva.org/event/best-of-yesteryear-with-mike-finn-36/
LOCATION:VA
CATEGORIES:Outreach Program
END:VEVENT
BEGIN:VEVENT
DTSTART;TZID=America/New_York:20231222T030000
DTEND;TZID=America/New_York:20231222T160000
DTSTAMP:20260422T183316
CREATED:20231124T153515Z
LAST-MODIFIED:20231124T153515Z
UID:9056-1703214000-1703260800@artsconnectva.org
SUMMARY:Glitter Ornaments with Susan Owens
DESCRIPTION:Join Susan to make some Christmas ornaments!
URL:https://artsconnectva.org/event/glitter-ornaments-with-susan-owens-2/
LOCATION:VA
CATEGORIES:Outreach Program
END:VEVENT
BEGIN:VEVENT
DTSTART;TZID=America/New_York:20231221T140000
DTEND;TZID=America/New_York:20231221T150000
DTSTAMP:20260422T183316
CREATED:20231009T185717Z
LAST-MODIFIED:20231009T185717Z
UID:8716-1703167200-1703170800@artsconnectva.org
SUMMARY:All of the Favorites with Dan Smith
DESCRIPTION:Enjoy live performance of popular music from the 1940s\, 1950s and 1960s featuring big band\, classic country\, Elvis Presley\, Pat Boone\, and other icons of the era. Performances feature vocals with electronic keyboard and saxophone.
URL:https://artsconnectva.org/event/all-of-the-favorites-with-dan-smith-23/
LOCATION:VA
CATEGORIES:Outreach Program
END:VEVENT
BEGIN:VEVENT
DTSTART;TZID=America/New_York:20231221T103000
DTEND;TZID=America/New_York:20231221T113000
DTSTAMP:20260422T183316
CREATED:20230913T175523Z
LAST-MODIFIED:20230913T175523Z
UID:8530-1703154600-1703158200@artsconnectva.org
SUMMARY:Christmas Favorites with Lyle and Linda Dowling
DESCRIPTION:Lyle and Linda love entertaining seniors and performing a combination of style! The Genre of songs they sing include a variety of artists as well\, something to please everyone!
URL:https://artsconnectva.org/event/christmas-favorites-with-lyle-and-linda-dowling/
LOCATION:VA
CATEGORIES:Outreach Program
END:VEVENT
BEGIN:VEVENT
DTSTART;TZID=America/New_York:20231220T153000
DTEND;TZID=America/New_York:20231220T163000
DTSTAMP:20260422T183316
CREATED:20231127T170819Z
LAST-MODIFIED:20231127T170819Z
UID:9159-1703086200-1703089800@artsconnectva.org
SUMMARY:Winter Harmonies with The Elderly Brothers
DESCRIPTION:
URL:https://artsconnectva.org/event/winter-harmonies-with-the-elderly-brothers/
LOCATION:VA
CATEGORIES:Outreach Program
END:VEVENT
BEGIN:VEVENT
DTSTART;TZID=America/New_York:20231220T153000
DTEND;TZID=America/New_York:20231220T163000
DTSTAMP:20260422T183316
CREATED:20231127T165100Z
LAST-MODIFIED:20231127T165100Z
UID:9156-1703086200-1703089800@artsconnectva.org
SUMMARY:Positive Beat Drumming with Jean Howard
DESCRIPTION:
URL:https://artsconnectva.org/event/positive-beat-drumming-with-jean-howard-2/
LOCATION:VA
CATEGORIES:Outreach Program
END:VEVENT
BEGIN:VEVENT
DTSTART;TZID=America/New_York:20231220T103000
DTEND;TZID=America/New_York:20231220T113000
DTSTAMP:20260422T183316
CREATED:20231115T180308Z
LAST-MODIFIED:20231115T180308Z
UID:8932-1703068200-1703071800@artsconnectva.org
SUMMARY:Christmas Ornaments with Susan Owens
DESCRIPTION:Join Susan as she helps you make some festive Christmas ornaments!
URL:https://artsconnectva.org/event/christmas-ornaments-with-susan-owens/
LOCATION:VA
CATEGORIES:Outreach Program
END:VEVENT
BEGIN:VEVENT
DTSTART;TZID=America/New_York:20231219T150000
DTEND;TZID=America/New_York:20231219T160000
DTSTAMP:20260422T183316
CREATED:20231130T180611Z
LAST-MODIFIED:20231130T180611Z
UID:9249-1702998000-1703001600@artsconnectva.org
SUMMARY:Wreaths with Susan Owens
DESCRIPTION:Join Susan as she guides you through creating your own holiday wreath!
URL:https://artsconnectva.org/event/wreaths-with-susan-owens/
LOCATION:VA
CATEGORIES:Outreach Program
END:VEVENT
BEGIN:VEVENT
DTSTART;TZID=America/New_York:20231219T140000
DTEND;TZID=America/New_York:20231219T150000
DTSTAMP:20260422T183317
CREATED:20231010T154511Z
LAST-MODIFIED:20231010T154511Z
UID:8728-1702994400-1702998000@artsconnectva.org
SUMMARY:Christmas Favorites with Dan Smith
DESCRIPTION:Join Dan for all of your favorite Christmas tunes!
URL:https://artsconnectva.org/event/christmas-favorites-with-dan-smith/
LOCATION:VA
CATEGORIES:Outreach Program
END:VEVENT
BEGIN:VEVENT
DTSTART;TZID=America/New_York:20231219T140000
DTEND;TZID=America/New_York:20231219T150000
DTSTAMP:20260422T183317
CREATED:20231010T154142Z
LAST-MODIFIED:20231010T154142Z
UID:8726-1702994400-1702998000@artsconnectva.org
SUMMARY:Wreath Making with Creative Connections
DESCRIPTION:Join Tina and Mike as they guide you through creating a beautiful wreath! See you there!
URL:https://artsconnectva.org/event/wreath-making-with-creative-connections-6/
LOCATION:VA
CATEGORIES:Outreach Program
END:VEVENT
BEGIN:VEVENT
DTSTART;TZID=America/New_York:20231219T133000
DTEND;TZID=America/New_York:20231219T143000
DTSTAMP:20260422T183317
CREATED:20231017T165916Z
LAST-MODIFIED:20231017T165916Z
UID:8790-1702992600-1702996200@artsconnectva.org
SUMMARY:Keep the Beat Social with Tom and Rose Schlater
DESCRIPTION:Enjoy living with Tom and Rose Schlater as they play well known popular hits from 1900 to 1975!
URL:https://artsconnectva.org/event/keep-the-beat-social-with-tom-and-rose-schlater-3/
LOCATION:VA
CATEGORIES:Outreach Program
END:VEVENT
BEGIN:VEVENT
DTSTART;TZID=America/New_York:20231219T130000
DTEND;TZID=America/New_York:20231219T140000
DTSTAMP:20260422T183317
CREATED:20230913T174646Z
LAST-MODIFIED:20230913T174646Z
UID:8526-1702990800-1702994400@artsconnectva.org
SUMMARY:Singing and Smiling with David and Ron
DESCRIPTION:David and Ron’s sole objective is to interact with the audience via talking and singing with them and most important putting a “Smile” on their Face!
URL:https://artsconnectva.org/event/singing-and-smiling-with-david-and-ron-3/
LOCATION:VA
CATEGORIES:Outreach Program
END:VEVENT
END:VCALENDAR