BEGIN:VCALENDAR
VERSION:2.0
PRODID:-//ArtsConnect Virginia - ECPv6.15.20//NONSGML v1.0//EN
CALSCALE:GREGORIAN
METHOD:PUBLISH
X-ORIGINAL-URL:https://artsconnectva.org
X-WR-CALDESC:Events for ArtsConnect Virginia
REFRESH-INTERVAL;VALUE=DURATION:PT1H
X-Robots-Tag:noindex
X-PUBLISHED-TTL:PT1H
BEGIN:VTIMEZONE
TZID:America/New_York
BEGIN:DAYLIGHT
TZOFFSETFROM:-0500
TZOFFSETTO:-0400
TZNAME:EDT
DTSTART:20230312T070000
END:DAYLIGHT
BEGIN:STANDARD
TZOFFSETFROM:-0400
TZOFFSETTO:-0500
TZNAME:EST
DTSTART:20231105T060000
END:STANDARD
BEGIN:DAYLIGHT
TZOFFSETFROM:-0500
TZOFFSETTO:-0400
TZNAME:EDT
DTSTART:20240310T070000
END:DAYLIGHT
BEGIN:STANDARD
TZOFFSETFROM:-0400
TZOFFSETTO:-0500
TZNAME:EST
DTSTART:20241103T060000
END:STANDARD
BEGIN:DAYLIGHT
TZOFFSETFROM:-0500
TZOFFSETTO:-0400
TZNAME:EDT
DTSTART:20250309T070000
END:DAYLIGHT
BEGIN:STANDARD
TZOFFSETFROM:-0400
TZOFFSETTO:-0500
TZNAME:EST
DTSTART:20251102T060000
END:STANDARD
END:VTIMEZONE
BEGIN:VEVENT
DTSTART;TZID=America/New_York:20240507T140000
DTEND;TZID=America/New_York:20240507T150000
DTSTAMP:20260422T181710
CREATED:20240409T185622Z
LAST-MODIFIED:20240409T185622Z
UID:10313-1715090400-1715094000@artsconnectva.org
SUMMARY:Music Through the Decades with Karen Stowe
DESCRIPTION:View Flyer
URL:https://artsconnectva.org/event/music-through-the-decades-with-karen-stowe-2/
LOCATION:VA
CATEGORIES:Outreach Program
END:VEVENT
BEGIN:VEVENT
DTSTART;TZID=America/New_York:20240508T111500
DTEND;TZID=America/New_York:20240508T121500
DTSTAMP:20260422T181710
CREATED:20240416T155914Z
LAST-MODIFIED:20240416T155914Z
UID:10359-1715166900-1715170500@artsconnectva.org
SUMMARY:The Classics with Lyle and Linda Dowling
DESCRIPTION:Lyle and Linda love entertaining seniors and performing a combination of style! The Genre of songs they sing include a variety of artists as well\, something to please everyone!
URL:https://artsconnectva.org/event/the-classics-with-lyle-and-linda-dowling-4/
LOCATION:VA
CATEGORIES:Outreach Program
END:VEVENT
BEGIN:VEVENT
DTSTART;TZID=America/New_York:20240508T120000
DTEND;TZID=America/New_York:20240508T140000
DTSTAMP:20260422T181711
CREATED:20240227T151456Z
LAST-MODIFIED:20240227T151456Z
UID:9924-1715169600-1715176800@artsconnectva.org
SUMMARY:Fletcher and Friends
DESCRIPTION:Fletcher and Friends are a guitar\, bass and drums trio that play a variety of music genres. They play old and new jazz as well as blues\, rhythm and blues\, and Latin tunes. They also include tunes from mainstream pop.
URL:https://artsconnectva.org/event/fletcher-and-friends-21/
LOCATION:VA
CATEGORIES:Outreach Program
END:VEVENT
BEGIN:VEVENT
DTSTART;TZID=America/New_York:20240508T140000
DTEND;TZID=America/New_York:20240508T150000
DTSTAMP:20260422T181711
CREATED:20240416T155347Z
LAST-MODIFIED:20240416T155347Z
UID:10357-1715176800-1715180400@artsconnectva.org
SUMMARY:The Classics with Thyme and Beats
DESCRIPTION:Thyme & Beat plays a variety of 60s and 70s covers!
URL:https://artsconnectva.org/event/the-classics-with-thyme-and-beats-2/
LOCATION:VA
CATEGORIES:Outreach Program
END:VEVENT
BEGIN:VEVENT
DTSTART;TZID=America/New_York:20240508T170000
DTEND;TZID=America/New_York:20240508T180000
DTSTAMP:20260422T181711
CREATED:20240416T153659Z
LAST-MODIFIED:20240416T153659Z
UID:10354-1715187600-1715191200@artsconnectva.org
SUMMARY:Mother's Day Hats with Karen Gould
DESCRIPTION:View Flyer
URL:https://artsconnectva.org/event/mothers-day-hats-with-karen-gould/
LOCATION:VA
CATEGORIES:Outreach Program
END:VEVENT
BEGIN:VEVENT
DTSTART;TZID=America/New_York:20240508T173000
DTEND;TZID=America/New_York:20240508T183000
DTSTAMP:20260422T181711
CREATED:20240327T164156Z
LAST-MODIFIED:20240327T164156Z
UID:10107-1715189400-1715193000@artsconnectva.org
SUMMARY:Trumpet Tunes with Chad McGill
DESCRIPTION:Join Chad as he plays a variety of music on the trumpet! From light jazz to The Beatles\, you will find his music has something for everyone!
URL:https://artsconnectva.org/event/trumpet-tunes-with-chad-mcgill-12/
LOCATION:VA
CATEGORIES:Outreach Program
END:VEVENT
BEGIN:VEVENT
DTSTART;TZID=America/New_York:20240509T103000
DTEND;TZID=America/New_York:20240509T113000
DTSTAMP:20260422T181711
CREATED:20240430T201607Z
LAST-MODIFIED:20240430T201607Z
UID:10529-1715250600-1715254200@artsconnectva.org
SUMMARY:Face Pots with Rhona Dawson
DESCRIPTION:View Flyer
URL:https://artsconnectva.org/event/face-pots-with-rhona-dawson-2/
LOCATION:VA
CATEGORIES:Outreach Program
END:VEVENT
BEGIN:VEVENT
DTSTART;TZID=America/New_York:20240509T113000
DTEND;TZID=America/New_York:20240509T123000
DTSTAMP:20260422T181711
CREATED:20240227T155117Z
LAST-MODIFIED:20240227T155117Z
UID:9938-1715254200-1715257800@artsconnectva.org
SUMMARY:T-Shirts to Totes with Sonya Z Phillips
DESCRIPTION:Sonya will show you how you can live more sustainably by turning t-shirts into reusable tote bags using basic sewing techniques.
URL:https://artsconnectva.org/event/t-shirts-to-totes-with-sonya-z-phillips-10/
LOCATION:VA
CATEGORIES:Outreach Program
END:VEVENT
BEGIN:VEVENT
DTSTART;TZID=America/New_York:20240509T130000
DTEND;TZID=America/New_York:20240509T140000
DTSTAMP:20260422T181711
CREATED:20240419T145555Z
LAST-MODIFIED:20240420T114438Z
UID:10417-1715259600-1715263200@artsconnectva.org
SUMMARY:Pop Song Listen-Along with Melissa Cartwright
DESCRIPTION:View Flyer
URL:https://artsconnectva.org/event/pop-song-sing-along-with-melissa-cartwright/
LOCATION:VA
CATEGORIES:Outreach Program
END:VEVENT
BEGIN:VEVENT
DTSTART;TZID=America/New_York:20240509T150000
DTEND;TZID=America/New_York:20240509T160000
DTSTAMP:20260422T181711
CREATED:20240502T161238Z
LAST-MODIFIED:20240502T223825Z
UID:10546-1715266800-1715270400@artsconnectva.org
SUMMARY:Watercolor Painting with Camille Donne
DESCRIPTION:View Flyer
URL:https://artsconnectva.org/event/ribbon-paint-pour-with-vanessa-golson/
LOCATION:VA
CATEGORIES:Outreach Program
END:VEVENT
BEGIN:VEVENT
DTSTART;TZID=America/New_York:20240510T140000
DTEND;TZID=America/New_York:20240510T150000
DTSTAMP:20260422T181711
CREATED:20240312T163333Z
LAST-MODIFIED:20240312T163333Z
UID:10024-1715349600-1715353200@artsconnectva.org
SUMMARY:Happy Hour with Dan Smith
DESCRIPTION:Enjoy a live performance of popular music from the 1940s\, 1950s and 1960s featuring big band\, classic country\, Elvis Presley\, Pat Boone\, and other icons of the era.
URL:https://artsconnectva.org/event/happy-hour-with-dan-smith-9/
LOCATION:VA
CATEGORIES:Outreach Program
END:VEVENT
BEGIN:VEVENT
DTSTART;TZID=America/New_York:20240510T140000
DTEND;TZID=America/New_York:20240510T150000
DTSTAMP:20260422T181711
CREATED:20240327T164602Z
LAST-MODIFIED:20240327T164602Z
UID:10109-1715349600-1715353200@artsconnectva.org
SUMMARY:Mother's Day Tea with Art Rowe
DESCRIPTION:Enjoy listening to this barber shop quartet as they sing all the classics for you!
URL:https://artsconnectva.org/event/mothers-day-tea-with-art-rowe/
LOCATION:VA
CATEGORIES:Outreach Program
END:VEVENT
BEGIN:VEVENT
DTSTART;TZID=America/New_York:20240510T140000
DTEND;TZID=America/New_York:20240510T150000
DTSTAMP:20260422T181711
CREATED:20240422T180315Z
LAST-MODIFIED:20240422T180315Z
UID:10444-1715349600-1715353200@artsconnectva.org
SUMMARY:Famous Hits! with Cory Laser
DESCRIPTION:Enjoy listening to famous hits from 50’s\, 60’s\, and 70’s that everyone knows and can easily sing along!
URL:https://artsconnectva.org/event/famous-hits-with-cory-laser-12/
LOCATION:VA
CATEGORIES:Outreach Program
END:VEVENT
BEGIN:VEVENT
DTSTART;TZID=America/New_York:20240510T140000
DTEND;TZID=America/New_York:20240510T150000
DTSTAMP:20260422T181711
CREATED:20240426T133113Z
LAST-MODIFIED:20240426T183937Z
UID:10494-1715349600-1715353200@artsconnectva.org
SUMMARY:Spring Wreath with Stephanie Slate
DESCRIPTION:Join Stephanie as she helps you create a beautiful spring wreath!
URL:https://artsconnectva.org/event/spring-wreath-with-stephanie-slate-3/
LOCATION:VA
CATEGORIES:Outreach Program
END:VEVENT
BEGIN:VEVENT
DTSTART;TZID=America/New_York:20240510T143000
DTEND;TZID=America/New_York:20240510T153000
DTSTAMP:20260422T181711
CREATED:20240420T120350Z
LAST-MODIFIED:20240420T120350Z
UID:10425-1715351400-1715355000@artsconnectva.org
SUMMARY:Enchanted Melodies with MCM Flute Trio
DESCRIPTION:View Flyer
URL:https://artsconnectva.org/event/enchanted-melodies-with-mcm-flute-trio/
LOCATION:VA
CATEGORIES:Outreach Program
END:VEVENT
BEGIN:VEVENT
DTSTART;TZID=America/New_York:20240510T150000
DTEND;TZID=America/New_York:20240510T160000
DTSTAMP:20260422T181711
CREATED:20240423T135831Z
LAST-MODIFIED:20240423T135831Z
UID:10472-1715353200-1715356800@artsconnectva.org
SUMMARY:The Classics with Mary M Saunders
DESCRIPTION:Join Mary as she plays music from the 40s to the 80s!
URL:https://artsconnectva.org/event/the-classics-with-mary-m-saunders-4/
LOCATION:VA
CATEGORIES:Outreach Program
END:VEVENT
BEGIN:VEVENT
DTSTART;TZID=America/New_York:20240511T170000
DTEND;TZID=America/New_York:20240511T180000
DTSTAMP:20260422T181711
CREATED:20240327T165216Z
LAST-MODIFIED:20240327T165216Z
UID:10111-1715446800-1715450400@artsconnectva.org
SUMMARY:Paint-A-Long with Susan Owens
DESCRIPTION:Join Susan as she guides you through this beautiful fall paint-a-long!
URL:https://artsconnectva.org/event/paint-a-long-with-susan-owens-2/
LOCATION:VA
CATEGORIES:Outreach Program
END:VEVENT
BEGIN:VEVENT
DTSTART;TZID=America/New_York:20240512T100000
DTEND;TZID=America/New_York:20240512T110000
DTSTAMP:20260422T181711
CREATED:20240506T180044Z
LAST-MODIFIED:20240506T180044Z
UID:10560-1715508000-1715511600@artsconnectva.org
SUMMARY:Mother's Day Guitar with Art Rowe
DESCRIPTION:Art is an acoustic guitarist and will be playing instrumental guitar for this mother’s day program!
URL:https://artsconnectva.org/event/mothers-day-guitar-with-art-rowe/
LOCATION:VA
CATEGORIES:Outreach Program
END:VEVENT
BEGIN:VEVENT
DTSTART;TZID=America/New_York:20240512T113000
DTEND;TZID=America/New_York:20240512T123000
DTSTAMP:20260422T181711
CREATED:20240405T142048Z
LAST-MODIFIED:20240405T142048Z
UID:10302-1715513400-1715517000@artsconnectva.org
SUMMARY:Mother's Day Violin Serenade with Alex Marlins
DESCRIPTION:Enjoy a beautiful violin serenade by Alex Marlins! Alex is trained in various musical styles on the violin\, including classical\, jazz\, modern/pop\, and Celtic fiddle.
URL:https://artsconnectva.org/event/mothers-day-violin-serenade-with-alex-marlins/
LOCATION:VA
CATEGORIES:Outreach Program
END:VEVENT
BEGIN:VEVENT
DTSTART;TZID=America/New_York:20240512T130000
DTEND;TZID=America/New_York:20240512T140000
DTSTAMP:20260422T181711
CREATED:20240429T172354Z
LAST-MODIFIED:20240429T172354Z
UID:10497-1715518800-1715522400@artsconnectva.org
SUMMARY:Mother's Day Brunch with Sean Arawjo
DESCRIPTION:
URL:https://artsconnectva.org/event/mothers-day-brunch-with-sean-arawjo/
LOCATION:VA
CATEGORIES:Outreach Program
END:VEVENT
BEGIN:VEVENT
DTSTART;TZID=America/New_York:20240513T140000
DTEND;TZID=America/New_York:20240513T150000
DTSTAMP:20260422T181711
CREATED:20240420T123426Z
LAST-MODIFIED:20240420T123426Z
UID:10429-1715608800-1715612400@artsconnectva.org
SUMMARY:Jam with The Earthtones!
DESCRIPTION:View Flyer
URL:https://artsconnectva.org/event/jam-with-the-earthtones-2/
LOCATION:VA
CATEGORIES:Outreach Program
END:VEVENT
BEGIN:VEVENT
DTSTART;TZID=America/New_York:20240513T150000
DTEND;TZID=America/New_York:20240513T160000
DTSTAMP:20260422T181711
CREATED:20240411T150320Z
LAST-MODIFIED:20240411T150320Z
UID:10329-1715612400-1715616000@artsconnectva.org
SUMMARY:Music Through the Decades with Karen Stowe
DESCRIPTION:Enjoy listening to beautiful and elegant harp music!
URL:https://artsconnectva.org/event/music-through-the-decades-with-karen-stowe-3/
LOCATION:VA
CATEGORIES:Outreach Program
END:VEVENT
BEGIN:VEVENT
DTSTART;TZID=America/New_York:20240514T130000
DTEND;TZID=America/New_York:20240514T140000
DTSTAMP:20260422T181711
CREATED:20240226T221544Z
LAST-MODIFIED:20240226T221544Z
UID:9915-1715691600-1715695200@artsconnectva.org
SUMMARY:Singing and Smiling with David Jones and Bryan Martin
DESCRIPTION:David and Bryan’s sole objective is to interact with the audience via talking and singing with them and most important putting a “Smile” on their Face! They will be singing a variety of music including country and classic rock.
URL:https://artsconnectva.org/event/singing-and-smiling-with-david-jones-and-bryan-martin-3/
LOCATION:VA
CATEGORIES:Outreach Program
END:VEVENT
BEGIN:VEVENT
DTSTART;TZID=America/New_York:20240514T133000
DTEND;TZID=America/New_York:20240514T143000
DTSTAMP:20260422T181711
CREATED:20240227T151903Z
LAST-MODIFIED:20240227T151903Z
UID:9926-1715693400-1715697000@artsconnectva.org
SUMMARY:Keep the Beat Social with Tom and Rose Schlater
DESCRIPTION:Enjoy living with Tom and Rose Schlater as they play well known popular hits from 1900 to 1975!
URL:https://artsconnectva.org/event/keep-the-beat-social-with-tom-and-rose-schlater-4/
LOCATION:VA
CATEGORIES:Outreach Program
END:VEVENT
BEGIN:VEVENT
DTSTART;TZID=America/New_York:20240514T140000
DTEND;TZID=America/New_York:20240514T150000
DTSTAMP:20260422T181711
CREATED:20240429T173329Z
LAST-MODIFIED:20240429T173329Z
UID:10499-1715695200-1715698800@artsconnectva.org
SUMMARY:Birthday Social with Art Rowe
DESCRIPTION:View Flyer
URL:https://artsconnectva.org/event/birthday-social-with-art-rowe-2/
LOCATION:VA
CATEGORIES:Outreach Program
END:VEVENT
BEGIN:VEVENT
DTSTART;TZID=America/New_York:20240514T143000
DTEND;TZID=America/New_York:20240514T153000
DTSTAMP:20260422T181711
CREATED:20240402T143109Z
LAST-MODIFIED:20240402T143109Z
UID:10156-1715697000-1715700600@artsconnectva.org
SUMMARY:Music\, Motown\, and More! with Richard Mekdeci
DESCRIPTION:Richard Mekdeci (mek-dee-see) is an award-winning songwriter and musician and a 22-year veteran of the Nashville songwriting community. He has produced\, written\, and recorded with such artists as Roseanne Cash\, Kathy Mattea\, Patty Loveless\, and others.
URL:https://artsconnectva.org/event/music-motown-and-more-with-richard-mekdeci-35/
LOCATION:VA
CATEGORIES:Outreach Program
END:VEVENT
BEGIN:VEVENT
DTSTART;TZID=America/New_York:20240514T150000
DTEND;TZID=America/New_York:20240514T160000
DTSTAMP:20260422T181711
CREATED:20240409T190159Z
LAST-MODIFIED:20240409T190159Z
UID:10316-1715698800-1715702400@artsconnectva.org
SUMMARY:Violin Serenade with Alex Marlins
DESCRIPTION:Enjoy a beautiful violin serenade by Alex Marlins! Alex is trained in various musical styles on the violin\, including classical\, jazz\, modern/pop\, and Celtic fiddle.
URL:https://artsconnectva.org/event/violin-serenade-with-alex-marlins-18/
LOCATION:VA
CATEGORIES:Outreach Program
END:VEVENT
BEGIN:VEVENT
DTSTART;TZID=America/New_York:20240515T104500
DTEND;TZID=America/New_York:20240515T114500
DTSTAMP:20260422T181711
CREATED:20240402T143801Z
LAST-MODIFIED:20240402T143801Z
UID:10158-1715769900-1715773500@artsconnectva.org
SUMMARY:Acrylic Paint Pour with Vanessa Golson
DESCRIPTION:Enjoy a colorful\, art experience and walk away with a one-of-a-kind masterpiece\, with Vanessa’s step-by-step instructions of an acrylic paint pour technique!
URL:https://artsconnectva.org/event/acrylic-paint-pour-with-vanessa-golson-26/
LOCATION:VA
CATEGORIES:Outreach Program
END:VEVENT
BEGIN:VEVENT
DTSTART;TZID=America/New_York:20240515T110000
DTEND;TZID=America/New_York:20240515T120000
DTSTAMP:20260422T181711
CREATED:20240506T180525Z
LAST-MODIFIED:20240506T180525Z
UID:10562-1715770800-1715774400@artsconnectva.org
SUMMARY:Drumming Fun with Jean Howard
DESCRIPTION:Join Jean for the positive effects of drumming!
URL:https://artsconnectva.org/event/drumming-fun-with-jean-howard-2/
LOCATION:VA
CATEGORIES:Outreach Program
END:VEVENT
BEGIN:VEVENT
DTSTART;TZID=America/New_York:20240515T140000
DTEND;TZID=America/New_York:20240515T150000
DTSTAMP:20260422T181711
CREATED:20240429T174307Z
LAST-MODIFIED:20240429T174307Z
UID:10502-1715781600-1715785200@artsconnectva.org
SUMMARY:Jam with The Earthtones
DESCRIPTION:View Flyer
URL:https://artsconnectva.org/event/jam-with-the-earthtones-3/
LOCATION:VA
CATEGORIES:Outreach Program
END:VEVENT
END:VCALENDAR