BEGIN:VCALENDAR
VERSION:2.0
PRODID:-//ArtsConnect Virginia - ECPv6.15.20//NONSGML v1.0//EN
CALSCALE:GREGORIAN
METHOD:PUBLISH
X-WR-CALNAME:ArtsConnect Virginia
X-ORIGINAL-URL:https://artsconnectva.org
X-WR-CALDESC:Events for ArtsConnect Virginia
REFRESH-INTERVAL;VALUE=DURATION:PT1H
X-Robots-Tag:noindex
X-PUBLISHED-TTL:PT1H
BEGIN:VTIMEZONE
TZID:America/New_York
BEGIN:DAYLIGHT
TZOFFSETFROM:-0500
TZOFFSETTO:-0400
TZNAME:EDT
DTSTART:20250309T070000
END:DAYLIGHT
BEGIN:STANDARD
TZOFFSETFROM:-0400
TZOFFSETTO:-0500
TZNAME:EST
DTSTART:20251102T060000
END:STANDARD
BEGIN:DAYLIGHT
TZOFFSETFROM:-0500
TZOFFSETTO:-0400
TZNAME:EDT
DTSTART:20260308T070000
END:DAYLIGHT
BEGIN:STANDARD
TZOFFSETFROM:-0400
TZOFFSETTO:-0500
TZNAME:EST
DTSTART:20261101T060000
END:STANDARD
BEGIN:DAYLIGHT
TZOFFSETFROM:-0500
TZOFFSETTO:-0400
TZNAME:EDT
DTSTART:20270314T070000
END:DAYLIGHT
BEGIN:STANDARD
TZOFFSETFROM:-0400
TZOFFSETTO:-0500
TZNAME:EST
DTSTART:20271107T060000
END:STANDARD
END:VTIMEZONE
BEGIN:VEVENT
DTSTART;TZID=America/New_York:20260505T150000
DTEND;TZID=America/New_York:20260505T160000
DTSTAMP:20260421T005744
CREATED:20260417T170938Z
LAST-MODIFIED:20260417T170938Z
UID:18262-1777993200-1777996800@artsconnectva.org
SUMMARY:Cinco de Mayo Celebration with Chad McGill
DESCRIPTION:Trumpeter and music educator Chad McGill has 22+ years of performance experience\, including Army bands in Kentucky\, Oklahoma\, Korea\, and Virginia. He is an arranger\, emcee\, and soloist known for connecting with audiences.
URL:https://artsconnectva.org/event/cinco-de-mayo-celebration-with-chad-mcgill/
LOCATION:Chesapeake\, VA\, Chesapeake\, VA\, United States
CATEGORIES:Outreach Program
END:VEVENT
BEGIN:VEVENT
DTSTART;TZID=America/New_York:20260505T170000
DTEND;TZID=America/New_York:20260505T180000
DTSTAMP:20260421T005744
CREATED:20260415T193144Z
LAST-MODIFIED:20260415T193144Z
UID:18254-1778000400-1778004000@artsconnectva.org
SUMMARY:Watercolor Notecards with Vivan Davis
DESCRIPTION:Vivian Davis is a multidisciplinary artist and art instructor traversing disciplines of illustration\, painting\, sculpture\, and installation. \nThis program is open to the public\, but registration is required. Please call 757-823-4800 to register. \nView flyer
URL:https://artsconnectva.org/event/watercolor-notecards-with-vivan-davis/
LOCATION:Jordan-Newby Anchor Branch Library\, 1425 Norchester Ave\, Norfolk\, VA\, 23504\, United States
CATEGORIES:Open to the Public,Outreach Program,Registration Required
END:VEVENT
BEGIN:VEVENT
DTSTART;TZID=America/New_York:20260506T110000
DTEND;TZID=America/New_York:20260506T120000
DTSTAMP:20260421T005744
CREATED:20260417T195646Z
LAST-MODIFIED:20260417T195646Z
UID:18280-1778065200-1778068800@artsconnectva.org
SUMMARY:Hits of the 60s & 70s with Greg Branigan
DESCRIPTION:Greg is a retired Marine Corps infantry officer who has had a life-long passion for playing his guitar and singing. He has performed solo and with the acoustic trio\, the Jam Daddys\, throughout Hampton Roads over the past 10 years. \nThis program is free and open to the public but registration is required. Please call (757) 382-6411 to register. \nView flyer
URL:https://artsconnectva.org/event/hits-of-the-60s-70s-with-greg-branigan/
LOCATION:Rokeby Center\, 1709 Rokeby Ave\, Chesapeake\, VA\, 23320\, United States
CATEGORIES:Open to the Public,Outreach Program,Registration Required
END:VEVENT
BEGIN:VEVENT
DTSTART;TZID=America/New_York:20260506T124500
DTEND;TZID=America/New_York:20260506T134500
DTSTAMP:20260421T005744
CREATED:20260417T200532Z
LAST-MODIFIED:20260417T200532Z
UID:18283-1778071500-1778075100@artsconnectva.org
SUMMARY:Eclectic Music Mix with Mark Pettiford
DESCRIPTION:Mark Pettiford is a singer/musician playing different styles of music. He has a band that he performs with locally and is a songwriter working on music for film and TV.
URL:https://artsconnectva.org/event/eclectic-music-mix-with-mark-pettiford/
LOCATION:Portsmouth\, VA\, Portsmouth\, VA\, United States
CATEGORIES:Outreach Program
END:VEVENT
BEGIN:VEVENT
DTSTART;TZID=America/New_York:20260507T130000
DTEND;TZID=America/New_York:20260507T140000
DTSTAMP:20260421T005744
CREATED:20260417T201330Z
LAST-MODIFIED:20260417T201330Z
UID:18285-1778158800-1778162400@artsconnectva.org
SUMMARY:Interactive Drumming with Michael Malinowski
DESCRIPTION:Michael Malinowski is a freelance drummer and percussionist who has performed with artists such as Blue Man Group and Sheila E. He has performed at large venues in LA\, including Hollywood Bowl. He also has an extensive teaching background. \nView flyer
URL:https://artsconnectva.org/event/interactive-drumming-with-michael-malinowski/
LOCATION:Norfolk\, VA\, Norfolk\, VA\, United States
CATEGORIES:Outreach Program
END:VEVENT
BEGIN:VEVENT
DTSTART;TZID=America/New_York:20260507T130000
DTEND;TZID=America/New_York:20260507T140000
DTSTAMP:20260421T005744
CREATED:20260417T202201Z
LAST-MODIFIED:20260417T202201Z
UID:18288-1778158800-1778162400@artsconnectva.org
SUMMARY:Singing and Smiling with David Jones and Art Rowe
DESCRIPTION:David is an acoustic guitar player and singer who performs covers of various classic\, easy-listening rock and folk musicians from the 1960s-1990s\, incorporating traditional hymns at times.\n\nOriginally from New Hampshire and currently residing in Virginia Beach\, Art is a retired Navy veteran who has been playing guitar for about five years. He loves to play guitar and sing a variety of songs from country\, oldies\, Mowtown\, etc.
URL:https://artsconnectva.org/event/singing-and-smiling-with-david-jones-and-art-rowe-4/
LOCATION:Virginia Beach\, VA\, Virginia Beach\, VA\, United States
CATEGORIES:Outreach Program
END:VEVENT
BEGIN:VEVENT
DTSTART;TZID=America/New_York:20260507T140000
DTEND;TZID=America/New_York:20260507T150000
DTSTAMP:20260421T005744
CREATED:20260417T203608Z
LAST-MODIFIED:20260417T203608Z
UID:18290-1778162400-1778166000@artsconnectva.org
SUMMARY:Sing Along with Greg Branigan
DESCRIPTION:Greg is a solo acoustic guitar player and singer who performs the acoustic classics from the 60s and 70s. His favorites include James Taylor\, Simon and Garfunkel\, and Jackson Brown.
URL:https://artsconnectva.org/event/sing-along-with-greg-branigan/
LOCATION:Virginia Beach\, VA\, Virginia Beach\, VA\, United States
CATEGORIES:Outreach Program
END:VEVENT
BEGIN:VEVENT
DTSTART;TZID=America/New_York:20260507T140000
DTEND;TZID=America/New_York:20260507T150000
DTSTAMP:20260421T005744
CREATED:20260417T204314Z
LAST-MODIFIED:20260417T204314Z
UID:18292-1778162400-1778166000@artsconnectva.org
SUMMARY:Library Concert Series feat. Joel Srebnick
DESCRIPTION:Joel has been a resident of Virginia since 1996\, having moved down from Connecticut. He is still unable to say “y’all” with any kind of conviction. He is a full-time computer nerd\, and enjoys reading\, woodworking\, and of course\, playing music. Joel has been playing music since he was in his teens\, happily trading the saxophone for hist first guitar at the age of 15.  This program will consist of Folk/rock tunes from the 60s and 70s\, along with some more contemporary songs. \nThis program is free and open to the public. Please call (757) 850-5114 for more information.
URL:https://artsconnectva.org/event/library-concert-series-feat-joel-srebnick/
LOCATION:Willow Oaks Branch Library\, 227 Fox Hill Rd.\, Hampton\, VA\, 23669\, United States
CATEGORIES:Open to the Public,Outreach Program,Registration Required
END:VEVENT
BEGIN:VEVENT
DTSTART;TZID=America/New_York:20260508T110000
DTEND;TZID=America/New_York:20260508T120000
DTSTAMP:20260421T005744
CREATED:20260417T210541Z
LAST-MODIFIED:20260417T210541Z
UID:18298-1778238000-1778241600@artsconnectva.org
SUMMARY:Zen Disc with Rhona Dawson
DESCRIPTION:Rhona grew up an artist by both very creative parents. She feels that creativity lives inside everyone. She’s been an artist working out which programs work best for many years and has found great pleasure and satisfaction in helping others through the arts. \nView flyer
URL:https://artsconnectva.org/event/zen-disc-with-rhona-dawson/
LOCATION:Franklin\, VA\, Franklin\, VA\, United States
CATEGORIES:Outreach Program
END:VEVENT
BEGIN:VEVENT
DTSTART;TZID=America/New_York:20260508T110000
DTEND;TZID=America/New_York:20260508T130000
DTSTAMP:20260421T005744
CREATED:20260417T205128Z
LAST-MODIFIED:20260417T205128Z
UID:18295-1778238000-1778245200@artsconnectva.org
SUMMARY:Sophisticated Lady Painting with Susan Owens
DESCRIPTION:Some clients call Susan the Craft Lady. She can provide a variety of crafting opportunities including acrylic and watercolor painting\, collage\, 3D crafts\, wreath making\, and more. All programs are determined by the population and needs of the community. \nView flyer
URL:https://artsconnectva.org/event/sophisticated-lady-painting-with-susan-owens/
LOCATION:Suffolk\, VA\, Suffolk\, VA\, United States
CATEGORIES:Outreach Program
END:VEVENT
BEGIN:VEVENT
DTSTART;TZID=America/New_York:20260508T133000
DTEND;TZID=America/New_York:20260508T143000
DTSTAMP:20260421T005744
CREATED:20260420T173929Z
LAST-MODIFIED:20260420T173929Z
UID:18313-1778247000-1778250600@artsconnectva.org
SUMMARY:Musical Celebration for Mother's Day with Greg Branigan
DESCRIPTION:Greg is a retired Marine Corps infantry officer who has had a life-long passion for playing his guitar and singing. He has performed solo and with the acoustic trio\, the Jam Daddys\, throughout Hampton Roads over the past 10 years. \nView flyer
URL:https://artsconnectva.org/event/musical-celebration-for-mothers-day-with-greg-branigan/
LOCATION:Norfolk\, VA\, Norfolk\, VA\, United States
CATEGORIES:Outreach Program
END:VEVENT
BEGIN:VEVENT
DTSTART;TZID=America/New_York:20260508T140000
DTEND;TZID=America/New_York:20260508T150000
DTSTAMP:20260421T005744
CREATED:20260420T141120Z
LAST-MODIFIED:20260420T141120Z
UID:18302-1778248800-1778252400@artsconnectva.org
SUMMARY:Mother's Day Garden Party with Rebecca Antonio
DESCRIPTION:Rebecca loves to bring your favorite tunes to life playing her violin whether it be with a flutist or guitarist. Often seen collaborating with other musicians\, especially her family band Two Arms of Flight\, she brings energy from the love of playing. \nView flyer
URL:https://artsconnectva.org/event/mothers-day-garden-party-with-rebecca-antonio/
LOCATION:Suffolk\, VA\, Suffolk\, VA\, United States
CATEGORIES:Outreach Program
END:VEVENT
BEGIN:VEVENT
DTSTART;TZID=America/New_York:20260508T140000
DTEND;TZID=America/New_York:20260508T150000
DTSTAMP:20260421T005744
CREATED:20260420T145604Z
LAST-MODIFIED:20260420T145604Z
UID:18307-1778248800-1778252400@artsconnectva.org
SUMMARY:Happy Hour Music with Bryan Martin
DESCRIPTION:Bryan is a Virginia Beach native who loves to sing and play guitar. He is always excited to share his gifts and talents with others. He loves life and doesn’t care if you are laughing with him or at him as long as you are smiling.
URL:https://artsconnectva.org/event/happy-hour-music-with-bryan-martin/
LOCATION:Virginia Beach\, VA\, Virginia Beach\, VA\, United States
CATEGORIES:Outreach Program
END:VEVENT
BEGIN:VEVENT
DTSTART;TZID=America/New_York:20260508T140000
DTEND;TZID=America/New_York:20260508T150000
DTSTAMP:20260421T005744
CREATED:20260420T152422Z
LAST-MODIFIED:20260420T152422Z
UID:18309-1778248800-1778252400@artsconnectva.org
SUMMARY:Serene Silhouettes with Enriched Moments\, LLC
DESCRIPTION:Adrienne Searle of Enriched Moments\, LLC offers Visual Arts programs for all skill levels include acrylic paintings & seasonal crafts. She also offers interactive music programs with harmonious vocals by a duo with guitar & percussion. Music will cover multiple genres with selections based on audience demographic. \nView flyer
URL:https://artsconnectva.org/event/serene-silhouettes-with-enriched-moments-llc/
LOCATION:Norfolk\, VA\, Norfolk\, VA\, United States
CATEGORIES:Outreach Program
END:VEVENT
BEGIN:VEVENT
DTSTART;TZID=America/New_York:20260508T140000
DTEND;TZID=America/New_York:20260508T150000
DTSTAMP:20260421T005744
CREATED:20260420T175108Z
LAST-MODIFIED:20260420T175108Z
UID:18316-1778248800-1778252400@artsconnectva.org
SUMMARY:Build a Bouquet for Mother's Day with Stephanie Slate
DESCRIPTION:Stephanie is an Art Educator that has taught over 20\,000 students in her 37-year career. Her programs range from mixed media to pottery and so much more! From exhibits to collaboration\, her love of art has earned her many accolades in the art education field. \nView flyer
URL:https://artsconnectva.org/event/build-a-bouquet-for-mothers-day-with-stephanie-slate/
LOCATION:Virginia Beach\, VA\, Virginia Beach\, VA\, United States
CATEGORIES:Outreach Program
END:VEVENT
BEGIN:VEVENT
DTSTART;TZID=America/New_York:20260508T143000
DTEND;TZID=America/New_York:20260508T153000
DTSTAMP:20260421T005744
CREATED:20260420T141516Z
LAST-MODIFIED:20260420T141516Z
UID:18305-1778250600-1778254200@artsconnectva.org
SUMMARY:A Serenade for Mother's Day with Alexandra Marlins
DESCRIPTION:Come relax and enjoy a violin serenade. Alex is trained in various styles including orchestral and holiday classics\, American and Celtic folk\, jazz\, and pop favorites.
URL:https://artsconnectva.org/event/a-serenade-for-mothers-day-with-alexandra-marlins/
LOCATION:Virginia Beach\, VA\, Virginia Beach\, VA\, United States
CATEGORIES:Outreach Program
END:VEVENT
BEGIN:VEVENT
DTSTART;TZID=America/New_York:20260508T160000
DTEND;TZID=America/New_York:20260508T170000
DTSTAMP:20260421T005744
CREATED:20260420T175429Z
LAST-MODIFIED:20260420T175429Z
UID:18319-1778256000-1778259600@artsconnectva.org
SUMMARY:Happy Hour with Dan Smith
DESCRIPTION:Retired with 20 years as a musician in the U.S. Army\, Dan served as an instrumental instructor at the Armed Forces School of Music\, performed as an oboe soloist\, and managed a Dixieland band for the South Carolina State Arts Commission. \nView flyer
URL:https://artsconnectva.org/event/happy-hour-with-dan-smith/
LOCATION:Norfolk\, VA\, Norfolk\, VA\, United States
CATEGORIES:Outreach Program
END:VEVENT
BEGIN:VEVENT
DTSTART;TZID=America/New_York:20260508T170000
DTEND;TZID=America/New_York:20260508T180000
DTSTAMP:20260421T005744
CREATED:20260420T180416Z
LAST-MODIFIED:20260420T180416Z
UID:18322-1778259600-1778263200@artsconnectva.org
SUMMARY:Second Friday Art Series: "Sophisticated Lady" Painting with Susan Owens
DESCRIPTION:Susan has an undergraduate degree in studio art\, a graduate degree in Art Therapy\, and is certified in K-12 education which is still valid\, though she is retired. She is a working resident artist and she teaches a variety of art classes in the community. \nThis program is open to the public\, but registration is required. Please call 757-441-5806 to register. \nView flyer
URL:https://artsconnectva.org/event/second-friday-art-series-sophisticated-lady-painting-with-susan-owens/
LOCATION:Barron F. Black Branch Library\, 6700 E Tanners Creek Dr\, Norfolk\, VA\, 23513\, United States
CATEGORIES:Open to the Public,Outreach Program,Registration Required
END:VEVENT
BEGIN:VEVENT
DTSTART;TZID=America/New_York:20260509T160000
DTEND;TZID=America/New_York:20260509T170000
DTSTAMP:20260421T005744
CREATED:20260420T184609Z
LAST-MODIFIED:20260420T184609Z
UID:18325-1778342400-1778346000@artsconnectva.org
SUMMARY:Paint Party with D. Duck Art
DESCRIPTION:David Duck specializes in creative engagement — customized to complement any environment desired. His most popular service is the “paint party”\, where he leads participants through a step-by-step process to create acrylic paintings. \nThis program is open to the public\, but registration is required. Please call 757-382-1900 to register. \nView flyer
URL:https://artsconnectva.org/event/paint-party-with-d-duck-art/
LOCATION:Indian River Library\, 2320 Old Greenbrier Rd\, Chesapeake\, VA\, 23325\, United States
CATEGORIES:Open to the Public,Outreach Program,Registration Required
END:VEVENT
BEGIN:VEVENT
DTSTART;TZID=America/New_York:20260510T113000
DTEND;TZID=America/New_York:20260510T133000
DTSTAMP:20260421T005744
CREATED:20260420T185129Z
LAST-MODIFIED:20260420T185129Z
UID:18328-1778412600-1778419800@artsconnectva.org
SUMMARY:Mother's Day Brunch feat. Beverly Taylor
DESCRIPTION:Beverly has been entertaining audiences of all ages in the Tidewater area for over 30 years. She can be seen with the Doorway Singers\, on Live on Atlantic at the Virginia Beach Oceanfront\, and at events in Tidewater and beyond. \nView flyer
URL:https://artsconnectva.org/event/mothers-day-brunch-feat-beverly-taylor/
LOCATION:Virginia Beach\, VA\, Virginia Beach\, VA\, United States
CATEGORIES:Outreach Program
END:VEVENT
BEGIN:VEVENT
DTSTART;TZID=America/New_York:20260511T140000
DTEND;TZID=America/New_York:20260511T150000
DTSTAMP:20260421T005744
CREATED:20260420T185728Z
LAST-MODIFIED:20260420T185728Z
UID:18331-1778508000-1778511600@artsconnectva.org
SUMMARY:Mother's Day Tea Party with Jena Chenkin
DESCRIPTION:Violinist Jena Chenkin is a member of the Williamsburg Symphony and a substitute musician with the Virginia Symphony. Ms. Chenkin has appeared on stage with Mannheim Steamroller\, Josh Groban\, Tony Bennett\, Bruce Hornsby\, and many others. \nView flyer
URL:https://artsconnectva.org/event/mothers-day-tea-party-with-jena-chenkin/
LOCATION:Newport News\, VA\, Newport News\, VA\, United States
CATEGORIES:Outreach Program
END:VEVENT
BEGIN:VEVENT
DTSTART;TZID=America/New_York:20260511T140000
DTEND;TZID=America/New_York:20260511T150000
DTSTAMP:20260421T005744
CREATED:20260420T190159Z
LAST-MODIFIED:20260420T190159Z
UID:18334-1778508000-1778511600@artsconnectva.org
SUMMARY:Singing and Smiling with Art Rowe
DESCRIPTION:Originally from New Hampshire and currently residing in Virginia Beach\, Art is a retired Navy veteran who has been playing guitar for about five years. He loves to play guitar and sing a variety of songs from country\, oldies\, Motown\, etc. \nView flyer
URL:https://artsconnectva.org/event/singing-and-smiling-with-art-rowe-3/
LOCATION:Virginia Beach\, VA\, Virginia Beach\, VA\, United States
CATEGORIES:Outreach Program
END:VEVENT
END:VCALENDAR