BEGIN:VCALENDAR
VERSION:2.0
PRODID:-//ArtsConnect Virginia - ECPv6.15.20//NONSGML v1.0//EN
CALSCALE:GREGORIAN
METHOD:PUBLISH
X-ORIGINAL-URL:https://artsconnectva.org
X-WR-CALDESC:Events for ArtsConnect Virginia
REFRESH-INTERVAL;VALUE=DURATION:PT1H
X-Robots-Tag:noindex
X-PUBLISHED-TTL:PT1H
BEGIN:VTIMEZONE
TZID:America/New_York
BEGIN:DAYLIGHT
TZOFFSETFROM:-0500
TZOFFSETTO:-0400
TZNAME:EDT
DTSTART:20240310T070000
END:DAYLIGHT
BEGIN:STANDARD
TZOFFSETFROM:-0400
TZOFFSETTO:-0500
TZNAME:EST
DTSTART:20241103T060000
END:STANDARD
BEGIN:DAYLIGHT
TZOFFSETFROM:-0500
TZOFFSETTO:-0400
TZNAME:EDT
DTSTART:20250309T070000
END:DAYLIGHT
BEGIN:STANDARD
TZOFFSETFROM:-0400
TZOFFSETTO:-0500
TZNAME:EST
DTSTART:20251102T060000
END:STANDARD
BEGIN:DAYLIGHT
TZOFFSETFROM:-0500
TZOFFSETTO:-0400
TZNAME:EDT
DTSTART:20260308T070000
END:DAYLIGHT
BEGIN:STANDARD
TZOFFSETFROM:-0400
TZOFFSETTO:-0500
TZNAME:EST
DTSTART:20261101T060000
END:STANDARD
END:VTIMEZONE
BEGIN:VEVENT
DTSTART;TZID=America/New_York:20250815T100000
DTEND;TZID=America/New_York:20250815T110000
DTSTAMP:20260421T042727
CREATED:20250730T173451Z
LAST-MODIFIED:20250730T173451Z
UID:14759-1755252000-1755255600@artsconnectva.org
SUMMARY:Individual Visual Art Class with Camille Donne
DESCRIPTION:  \nCamille Donne teaches art with both humor and patience. She has extensive experience working with neurodiverse individuals. She has a warm and welcoming personality and enables students to feel successful no matter their level of experience. Camille Donne teaches watercolor and acrylic painting\, collage\, and most visual art techniques. Her specialty is teaching pottery.
URL:https://artsconnectva.org/event/individual-visual-art-class-with-camille-donne-3/
LOCATION:Newport News\, VA\, Newport News\, VA\, United States
CATEGORIES:Outreach Program
END:VEVENT
BEGIN:VEVENT
DTSTART;TZID=America/New_York:20250815T103000
DTEND;TZID=America/New_York:20250815T113000
DTSTAMP:20260421T042727
CREATED:20250805T183805Z
LAST-MODIFIED:20250805T183805Z
UID:14809-1755253800-1755257400@artsconnectva.org
SUMMARY:Bubble Wrap Cherry Blossom Painting on Canvas  with Valerie Mosby
DESCRIPTION:  \nValerie is a recently retired Human Resources professional. She is the owner of a custom craft and gift shop in Chesapeake\, VA and has over 10 years of experience in creative design. In her spare time\, she and her husband enjoy riding motorcycles. Valerie’s programs include Line dancing Origami flower arrangement Canvas painting with unusual mediums (i.e.\, forks\, water bottles\, etc.).
URL:https://artsconnectva.org/event/bubble-wrap-cherry-blossom-painting-on-canvas-with-valerie-mosby/
LOCATION:Norfolk\, VA\, Norfolk\, VA\, United States
CATEGORIES:Outreach Program
END:VEVENT
BEGIN:VEVENT
DTSTART;TZID=America/New_York:20250815T130000
DTEND;TZID=America/New_York:20250815T140000
DTSTAMP:20260421T042727
CREATED:20250730T173817Z
LAST-MODIFIED:20250730T173817Z
UID:14761-1755262800-1755266400@artsconnectva.org
SUMMARY:Chair Yoga with Tiare Kahana
DESCRIPTION:  \nHawaiian Dancer and Yoga Therapy Teacher\, Tiare Kahana has been a performing and teaching artist since 2006. She enjoys sharing the Spirit of Aloha and the joy of body-mind-spirit wellness\, with her fun and engaging edu-tainment style programs.  “Don’t Just Sit There-Do Yoga” Gentle\, Senior-Friendly Chair Yoga.
URL:https://artsconnectva.org/event/chair-yoga-with-tiare-kahana/
LOCATION:Newport News\, VA\, Newport News\, VA\, United States
CATEGORIES:Outreach Program
END:VEVENT
BEGIN:VEVENT
DTSTART;TZID=America/New_York:20250815T140000
DTEND;TZID=America/New_York:20250815T150000
DTSTAMP:20260421T042727
CREATED:20250716T183901Z
LAST-MODIFIED:20250716T184607Z
UID:14624-1755266400-1755270000@artsconnectva.org
SUMMARY:Rock & Roll with Mark Pettiford
DESCRIPTION:See Flyer
URL:https://artsconnectva.org/event/rock-roll-with-mark-pettiford-2/
LOCATION:Norfolk\, VA\, Norfolk\, VA\, United States
CATEGORIES:Outreach Program
END:VEVENT
BEGIN:VEVENT
DTSTART;TZID=America/New_York:20250815T140000
DTEND;TZID=America/New_York:20250815T150000
DTSTAMP:20260421T042727
CREATED:20250805T184007Z
LAST-MODIFIED:20250805T184007Z
UID:14811-1755266400-1755270000@artsconnectva.org
SUMMARY:Paint Pour with Denise Bluser
DESCRIPTION:See Flyer
URL:https://artsconnectva.org/event/paint-pour-with-denise-bluser/
LOCATION:Norfolk\, VA\, Norfolk\, VA\, United States
CATEGORIES:Outreach Program
END:VEVENT
BEGIN:VEVENT
DTSTART;TZID=America/New_York:20250815T150000
DTEND;TZID=America/New_York:20250815T160000
DTSTAMP:20260421T042727
CREATED:20250730T174309Z
LAST-MODIFIED:20250730T174309Z
UID:14763-1755270000-1755273600@artsconnectva.org
SUMMARY:Sing & Play Along with This Great Mercy
DESCRIPTION:  \nWestley & Melissa are lifetime musicians. She began playing flute at age 8\, adding guitar & harmonica later. He’s been playing piano since age 5 & marimba he was 12. Their band “This Great Mercy” shares original songs (folk\, jazz\, blues & gospel).  Meet Melissa and Westley from “This Great Mercy”! Enjoy old and new favorites on guitar\, piano\, flute\, & harmonica. Sing and play along with percussive instruments and movement. Interactive activities include the joy of improv song creation together!
URL:https://artsconnectva.org/event/sing-play-along-with-this-great-mercy-2/
LOCATION:VA
CATEGORIES:Outreach Program
END:VEVENT
BEGIN:VEVENT
DTSTART;TZID=America/New_York:20250815T150000
DTEND;TZID=America/New_York:20250815T160000
DTSTAMP:20260421T042727
CREATED:20250730T180221Z
LAST-MODIFIED:20250730T180221Z
UID:14766-1755270000-1755273600@artsconnectva.org
SUMMARY:Popular Music of 1950's-60's with Dan Smith
DESCRIPTION:  \nDan Smith is a native of Long Island\, New York. Formal music training at Manhattan School of Music in NYC. Retired from the U S Army band field\, Ft Monroe\, VA. Served as oboe instructor and head of the woodwind branch of the Armed Forces School of Music\, Little Creek\, VA.  Primarily popular music of the 1950s and “60s including Elvis and other iconic musicians of the time.
URL:https://artsconnectva.org/event/popular-music-of-1950s-60s-with-dan-smith/
LOCATION:VA
CATEGORIES:Outreach Program
END:VEVENT
BEGIN:VEVENT
DTSTART;TZID=America/New_York:20250815T160000
DTEND;TZID=America/New_York:20250815T170000
DTSTAMP:20260421T042727
CREATED:20250722T153344Z
LAST-MODIFIED:20250722T153344Z
UID:14644-1755273600-1755277200@artsconnectva.org
SUMMARY:Rock 'N Roll with Christian Flores
DESCRIPTION:See Flyer
URL:https://artsconnectva.org/event/rock-n-roll-with-christian-flores/
LOCATION:VA
CATEGORIES:Outreach Program
END:VEVENT
END:VCALENDAR