BEGIN:VCALENDAR
VERSION:2.0
PRODID:-//ArtsConnect Virginia - ECPv6.15.20//NONSGML v1.0//EN
CALSCALE:GREGORIAN
METHOD:PUBLISH
X-ORIGINAL-URL:https://artsconnectva.org
X-WR-CALDESC:Events for ArtsConnect Virginia
REFRESH-INTERVAL;VALUE=DURATION:PT1H
X-Robots-Tag:noindex
X-PUBLISHED-TTL:PT1H
BEGIN:VTIMEZONE
TZID:America/New_York
BEGIN:DAYLIGHT
TZOFFSETFROM:-0500
TZOFFSETTO:-0400
TZNAME:EDT
DTSTART:20230312T070000
END:DAYLIGHT
BEGIN:STANDARD
TZOFFSETFROM:-0400
TZOFFSETTO:-0500
TZNAME:EST
DTSTART:20231105T060000
END:STANDARD
BEGIN:DAYLIGHT
TZOFFSETFROM:-0500
TZOFFSETTO:-0400
TZNAME:EDT
DTSTART:20240310T070000
END:DAYLIGHT
BEGIN:STANDARD
TZOFFSETFROM:-0400
TZOFFSETTO:-0500
TZNAME:EST
DTSTART:20241103T060000
END:STANDARD
BEGIN:DAYLIGHT
TZOFFSETFROM:-0500
TZOFFSETTO:-0400
TZNAME:EDT
DTSTART:20250309T070000
END:DAYLIGHT
BEGIN:STANDARD
TZOFFSETFROM:-0400
TZOFFSETTO:-0500
TZNAME:EST
DTSTART:20251102T060000
END:STANDARD
END:VTIMEZONE
BEGIN:VEVENT
DTSTART;TZID=America/New_York:20240402T110000
DTEND;TZID=America/New_York:20240402T120000
DTSTAMP:20260422T075439
CREATED:20240129T195448Z
LAST-MODIFIED:20240129T195448Z
UID:9691-1712055600-1712059200@artsconnectva.org
SUMMARY:The Classics with Lyle and Linda Dowling
DESCRIPTION:Lyle and Linda love entertaining seniors and performing a combination of style! The Genre of songs they sing include a variety of artists as well\, something to please everyone!
URL:https://artsconnectva.org/event/the-classics-with-lyle-and-linda-dowling/
LOCATION:VA
CATEGORIES:Outreach Program
END:VEVENT
BEGIN:VEVENT
DTSTART;TZID=America/New_York:20240402T130000
DTEND;TZID=America/New_York:20240402T140000
DTSTAMP:20260422T075440
CREATED:20240206T172525Z
LAST-MODIFIED:20240206T172525Z
UID:9746-1712062800-1712066400@artsconnectva.org
SUMMARY:Old Time Favorites with Tom and Rose Schlater
DESCRIPTION:Enjoy listening to well known popular hits from 1900 to 1975!
URL:https://artsconnectva.org/event/old-time-favorites-with-tom-and-rose-schlater-11/
LOCATION:VA
CATEGORIES:Outreach Program
END:VEVENT
BEGIN:VEVENT
DTSTART;TZID=America/New_York:20240402T140000
DTEND;TZID=America/New_York:20240402T150000
DTSTAMP:20260422T075440
CREATED:20240221T155206Z
LAST-MODIFIED:20240221T155206Z
UID:9869-1712066400-1712070000@artsconnectva.org
SUMMARY:Strummin' and Pickin' with Ted and Eric
DESCRIPTION:Eric and Ted perform a variety of original and traditional songs accompanying themselves on guitar and mandolin\, bluegrass\, folk\, ragtime\, novelty.
URL:https://artsconnectva.org/event/strummin-and-pickin-with-ted-and-eric-10/
LOCATION:VA
CATEGORIES:Outreach Program
END:VEVENT
END:VCALENDAR