BEGIN:VCALENDAR
VERSION:2.0
PRODID:-//ArtsConnect Virginia - ECPv6.15.20//NONSGML v1.0//EN
CALSCALE:GREGORIAN
METHOD:PUBLISH
X-WR-CALNAME:ArtsConnect Virginia
X-ORIGINAL-URL:https://artsconnectva.org
X-WR-CALDESC:Events for ArtsConnect Virginia
REFRESH-INTERVAL;VALUE=DURATION:PT1H
X-Robots-Tag:noindex
X-PUBLISHED-TTL:PT1H
BEGIN:VTIMEZONE
TZID:America/New_York
BEGIN:DAYLIGHT
TZOFFSETFROM:-0500
TZOFFSETTO:-0400
TZNAME:EDT
DTSTART:20220313T070000
END:DAYLIGHT
BEGIN:STANDARD
TZOFFSETFROM:-0400
TZOFFSETTO:-0500
TZNAME:EST
DTSTART:20221106T060000
END:STANDARD
BEGIN:DAYLIGHT
TZOFFSETFROM:-0500
TZOFFSETTO:-0400
TZNAME:EDT
DTSTART:20230312T070000
END:DAYLIGHT
BEGIN:STANDARD
TZOFFSETFROM:-0400
TZOFFSETTO:-0500
TZNAME:EST
DTSTART:20231105T060000
END:STANDARD
BEGIN:DAYLIGHT
TZOFFSETFROM:-0500
TZOFFSETTO:-0400
TZNAME:EDT
DTSTART:20240310T070000
END:DAYLIGHT
BEGIN:STANDARD
TZOFFSETFROM:-0400
TZOFFSETTO:-0500
TZNAME:EST
DTSTART:20241103T060000
END:STANDARD
BEGIN:DAYLIGHT
TZOFFSETFROM:-0500
TZOFFSETTO:-0400
TZNAME:EDT
DTSTART:20250309T070000
END:DAYLIGHT
BEGIN:STANDARD
TZOFFSETFROM:-0400
TZOFFSETTO:-0500
TZNAME:EST
DTSTART:20251102T060000
END:STANDARD
END:VTIMEZONE
BEGIN:VEVENT
DTSTART;TZID=America/New_York:20240625T170000
DTEND;TZID=America/New_York:20240625T180000
DTSTAMP:20260419T124733
CREATED:20240606T021508Z
LAST-MODIFIED:20240606T021508Z
UID:10715-1719334800-1719338400@artsconnectva.org
SUMMARY:Summer Paint Party with Vivian Davis
DESCRIPTION:View Flyer
URL:https://artsconnectva.org/event/summer-paint-party-with-vivian-davis/
CATEGORIES:Open to the Public
END:VEVENT
BEGIN:VEVENT
DTSTART;TZID=America/New_York:20240615T140000
DTEND;TZID=America/New_York:20240615T150000
DTSTAMP:20260419T124733
CREATED:20240523T144629Z
LAST-MODIFIED:20240523T144629Z
UID:10641-1718460000-1718463600@artsconnectva.org
SUMMARY:Trumpet Tunes with Chad McGill
DESCRIPTION:View Flyer
URL:https://artsconnectva.org/event/trumpet-tunes-with-chad-mcgill-16/
CATEGORIES:Open to the Public
END:VEVENT
BEGIN:VEVENT
DTSTART;TZID=America/New_York:20240521T093000
DTEND;TZID=America/New_York:20240521T103000
DTSTAMP:20260419T124733
CREATED:20240313T183931Z
LAST-MODIFIED:20240517T162151Z
UID:10047-1716283800-1716287400@artsconnectva.org
SUMMARY:Possible Poetry Program with Debra Frech
DESCRIPTION:Join Debra for this poetry program! You will learn new and fun way to express yourself. \nPlease call 757-382-6411 to sign up at least 2 days prior to each date.\nFREE. Rokeby Center\, 1709 Rokeby Avenue\, 23325
URL:https://artsconnectva.org/event/possible-poetry-program-with-debra-frech-2/
LOCATION:Rokeby Senior Center\, 1709 Rokeby Ave\, Chesapeake\, VA\, 23320\, United States
CATEGORIES:Open to the Public,Outreach Program
END:VEVENT
BEGIN:VEVENT
DTSTART;TZID=America/New_York:20240511T133000
DTEND;TZID=America/New_York:20240511T143000
DTSTAMP:20260419T124733
CREATED:20240419T151208Z
LAST-MODIFIED:20240419T151208Z
UID:10420-1715434200-1715437800@artsconnectva.org
SUMMARY:Artistic Expressions Art Show with Hugh Spain
DESCRIPTION:View Flyer
URL:https://artsconnectva.org/event/artistic-expressions-art-show-with-hugh-spain/
CATEGORIES:Open to the Public
END:VEVENT
BEGIN:VEVENT
DTSTART;TZID=America/New_York:20240416T180000
DTEND;TZID=America/New_York:20240416T190000
DTSTAMP:20260419T124733
CREATED:20240223T131249Z
LAST-MODIFIED:20240228T125159Z
UID:9888-1713290400-1713294000@artsconnectva.org
SUMMARY:Improv with Leila Stephanie
DESCRIPTION:View Flyer
URL:https://artsconnectva.org/event/improv-with-leila-stephanie/
CATEGORIES:Open to the Public
END:VEVENT
BEGIN:VEVENT
DTSTART;TZID=America/New_York:20240323T133000
DTEND;TZID=America/New_York:20240323T143000
DTSTAMP:20260419T124733
CREATED:20231218T211115Z
LAST-MODIFIED:20231218T211235Z
UID:9349-1711200600-1711204200@artsconnectva.org
SUMMARY:One Women's Story with Vanessa Golson
DESCRIPTION:View Flyer
URL:https://artsconnectva.org/event/one-womens-story-with-vanessa-golson/
CATEGORIES:Open to the Public
END:VEVENT
BEGIN:VEVENT
DTSTART;TZID=America/New_York:20240124T140000
DTEND;TZID=America/New_York:20240124T150000
DTSTAMP:20260419T124733
CREATED:20240124T173706Z
LAST-MODIFIED:20240124T173706Z
UID:9649-1706104800-1706108400@artsconnectva.org
SUMMARY:Melodic Moments with Leanna Caplan
DESCRIPTION:View Flyer
URL:https://artsconnectva.org/event/melodic-moments-with-leanna-caplan/
CATEGORIES:Open to the Public
END:VEVENT
BEGIN:VEVENT
DTSTART;TZID=America/New_York:20231214T123000
DTEND;TZID=America/New_York:20231214T133000
DTSTAMP:20260419T124733
CREATED:20231127T164620Z
LAST-MODIFIED:20231127T164620Z
UID:9152-1702557000-1702560600@artsconnectva.org
SUMMARY:Acrylic Paint Pour Ornaments with Vanessa Golson
DESCRIPTION:
URL:https://artsconnectva.org/event/acrylic-paint-pour-ornaments-with-vanessa-golson/
CATEGORIES:Open to the Public
END:VEVENT
BEGIN:VEVENT
DTSTART;TZID=America/New_York:20231026T160000
DTEND;TZID=America/New_York:20231026T190000
DTSTAMP:20260419T124733
CREATED:20231017T194740Z
LAST-MODIFIED:20231017T194756Z
UID:8794-1698336000-1698346800@artsconnectva.org
SUMMARY:Annual TAO Artist Showcase
DESCRIPTION:Have you ever wanted to peak behind the curtain of a TAO program? Please join us for an evening of entertainment and networking. You will be able to speak to multiple artists about their experience with TAO and get a taste of what TAO has to offer! Refreshments will be served\, along with a cash bar.  RSVP is required. Please click here to RSVP! Questions?  Email ashley@tidewaterartsoutreach.org \n 
URL:https://artsconnectva.org/event/annual-tao-artist-showcase/
LOCATION:Westminster-Canterbury on Chesapeake Bay Retirement Community\, 3100 Shore Dr.\, Virginia Beach\, VA\, 23451\, United States
CATEGORIES:Open to the Public,Special Event
END:VEVENT
BEGIN:VEVENT
DTSTART;TZID=America/New_York:20231014T140000
DTEND;TZID=America/New_York:20231014T150000
DTSTAMP:20260419T124733
CREATED:20230830T135958Z
LAST-MODIFIED:20230830T135958Z
UID:8361-1697292000-1697295600@artsconnectva.org
SUMMARY:PoopKins with Creative Connections
DESCRIPTION:View Flyer
URL:https://artsconnectva.org/event/poopkins-with-creative-connections/
CATEGORIES:Open to the Public
END:VEVENT
BEGIN:VEVENT
DTSTART;TZID=America/New_York:20231006T100000
DTEND;TZID=America/New_York:20231006T110000
DTSTAMP:20260419T124733
CREATED:20230804T153130Z
LAST-MODIFIED:20230804T153130Z
UID:8068-1696586400-1696590000@artsconnectva.org
SUMMARY:Acrylic Paint Pour with Vanessa Golson
DESCRIPTION:View Flyer  \nPlease contact Newport News – Active Lifestyle to register for this program. (757) 812-7900
URL:https://artsconnectva.org/event/acrylic-paint-pour-with-vanessa-golson-5/
CATEGORIES:Open to the Public
END:VEVENT
BEGIN:VEVENT
DTSTART;TZID=America/New_York:20230923T140000
DTEND;TZID=America/New_York:20230923T150000
DTSTAMP:20260419T124733
CREATED:20230810T185858Z
LAST-MODIFIED:20230810T185900Z
UID:8136-1695477600-1695481200@artsconnectva.org
SUMMARY:Throwback Favorites with David Jacobs
DESCRIPTION:View Flyer
URL:https://artsconnectva.org/event/throwback-favorites-with-david-jacobs/
CATEGORIES:Open to the Public
END:VEVENT
BEGIN:VEVENT
DTSTART;TZID=America/New_York:20230913T130000
DTEND;TZID=America/New_York:20230913T140000
DTSTAMP:20260419T124733
CREATED:20230724T190430Z
LAST-MODIFIED:20230824T152312Z
UID:7922-1694610000-1694613600@artsconnectva.org
SUMMARY:Merengue Dance Class with Sam and Jara
DESCRIPTION:View Flyer \nOpen to seniors in Portsmouth. Call Portsmouth Senior Station for more information (757) 391-3241.
URL:https://artsconnectva.org/event/merengue-dance-class-with-sam-and-jara/
LOCATION:Portsmouth Senior Station\, 3500 Clifford St\, Portsmouth\, VA\, 23707\, United States
CATEGORIES:Open to the Public,Outreach Program
END:VEVENT
BEGIN:VEVENT
DTSTART;TZID=America/New_York:20230909T133000
DTEND;TZID=America/New_York:20230909T143000
DTSTAMP:20260419T124733
CREATED:20230717T163744Z
LAST-MODIFIED:20230830T212146Z
UID:7834-1694266200-1694269800@artsconnectva.org
SUMMARY:AARP Grandparents Day: Origami and Tunes
DESCRIPTION:View Flyer \nFor Grandparents and grandchildren between the ages of 9 years – 12 years of age. Registration required: events.aarp.org/sevagrandparentsday2023.
URL:https://artsconnectva.org/event/grandparents-day-origami-and-tunes/
LOCATION:Bayside Recreation Center\, 4500 1st Court Rd\, Virginia Beach\, VA\, 23455\, United States
CATEGORIES:Open to the Public,Outreach Program
END:VEVENT
BEGIN:VEVENT
DTSTART;TZID=America/New_York:20230907T173000
DTEND;TZID=America/New_York:20230907T183000
DTSTAMP:20260419T124733
CREATED:20230817T170716Z
LAST-MODIFIED:20230824T151229Z
UID:8215-1694107800-1694111400@artsconnectva.org
SUMMARY:P.U.S.H with Myra Smith-Jones
DESCRIPTION:View Flyer \nThis event is for individuals who are living with a breast cancer diagnosis. RSVP Required. Please reach out to Sami Meconnahey at Here for the Girls\, (757) 645-2649 ext. 16 to RSVP.
URL:https://artsconnectva.org/event/p-u-s-h-with-myra-smith-jones/
CATEGORIES:Open to the Public,Outreach Program
END:VEVENT
END:VCALENDAR