BEGIN:VCALENDAR
VERSION:2.0
PRODID:-//ArtsConnect Virginia - ECPv6.15.20//NONSGML v1.0//EN
CALSCALE:GREGORIAN
METHOD:PUBLISH
X-ORIGINAL-URL:https://artsconnectva.org
X-WR-CALDESC:Events for ArtsConnect Virginia
REFRESH-INTERVAL;VALUE=DURATION:PT1H
X-Robots-Tag:noindex
X-PUBLISHED-TTL:PT1H
BEGIN:VTIMEZONE
TZID:America/New_York
BEGIN:DAYLIGHT
TZOFFSETFROM:-0500
TZOFFSETTO:-0400
TZNAME:EDT
DTSTART:20240310T070000
END:DAYLIGHT
BEGIN:STANDARD
TZOFFSETFROM:-0400
TZOFFSETTO:-0500
TZNAME:EST
DTSTART:20241103T060000
END:STANDARD
BEGIN:DAYLIGHT
TZOFFSETFROM:-0500
TZOFFSETTO:-0400
TZNAME:EDT
DTSTART:20250309T070000
END:DAYLIGHT
BEGIN:STANDARD
TZOFFSETFROM:-0400
TZOFFSETTO:-0500
TZNAME:EST
DTSTART:20251102T060000
END:STANDARD
BEGIN:DAYLIGHT
TZOFFSETFROM:-0500
TZOFFSETTO:-0400
TZNAME:EDT
DTSTART:20260308T070000
END:DAYLIGHT
BEGIN:STANDARD
TZOFFSETFROM:-0400
TZOFFSETTO:-0500
TZNAME:EST
DTSTART:20261101T060000
END:STANDARD
END:VTIMEZONE
BEGIN:VEVENT
DTSTART;TZID=America/New_York:20250502T111500
DTEND;TZID=America/New_York:20250502T121500
DTSTAMP:20260421T081859
CREATED:20250423T125816Z
LAST-MODIFIED:20250425T160455Z
UID:13822-1746184500-1746188100@artsconnectva.org
SUMMARY:Chair Fitness with Jara Clark
DESCRIPTION:View Flyer
URL:https://artsconnectva.org/event/chair-fitness-with-jara-clark/
LOCATION:Jordan-Newby Anchor Branch Library\, 1425 Norchester Ave\, Norfolk\, VA\, 23504\, United States
CATEGORIES:Open to the Public,Outreach Program
END:VEVENT
BEGIN:VEVENT
DTSTART;TZID=America/New_York:20250507T103000
DTEND;TZID=America/New_York:20250507T233000
DTSTAMP:20260421T081859
CREATED:20250507T161941Z
LAST-MODIFIED:20250507T161941Z
UID:13963-1746613800-1746660600@artsconnectva.org
SUMMARY:Dancing in the Park with Tia Faith
DESCRIPTION:View Flyer \nShelter C
URL:https://artsconnectva.org/event/dancing-in-the-park-with-tia-faith/
LOCATION:VA
CATEGORIES:Open to the Public,Outreach Program
END:VEVENT
BEGIN:VEVENT
DTSTART;TZID=America/New_York:20250507T170000
DTEND;TZID=America/New_York:20250507T180000
DTSTAMP:20260421T081859
CREATED:20250505T162929Z
LAST-MODIFIED:20250505T184249Z
UID:13955-1746637200-1746640800@artsconnectva.org
SUMMARY:Mental Health Summit with Heidi Ordaz
DESCRIPTION:Heidi Ordaz is a visual art artist that can immerse you into an art experience by using traditional or experimental hands-on techniques including painting\, mixed media\, clay work or crafts.  Having experience the benefits of art herself\, Heidi enjoys interacting with other as they create\, to revel their unique voice in the world.  Come Join this amazing experience! \n \nRegister Here: Mental Health Fair | ColleyCommunityCent
URL:https://artsconnectva.org/event/mental-health-summit-with-heidi-ordaz/
LOCATION:Colley Community Center\, 410 Colley Ave; Suite B\, Norfolk\, VA\, 23507\, United States
CATEGORIES:Open to the Public,Outreach Program
END:VEVENT
BEGIN:VEVENT
DTSTART;TZID=America/New_York:20250508T111500
DTEND;TZID=America/New_York:20250508T121500
DTSTAMP:20260421T081859
CREATED:20250418T145957Z
LAST-MODIFIED:20250418T145957Z
UID:13767-1746702900-1746706500@artsconnectva.org
SUMMARY:Motown Memories & More with Richard Mekdeci
DESCRIPTION:View Flyer
URL:https://artsconnectva.org/event/motown-memories-more-with-richard-mekdeci/
LOCATION:VA
CATEGORIES:Open to the Public,Outreach Program
END:VEVENT
BEGIN:VEVENT
DTSTART;TZID=America/New_York:20250509T100000
DTEND;TZID=America/New_York:20250509T120000
DTSTAMP:20260421T081859
CREATED:20250418T155947Z
LAST-MODIFIED:20250507T164705Z
UID:13787-1746784800-1746792000@artsconnectva.org
SUMMARY:Moms Mums and Mimosas with Heidi Ordaz
DESCRIPTION:Participants will be led through a flower arranging class and will leave with a perfect gift for Mom or yourself! Space is limited! \nPlease call Cierra Vann at (757) 754-4778 to register!
URL:https://artsconnectva.org/event/moms-mums-and-mimosa-with-heidi-ordaz/
LOCATION:Centerwell Senior Primary Care – Chesapeake\, 1653 Sentinel Dr\, Chesapeake\, VA\, 23320\, United States
CATEGORIES:Open to the Public,Outreach Program
END:VEVENT
BEGIN:VEVENT
DTSTART;TZID=America/New_York:20250509T110000
DTEND;TZID=America/New_York:20250509T140000
DTSTAMP:20260421T081859
CREATED:20250507T163613Z
LAST-MODIFIED:20250507T163613Z
UID:13981-1746788400-1746799200@artsconnectva.org
SUMMARY:Mother's Day Celebration with Chromatica
DESCRIPTION:View Flyer \nCall Curtis R. Milteer Recreation Center to register (757) 514-7100
URL:https://artsconnectva.org/event/mothers-day-celebration-with-chromatica/
LOCATION:Curtis R. Milteer\, Sr. Recreation Center\, 132 Roberston St\, Suffolk\, VA\, 23438\, United States
CATEGORIES:Open to the Public,Outreach Program
END:VEVENT
BEGIN:VEVENT
DTSTART;TZID=America/New_York:20250510T133000
DTEND;TZID=America/New_York:20250510T143000
DTSTAMP:20260421T081859
CREATED:20250418T170858Z
LAST-MODIFIED:20250507T165251Z
UID:13795-1746883800-1746887400@artsconnectva.org
SUMMARY:Art Show Reception with Sean Arawjo
DESCRIPTION:See Flyer
URL:https://artsconnectva.org/event/art-show-reception-with-sean-arawjo/
LOCATION:Downing Gross Cultural Arts Center\, 2410 Wickham Ave\, Newport News\, VA\, 23607\, United States
CATEGORIES:Open to the Public,Outreach Program
END:VEVENT
BEGIN:VEVENT
DTSTART;TZID=America/New_York:20250514T103000
DTEND;TZID=America/New_York:20250514T113000
DTSTAMP:20260421T081859
CREATED:20250423T191711Z
LAST-MODIFIED:20250507T165725Z
UID:13882-1747218600-1747222200@artsconnectva.org
SUMMARY:Hello Spring Cards with Myra Walton-Basnight
DESCRIPTION:See Flyer \nPlease call Bay Lake to register: Colin Kindred\, ( 757) 460-8868  \nLimited spaces available
URL:https://artsconnectva.org/event/hello-spring-cards-with-myra-walton-basnight/
LOCATION:Bay Lake Independent Living\, Assisted Living\, And Memory Care\, 4225 Shore Drive\, Virginia Beach\, VA\, 23455\, United States
CATEGORIES:Open to the Public,Outreach Program
END:VEVENT
BEGIN:VEVENT
DTSTART;TZID=America/New_York:20250514T140000
DTEND;TZID=America/New_York:20250514T150000
DTSTAMP:20260421T081859
CREATED:20250423T143656Z
LAST-MODIFIED:20250507T170014Z
UID:13846-1747231200-1747234800@artsconnectva.org
SUMMARY:Piano Tunes with Christian Flores
DESCRIPTION:See Flyer
URL:https://artsconnectva.org/event/piano-tunes-with-christian-flores-28/
LOCATION:Rokeby Center\, 1709 Rokeby Ave\, Chesapeake\, VA\, 23320\, United States
CATEGORIES:Open to the Public,Outreach Program
END:VEVENT
BEGIN:VEVENT
DTSTART;TZID=America/New_York:20250514T153000
DTEND;TZID=America/New_York:20250514T163000
DTSTAMP:20260421T081859
CREATED:20250423T151715Z
LAST-MODIFIED:20250507T170201Z
UID:13859-1747236600-1747240200@artsconnectva.org
SUMMARY:Magic & Mentalism with Sean McKenzie
DESCRIPTION:Sean McKenzie was fascinated with magic at an early age.  He has spent the last ten years studying the art of magic and now he performs a fun and mystifying Mentalism and Car Magic act.  Mentalis is the art of performing feats of memorization\, mind reading\, hypnosis\, psychometry\, and predictions appearing to be of supernatural means. Sean is not a psychic.
URL:https://artsconnectva.org/event/magic-mentalism-with-sean-mckenzie/
LOCATION:VA
CATEGORIES:Open to the Public,Outreach Program
END:VEVENT
BEGIN:VEVENT
DTSTART;TZID=America/New_York:20250514T170000
DTEND;TZID=America/New_York:20250514T183000
DTSTAMP:20260421T081859
CREATED:20250423T153103Z
LAST-MODIFIED:20250507T170355Z
UID:13861-1747242000-1747247400@artsconnectva.org
SUMMARY:Resin Shell Ecosystem with Heather Queen
DESCRIPTION:See Flyer \nCall Dyshae Norman\, (757) 823-4825 to register. Limited space available.
URL:https://artsconnectva.org/event/resin-shell-ecosystem-with-heather-queen-2/
LOCATION:Jordan-Newby Anchor Branch Library\, 1425 Norchester Ave\, Norfolk\, VA\, 23504\, United States
CATEGORIES:Open to the Public,Outreach Program
END:VEVENT
BEGIN:VEVENT
DTSTART;TZID=America/New_York:20250516T130000
DTEND;TZID=America/New_York:20250516T140000
DTSTAMP:20260421T081859
CREATED:20250507T180912Z
LAST-MODIFIED:20250507T180912Z
UID:14005-1747400400-1747404000@artsconnectva.org
SUMMARY:Iris Folding Craft with Shanda Teague
DESCRIPTION:Shanda has worked in the Arts for almost 10- years.  She has been crafty for most of her life and loves learning new things and making things with her hands.  She is an amazing virtual artist. \nCall the Main Street Library to register:  Jacqueline Brown-Whitley\, (757) 591-4858 Limited number of participants available. 
URL:https://artsconnectva.org/event/iris-folding-craft-with-shanda-teague/
LOCATION:Main Street Library\, 110 Main Street\, Newport News\, VA\, 23601\, United States
CATEGORIES:Open to the Public,Outreach Program
END:VEVENT
BEGIN:VEVENT
DTSTART;TZID=America/New_York:20250521T100000
DTEND;TZID=America/New_York:20250521T120000
DTSTAMP:20260421T081859
CREATED:20250507T192845Z
LAST-MODIFIED:20250507T192845Z
UID:14037-1747821600-1747828800@artsconnectva.org
SUMMARY:Floral in Motion with the Suffolk Center for the Cultural Arts
DESCRIPTION:See Flyer \nRegistration: https://www.suffolkva.us/266/Parks-Recreation or (757) 514-7265
URL:https://artsconnectva.org/event/floral-in-motion-with-the-suffolk-center-for-the-cultural-arts/
LOCATION:Suffolk Center for the Cultural Arts\, 110 W Finney Ave\, Suffolk\, VA\, 23434\, United States
CATEGORIES:Open to the Public,Outreach Program
END:VEVENT
BEGIN:VEVENT
DTSTART;TZID=America/New_York:20250523T140000
DTEND;TZID=America/New_York:20250523T150000
DTSTAMP:20260421T081859
CREATED:20250520T151452Z
LAST-MODIFIED:20250520T151452Z
UID:14194-1748008800-1748012400@artsconnectva.org
SUMMARY:Rock'n Bop with Adrienne Searle
DESCRIPTION:See Flyer \nOpen to Public\, Contact: Kathryn Shear\, (757) 263-3138  \nLocation:  Jone & Cabacoy Veteran Care Center: 2641 Nimmo Parkway\, Virginia Beach\, VA 23456
URL:https://artsconnectva.org/event/rockn-bop-with-adrienne-searle/
LOCATION:VA
CATEGORIES:Open to the Public,Outreach Program
END:VEVENT
BEGIN:VEVENT
DTSTART;TZID=America/New_York:20250527T140000
DTEND;TZID=America/New_York:20250527T150000
DTSTAMP:20260421T081859
CREATED:20250508T155445Z
LAST-MODIFIED:20250508T155445Z
UID:14103-1748354400-1748358000@artsconnectva.org
SUMMARY:Resin Suncatcher with Heather Queen
DESCRIPTION:See Flyer \n  \nProgram is open for Seniors in the community. Will take place at New Life Metropolitan Church located at 1000 Sunset Drive\, Norfolk. \nAttendance is cap at 20\, please contact Michelle Reed at (757) 640-0929 x 250.
URL:https://artsconnectva.org/event/resin-suncatcher-with-heather-queen/
LOCATION:New Life Metropolitan Community Church\, 1000 Sunset Dr\, Norfolk\, VA\, 23503\, United States
CATEGORIES:Open to the Public,Outreach Program
END:VEVENT
BEGIN:VEVENT
DTSTART;TZID=America/New_York:20250527T140000
DTEND;TZID=America/New_York:20250527T150000
DTSTAMP:20260421T081859
CREATED:20250520T152125Z
LAST-MODIFIED:20250520T152125Z
UID:14197-1748354400-1748358000@artsconnectva.org
SUMMARY:Singing & Smiling with Art Rowe
DESCRIPTION:See Flyer \nOpen to public\, please contact: Kathryn Shear\, (757) 263-3138 \nLocation:  Jones & Cabacoy Veterans Care Center located at 2641 Nimmo Pkwy\, Virginia Beach\, VA 23456  
URL:https://artsconnectva.org/event/singing-smiling-with-art-rowe/
LOCATION:VA
CATEGORIES:Open to the Public,Outreach Program
END:VEVENT
BEGIN:VEVENT
DTSTART;TZID=America/New_York:20250528T111500
DTEND;TZID=America/New_York:20250528T121500
DTSTAMP:20260421T081859
CREATED:20250508T162054Z
LAST-MODIFIED:20250508T162054Z
UID:14120-1748430900-1748434500@artsconnectva.org
SUMMARY:Line Dancing with Valerie Mosby
DESCRIPTION:See Flyer \nOpen to community Seniors Members at East Ocean View Center. For Questions: Carmelita Coleman\, (757) 441-1767
URL:https://artsconnectva.org/event/line-dancing-with-valerie-mosby-2/
LOCATION:VA
CATEGORIES:Open to the Public,Outreach Program
END:VEVENT
END:VCALENDAR