BEGIN:VCALENDAR
VERSION:2.0
PRODID:-//ArtsConnect Virginia - ECPv6.15.20//NONSGML v1.0//EN
CALSCALE:GREGORIAN
METHOD:PUBLISH
X-WR-CALNAME:ArtsConnect Virginia
X-ORIGINAL-URL:https://artsconnectva.org
X-WR-CALDESC:Events for ArtsConnect Virginia
REFRESH-INTERVAL;VALUE=DURATION:PT1H
X-Robots-Tag:noindex
X-PUBLISHED-TTL:PT1H
BEGIN:VTIMEZONE
TZID:America/New_York
BEGIN:DAYLIGHT
TZOFFSETFROM:-0500
TZOFFSETTO:-0400
TZNAME:EDT
DTSTART:20240310T070000
END:DAYLIGHT
BEGIN:STANDARD
TZOFFSETFROM:-0400
TZOFFSETTO:-0500
TZNAME:EST
DTSTART:20241103T060000
END:STANDARD
BEGIN:DAYLIGHT
TZOFFSETFROM:-0500
TZOFFSETTO:-0400
TZNAME:EDT
DTSTART:20250309T070000
END:DAYLIGHT
BEGIN:STANDARD
TZOFFSETFROM:-0400
TZOFFSETTO:-0500
TZNAME:EST
DTSTART:20251102T060000
END:STANDARD
BEGIN:DAYLIGHT
TZOFFSETFROM:-0500
TZOFFSETTO:-0400
TZNAME:EDT
DTSTART:20260308T070000
END:DAYLIGHT
BEGIN:STANDARD
TZOFFSETFROM:-0400
TZOFFSETTO:-0500
TZNAME:EST
DTSTART:20261101T060000
END:STANDARD
END:VTIMEZONE
BEGIN:VEVENT
DTSTART;TZID=America/New_York:20250705T170000
DTEND;TZID=America/New_York:20250705T180000
DTSTAMP:20260419T131543
CREATED:20250709T171921Z
LAST-MODIFIED:20250709T171921Z
UID:14524-1751734800-1751738400@artsconnectva.org
SUMMARY:Intro to Cake Decorating with Oh Taste & See Cakes
DESCRIPTION:Brittney Fulbright is an accomplished cake artist her in Hampton Roads and she runs Oh Taste & See Cakes.  Brittney has had the opportunity to be a guest on The Hampton Roads Show and has done a plethora of weddings at some of the most popular venues. She is also a phenomenal cake instructor. Brittney has a vision to teach others the creativity of cake decorating. She believes that you’re never too young or too old to learn\, you just need to start.
URL:https://artsconnectva.org/event/intro-to-cake-decorating-with-oh-taste-see-cakes/
LOCATION:VA
CATEGORIES:Outreach Program
END:VEVENT
END:VCALENDAR