BEGIN:VCALENDAR
VERSION:2.0
PRODID:-//ArtsConnect Virginia - ECPv6.15.20//NONSGML v1.0//EN
CALSCALE:GREGORIAN
METHOD:PUBLISH
X-ORIGINAL-URL:https://artsconnectva.org
X-WR-CALDESC:Events for ArtsConnect Virginia
REFRESH-INTERVAL;VALUE=DURATION:PT1H
X-Robots-Tag:noindex
X-PUBLISHED-TTL:PT1H
BEGIN:VTIMEZONE
TZID:America/New_York
BEGIN:DAYLIGHT
TZOFFSETFROM:-0500
TZOFFSETTO:-0400
TZNAME:EDT
DTSTART:20240310T070000
END:DAYLIGHT
BEGIN:STANDARD
TZOFFSETFROM:-0400
TZOFFSETTO:-0500
TZNAME:EST
DTSTART:20241103T060000
END:STANDARD
BEGIN:DAYLIGHT
TZOFFSETFROM:-0500
TZOFFSETTO:-0400
TZNAME:EDT
DTSTART:20250309T070000
END:DAYLIGHT
BEGIN:STANDARD
TZOFFSETFROM:-0400
TZOFFSETTO:-0500
TZNAME:EST
DTSTART:20251102T060000
END:STANDARD
BEGIN:DAYLIGHT
TZOFFSETFROM:-0500
TZOFFSETTO:-0400
TZNAME:EDT
DTSTART:20260308T070000
END:DAYLIGHT
BEGIN:STANDARD
TZOFFSETFROM:-0400
TZOFFSETTO:-0500
TZNAME:EST
DTSTART:20261101T060000
END:STANDARD
END:VTIMEZONE
BEGIN:VEVENT
DTSTART;TZID=America/New_York:20250702T004500
DTEND;TZID=America/New_York:20250702T014500
DTSTAMP:20260419T131859
CREATED:20250709T150123Z
LAST-MODIFIED:20250709T150123Z
UID:14490-1751417100-1751420700@artsconnectva.org
SUMMARY:Acrylic Painting with Sparkle Williams
DESCRIPTION:See Flyer
URL:https://artsconnectva.org/event/acrylic-painting-with-sparkle-williams/
LOCATION:VA
CATEGORIES:Outreach Program
END:VEVENT
BEGIN:VEVENT
DTSTART;TZID=America/New_York:20250702T110000
DTEND;TZID=America/New_York:20250702T120000
DTSTAMP:20260419T131859
CREATED:20250709T144829Z
LAST-MODIFIED:20250709T144829Z
UID:14485-1751454000-1751457600@artsconnectva.org
SUMMARY:Red-White Blue Wreath with Denise Bluser
DESCRIPTION:See Flyer
URL:https://artsconnectva.org/event/red-white-blue-wreath-with-denise-bluser/
LOCATION:VA
CATEGORIES:Outreach Program
END:VEVENT
BEGIN:VEVENT
DTSTART;TZID=America/New_York:20250702T110000
DTEND;TZID=America/New_York:20250702T120000
DTSTAMP:20260419T131859
CREATED:20250709T145604Z
LAST-MODIFIED:20250709T145604Z
UID:14488-1751454000-1751457600@artsconnectva.org
SUMMARY:Sing-Along the Oldies with Art Rowe
DESCRIPTION:  \n  \nArt is a 25-year Navy Veteran who has been playing guitar for about five years. He performs at various local venues around the Tidewater/Hampton Roads area including many TAO partner locations. Art plays acoustic guitar and sings and performs a variety of songs from the 1950s on up. His goal is to put a smile on their face and to get people to join in and sing along.
URL:https://artsconnectva.org/event/sing-along-the-oldies-with-art-rowe/
LOCATION:VA
CATEGORIES:Outreach Program
END:VEVENT
END:VCALENDAR