BEGIN:VCALENDAR
VERSION:2.0
PRODID:-//ArtsConnect Virginia - ECPv6.15.20//NONSGML v1.0//EN
CALSCALE:GREGORIAN
METHOD:PUBLISH
X-WR-CALNAME:ArtsConnect Virginia
X-ORIGINAL-URL:https://artsconnectva.org
X-WR-CALDESC:Events for ArtsConnect Virginia
REFRESH-INTERVAL;VALUE=DURATION:PT1H
X-Robots-Tag:noindex
X-PUBLISHED-TTL:PT1H
BEGIN:VTIMEZONE
TZID:America/New_York
BEGIN:DAYLIGHT
TZOFFSETFROM:-0500
TZOFFSETTO:-0400
TZNAME:EDT
DTSTART:20240310T070000
END:DAYLIGHT
BEGIN:STANDARD
TZOFFSETFROM:-0400
TZOFFSETTO:-0500
TZNAME:EST
DTSTART:20241103T060000
END:STANDARD
BEGIN:DAYLIGHT
TZOFFSETFROM:-0500
TZOFFSETTO:-0400
TZNAME:EDT
DTSTART:20250309T070000
END:DAYLIGHT
BEGIN:STANDARD
TZOFFSETFROM:-0400
TZOFFSETTO:-0500
TZNAME:EST
DTSTART:20251102T060000
END:STANDARD
BEGIN:DAYLIGHT
TZOFFSETFROM:-0500
TZOFFSETTO:-0400
TZNAME:EDT
DTSTART:20260308T070000
END:DAYLIGHT
BEGIN:STANDARD
TZOFFSETFROM:-0400
TZOFFSETTO:-0500
TZNAME:EST
DTSTART:20261101T060000
END:STANDARD
END:VTIMEZONE
BEGIN:VEVENT
DTSTART;TZID=America/New_York:20250701T133000
DTEND;TZID=America/New_York:20250701T143000
DTSTAMP:20260419T131544
CREATED:20250709T132355Z
LAST-MODIFIED:20250709T132355Z
UID:14477-1751376600-1751380200@artsconnectva.org
SUMMARY:Keep the Beat Social with Chromatica
DESCRIPTION:  \n  \nDebbie Barrigar began learning to play the harmonica while attending the Southside Harmonica Club in Virginia Beach. Debbie has enthusiastically embraced the learning opportunities provided by other musicians and independent study.  The program consists of 4 musicians playing harmonica and accordion.
URL:https://artsconnectva.org/event/keep-the-beat-social-with-chromatica/
LOCATION:VA
CATEGORIES:Outreach Program
END:VEVENT
BEGIN:VEVENT
DTSTART;TZID=America/New_York:20250701T140000
DTEND;TZID=America/New_York:20250701T150000
DTSTAMP:20260419T131544
CREATED:20250709T143609Z
LAST-MODIFIED:20250709T143609Z
UID:14480-1751378400-1751382000@artsconnectva.org
SUMMARY:Oldies Sing-Along with Art Rowe
DESCRIPTION:See Flyer
URL:https://artsconnectva.org/event/oldies-sing-along-with-art-rowe/
LOCATION:VA
CATEGORIES:Outreach Program
END:VEVENT
BEGIN:VEVENT
DTSTART;TZID=America/New_York:20250701T150000
DTEND;TZID=America/New_York:20250701T160000
DTSTAMP:20260419T131544
CREATED:20250709T144210Z
LAST-MODIFIED:20250709T144210Z
UID:14483-1751382000-1751385600@artsconnectva.org
SUMMARY:Pages of Our Lives
DESCRIPTION:  \n  \nThis is a recurring program in collaboration with TAO\, The Muse Writer’s Center\, and Harbor’s Edge. This program will lead individuals in creating stories about their lives\, with different themes and subject matters. This group will meet the 1st and 3rd Tuesday of each month with Kelly Sokol\, a teaching artist with the Muse Writer’s Center. \n 
URL:https://artsconnectva.org/event/pages-of-our-lives-16/
LOCATION:Harbor’s Edge Retirement Community\, 1 Colley Ave\, Norfolk\, VA\, 23517\, United States
CATEGORIES:Outreach Program
END:VEVENT
END:VCALENDAR