BEGIN:VCALENDAR
VERSION:2.0
PRODID:-//ArtsConnect Virginia - ECPv6.15.20//NONSGML v1.0//EN
CALSCALE:GREGORIAN
METHOD:PUBLISH
X-WR-CALNAME:ArtsConnect Virginia
X-ORIGINAL-URL:https://artsconnectva.org
X-WR-CALDESC:Events for ArtsConnect Virginia
REFRESH-INTERVAL;VALUE=DURATION:PT1H
X-Robots-Tag:noindex
X-PUBLISHED-TTL:PT1H
BEGIN:VTIMEZONE
TZID:America/New_York
BEGIN:DAYLIGHT
TZOFFSETFROM:-0500
TZOFFSETTO:-0400
TZNAME:EDT
DTSTART:20240310T070000
END:DAYLIGHT
BEGIN:STANDARD
TZOFFSETFROM:-0400
TZOFFSETTO:-0500
TZNAME:EST
DTSTART:20241103T060000
END:STANDARD
BEGIN:DAYLIGHT
TZOFFSETFROM:-0500
TZOFFSETTO:-0400
TZNAME:EDT
DTSTART:20250309T070000
END:DAYLIGHT
BEGIN:STANDARD
TZOFFSETFROM:-0400
TZOFFSETTO:-0500
TZNAME:EST
DTSTART:20251102T060000
END:STANDARD
BEGIN:DAYLIGHT
TZOFFSETFROM:-0500
TZOFFSETTO:-0400
TZNAME:EDT
DTSTART:20260308T070000
END:DAYLIGHT
BEGIN:STANDARD
TZOFFSETFROM:-0400
TZOFFSETTO:-0500
TZNAME:EST
DTSTART:20261101T060000
END:STANDARD
END:VTIMEZONE
BEGIN:VEVENT
DTSTART;TZID=America/New_York:20250628T140000
DTEND;TZID=America/New_York:20250628T150000
DTSTAMP:20260419T131546
CREATED:20250508T183752Z
LAST-MODIFIED:20250508T183752Z
UID:14158-1751119200-1751122800@artsconnectva.org
SUMMARY:Garden Dish with Delresa White
DESCRIPTION:See Flyer
URL:https://artsconnectva.org/event/garden-dish-with-delresa-white-2/
LOCATION:VA
CATEGORIES:Outreach Program
END:VEVENT
BEGIN:VEVENT
DTSTART;TZID=America/New_York:20250628T143000
DTEND;TZID=America/New_York:20250628T153000
DTSTAMP:20260419T131546
CREATED:20250509T195707Z
LAST-MODIFIED:20250509T195707Z
UID:14179-1751121000-1751124600@artsconnectva.org
SUMMARY:Ballon Floral Painting with Valerie Mosby
DESCRIPTION:See Flyer
URL:https://artsconnectva.org/event/ballon-floral-painting-with-valerie-mosby/
LOCATION:VA
CATEGORIES:Outreach Program
END:VEVENT
END:VCALENDAR