BEGIN:VCALENDAR
VERSION:2.0
PRODID:-//ArtsConnect Virginia - ECPv6.15.20//NONSGML v1.0//EN
CALSCALE:GREGORIAN
METHOD:PUBLISH
X-ORIGINAL-URL:https://artsconnectva.org
X-WR-CALDESC:Events for ArtsConnect Virginia
REFRESH-INTERVAL;VALUE=DURATION:PT1H
X-Robots-Tag:noindex
X-PUBLISHED-TTL:PT1H
BEGIN:VTIMEZONE
TZID:America/New_York
BEGIN:DAYLIGHT
TZOFFSETFROM:-0500
TZOFFSETTO:-0400
TZNAME:EDT
DTSTART:20240310T070000
END:DAYLIGHT
BEGIN:STANDARD
TZOFFSETFROM:-0400
TZOFFSETTO:-0500
TZNAME:EST
DTSTART:20241103T060000
END:STANDARD
BEGIN:DAYLIGHT
TZOFFSETFROM:-0500
TZOFFSETTO:-0400
TZNAME:EDT
DTSTART:20250309T070000
END:DAYLIGHT
BEGIN:STANDARD
TZOFFSETFROM:-0400
TZOFFSETTO:-0500
TZNAME:EST
DTSTART:20251102T060000
END:STANDARD
BEGIN:DAYLIGHT
TZOFFSETFROM:-0500
TZOFFSETTO:-0400
TZNAME:EDT
DTSTART:20260308T070000
END:DAYLIGHT
BEGIN:STANDARD
TZOFFSETFROM:-0400
TZOFFSETTO:-0500
TZNAME:EST
DTSTART:20261101T060000
END:STANDARD
END:VTIMEZONE
BEGIN:VEVENT
DTSTART;TZID=America/New_York:20250618T120000
DTEND;TZID=America/New_York:20250618T130000
DTSTAMP:20260419T131836
CREATED:20250527T153109Z
LAST-MODIFIED:20250527T153131Z
UID:14278-1750248000-1750251600@artsconnectva.org
SUMMARY:Paper Art with Shanda Teague
DESCRIPTION:See Flyer
URL:https://artsconnectva.org/event/paper-art-with-shanda-teague/
LOCATION:Norview Heights Rehabilitation and Nursing\, 827 Norview Avenue\, Norfolk\, VA\, 23509\, United States
CATEGORIES:Open to the Public,Outreach Program
END:VEVENT
BEGIN:VEVENT
DTSTART;TZID=America/New_York:20250618T140000
DTEND;TZID=America/New_York:20250618T150000
DTSTAMP:20260419T131836
CREATED:20250520T153102Z
LAST-MODIFIED:20250520T153102Z
UID:14203-1750255200-1750258800@artsconnectva.org
SUMMARY:Bubble Wrap Cherry Blossom on Wood with Valerie Mosby
DESCRIPTION:See Flyer
URL:https://artsconnectva.org/event/bubble-wrap-cherry-blossom-on-wood-with-valerie-mosby/
LOCATION:VA
CATEGORIES:Outreach Program
END:VEVENT
BEGIN:VEVENT
DTSTART;TZID=America/New_York:20250618T140000
DTEND;TZID=America/New_York:20250618T150000
DTSTAMP:20260419T131836
CREATED:20250530T192931Z
LAST-MODIFIED:20250530T192931Z
UID:14449-1750255200-1750258800@artsconnectva.org
SUMMARY:Birthday Celebration: Frank Sinatra Favorites with Jena Chenkin
DESCRIPTION:See Flyer
URL:https://artsconnectva.org/event/birthday-celebration-frank-sinatra-favorites-with-jena-chenkin/
LOCATION:VA
CATEGORIES:Outreach Program
END:VEVENT
BEGIN:VEVENT
DTSTART;TZID=America/New_York:20250618T143000
DTEND;TZID=America/New_York:20250618T153000
DTSTAMP:20260419T131836
CREATED:20250428T182508Z
LAST-MODIFIED:20250522T132442Z
UID:13930-1750257000-1750260600@artsconnectva.org
SUMMARY:Paper Art Project with Shanda Teague
DESCRIPTION:See Flyer
URL:https://artsconnectva.org/event/paper-art-project-with-shanda-teague/
LOCATION:VA
CATEGORIES:Outreach Program
END:VEVENT
BEGIN:VEVENT
DTSTART;TZID=America/New_York:20250618T170000
DTEND;TZID=America/New_York:20250618T180000
DTSTAMP:20260419T131836
CREATED:20250530T144716Z
LAST-MODIFIED:20250530T144716Z
UID:14436-1750266000-1750269600@artsconnectva.org
SUMMARY:Snail Main with Alamin Elamin
DESCRIPTION:See Flyer
URL:https://artsconnectva.org/event/snail-main-with-alamin-elamin/
LOCATION:VA
CATEGORIES:Outreach Program
END:VEVENT
BEGIN:VEVENT
DTSTART;TZID=America/New_York:20250618T173000
DTEND;TZID=America/New_York:20250618T183000
DTSTAMP:20260419T131836
CREATED:20250527T153410Z
LAST-MODIFIED:20250527T153410Z
UID:14283-1750267800-1750271400@artsconnectva.org
SUMMARY:Canvas Painting with Vivian Davis
DESCRIPTION:See Flyer
URL:https://artsconnectva.org/event/canvas-painting-with-vivian-davis/
LOCATION:VA
CATEGORIES:Open to the Public,Outreach Program
END:VEVENT
END:VCALENDAR