BEGIN:VCALENDAR
VERSION:2.0
PRODID:-//ArtsConnect Virginia - ECPv6.15.20//NONSGML v1.0//EN
CALSCALE:GREGORIAN
METHOD:PUBLISH
X-ORIGINAL-URL:https://artsconnectva.org
X-WR-CALDESC:Events for ArtsConnect Virginia
REFRESH-INTERVAL;VALUE=DURATION:PT1H
X-Robots-Tag:noindex
X-PUBLISHED-TTL:PT1H
BEGIN:VTIMEZONE
TZID:America/New_York
BEGIN:DAYLIGHT
TZOFFSETFROM:-0500
TZOFFSETTO:-0400
TZNAME:EDT
DTSTART:20240310T070000
END:DAYLIGHT
BEGIN:STANDARD
TZOFFSETFROM:-0400
TZOFFSETTO:-0500
TZNAME:EST
DTSTART:20241103T060000
END:STANDARD
BEGIN:DAYLIGHT
TZOFFSETFROM:-0500
TZOFFSETTO:-0400
TZNAME:EDT
DTSTART:20250309T070000
END:DAYLIGHT
BEGIN:STANDARD
TZOFFSETFROM:-0400
TZOFFSETTO:-0500
TZNAME:EST
DTSTART:20251102T060000
END:STANDARD
BEGIN:DAYLIGHT
TZOFFSETFROM:-0500
TZOFFSETTO:-0400
TZNAME:EDT
DTSTART:20260308T070000
END:DAYLIGHT
BEGIN:STANDARD
TZOFFSETFROM:-0400
TZOFFSETTO:-0500
TZNAME:EST
DTSTART:20261101T060000
END:STANDARD
END:VTIMEZONE
BEGIN:VEVENT
DTSTART;TZID=America/New_York:20250617T110000
DTEND;TZID=America/New_York:20250617T120000
DTSTAMP:20260419T145002
CREATED:20250528T202549Z
LAST-MODIFIED:20250529T140709Z
UID:14342-1750158000-1750161600@artsconnectva.org
SUMMARY:Gel Candles with Ginnie Stover
DESCRIPTION:See Flyer \nOpen to Public- Contact Library Limited number of spaces.\, please contact (757) 406-7113 \n Location is at South Norfolk Memorial Library in Chesapeake.
URL:https://artsconnectva.org/event/14342/
LOCATION:VA
CATEGORIES:Open to the Public,Outreach Program
END:VEVENT
BEGIN:VEVENT
DTSTART;TZID=America/New_York:20250617T140000
DTEND;TZID=America/New_York:20250617T150000
DTSTAMP:20260419T145002
CREATED:20250528T150821Z
LAST-MODIFIED:20250528T150821Z
UID:14316-1750168800-1750172400@artsconnectva.org
SUMMARY:Improvisation & Fun with Tia Faith
DESCRIPTION:See Flyer
URL:https://artsconnectva.org/event/improvisation-fun-with-tia-faith/
LOCATION:Lake Prince Woods\, 100 Anna Goode Way\, Suffolk\, VA\, 23434\, United States
CATEGORIES:Open to the Public,Outreach Program
END:VEVENT
END:VCALENDAR