BEGIN:VCALENDAR
VERSION:2.0
PRODID:-//ArtsConnect Virginia - ECPv6.15.20//NONSGML v1.0//EN
CALSCALE:GREGORIAN
METHOD:PUBLISH
X-WR-CALNAME:ArtsConnect Virginia
X-ORIGINAL-URL:https://artsconnectva.org
X-WR-CALDESC:Events for ArtsConnect Virginia
REFRESH-INTERVAL;VALUE=DURATION:PT1H
X-Robots-Tag:noindex
X-PUBLISHED-TTL:PT1H
BEGIN:VTIMEZONE
TZID:America/New_York
BEGIN:DAYLIGHT
TZOFFSETFROM:-0500
TZOFFSETTO:-0400
TZNAME:EDT
DTSTART:20240310T070000
END:DAYLIGHT
BEGIN:STANDARD
TZOFFSETFROM:-0400
TZOFFSETTO:-0500
TZNAME:EST
DTSTART:20241103T060000
END:STANDARD
BEGIN:DAYLIGHT
TZOFFSETFROM:-0500
TZOFFSETTO:-0400
TZNAME:EDT
DTSTART:20250309T070000
END:DAYLIGHT
BEGIN:STANDARD
TZOFFSETFROM:-0400
TZOFFSETTO:-0500
TZNAME:EST
DTSTART:20251102T060000
END:STANDARD
BEGIN:DAYLIGHT
TZOFFSETFROM:-0500
TZOFFSETTO:-0400
TZNAME:EDT
DTSTART:20260308T070000
END:DAYLIGHT
BEGIN:STANDARD
TZOFFSETFROM:-0400
TZOFFSETTO:-0500
TZNAME:EST
DTSTART:20261101T060000
END:STANDARD
END:VTIMEZONE
BEGIN:VEVENT
DTSTART;TZID=America/New_York:20250616T130000
DTEND;TZID=America/New_York:20250616T140000
DTSTAMP:20260421T054507
CREATED:20250428T201631Z
LAST-MODIFIED:20250428T201631Z
UID:13936-1750078800-1750082400@artsconnectva.org
SUMMARY:Oyster Shell Painting with Vivian Davis
DESCRIPTION:See Flyer
URL:https://artsconnectva.org/event/oyster-shell-painting-with-vivian-davis/
LOCATION:VA
CATEGORIES:Outreach Program
END:VEVENT
BEGIN:VEVENT
DTSTART;TZID=America/New_York:20250616T140000
DTEND;TZID=America/New_York:20250616T150000
DTSTAMP:20260421T054507
CREATED:20250528T145050Z
LAST-MODIFIED:20250528T145050Z
UID:14309-1750082400-1750086000@artsconnectva.org
SUMMARY:Tote Painting with Stephanie Slate
DESCRIPTION:See Flyer
URL:https://artsconnectva.org/event/tote-painting-with-stephanie-slate/
LOCATION:Norfolk\, VA\, Norfolk\, VA\, United States
CATEGORIES:Outreach Program
END:VEVENT
BEGIN:VEVENT
DTSTART;TZID=America/New_York:20250616T183000
DTEND;TZID=America/New_York:20250616T203000
DTSTAMP:20260421T054507
CREATED:20250530T152213Z
LAST-MODIFIED:20250530T152213Z
UID:14446-1750098600-1750105800@artsconnectva.org
SUMMARY:Introduction to Trumpet with Chad McGill
DESCRIPTION:
URL:https://artsconnectva.org/event/introduction-to-trumpet-with-chad-mcgill/
LOCATION:VA
CATEGORIES:Outreach Program
END:VEVENT
END:VCALENDAR