BEGIN:VCALENDAR
VERSION:2.0
PRODID:-//ArtsConnect Virginia - ECPv6.15.20//NONSGML v1.0//EN
CALSCALE:GREGORIAN
METHOD:PUBLISH
X-WR-CALNAME:ArtsConnect Virginia
X-ORIGINAL-URL:https://artsconnectva.org
X-WR-CALDESC:Events for ArtsConnect Virginia
REFRESH-INTERVAL;VALUE=DURATION:PT1H
X-Robots-Tag:noindex
X-PUBLISHED-TTL:PT1H
BEGIN:VTIMEZONE
TZID:America/New_York
BEGIN:DAYLIGHT
TZOFFSETFROM:-0500
TZOFFSETTO:-0400
TZNAME:EDT
DTSTART:20240310T070000
END:DAYLIGHT
BEGIN:STANDARD
TZOFFSETFROM:-0400
TZOFFSETTO:-0500
TZNAME:EST
DTSTART:20241103T060000
END:STANDARD
BEGIN:DAYLIGHT
TZOFFSETFROM:-0500
TZOFFSETTO:-0400
TZNAME:EDT
DTSTART:20250309T070000
END:DAYLIGHT
BEGIN:STANDARD
TZOFFSETFROM:-0400
TZOFFSETTO:-0500
TZNAME:EST
DTSTART:20251102T060000
END:STANDARD
BEGIN:DAYLIGHT
TZOFFSETFROM:-0500
TZOFFSETTO:-0400
TZNAME:EDT
DTSTART:20260308T070000
END:DAYLIGHT
BEGIN:STANDARD
TZOFFSETFROM:-0400
TZOFFSETTO:-0500
TZNAME:EST
DTSTART:20261101T060000
END:STANDARD
END:VTIMEZONE
BEGIN:VEVENT
DTSTART;TZID=America/New_York:20250613T104500
DTEND;TZID=America/New_York:20250613T114500
DTSTAMP:20260419T131540
CREATED:20250527T162553Z
LAST-MODIFIED:20250527T162553Z
UID:14290-1749811500-1749815100@artsconnectva.org
SUMMARY:Move and Groove with NewMan Fitness
DESCRIPTION:See Flyer
URL:https://artsconnectva.org/event/move-and-groove-with-newman-fitness-2/
LOCATION:VA
CATEGORIES:Outreach Program
END:VEVENT
BEGIN:VEVENT
DTSTART;TZID=America/New_York:20250613T120000
DTEND;TZID=America/New_York:20250613T130000
DTSTAMP:20260419T131540
CREATED:20250509T181942Z
LAST-MODIFIED:20250509T181942Z
UID:14170-1749816000-1749819600@artsconnectva.org
SUMMARY:Summer Bash Party with Art Rowe
DESCRIPTION:See Flyer \nEvent Location:  The Commons at Chesapeake Apartments: 116 Gainsborough Sq. Suite 112\, Chesapeake\, VA 23320
URL:https://artsconnectva.org/event/summer-bash-party-with-art-rowe/
LOCATION:The Commons at Chesapeake\, 116 Gainsborough Square\, Chesapeake\, VA\, 23320\, United States
CATEGORIES:Open to the Public,Outreach Program
END:VEVENT
BEGIN:VEVENT
DTSTART;TZID=America/New_York:20250613T140000
DTEND;TZID=America/New_York:20250613T150000
DTSTAMP:20260419T131540
CREATED:20250527T163808Z
LAST-MODIFIED:20250527T163808Z
UID:14294-1749823200-1749826800@artsconnectva.org
SUMMARY:Health and Fitness with Fit Goddess Tribe
DESCRIPTION:See Flyer
URL:https://artsconnectva.org/event/health-and-fitness-with-fit-goddess-tribe/
LOCATION:Ghent Health and Rehabilitation Center\, 3900 Llewellyn Avenue\, Norfolk\, VA\, 23504\, United States
CATEGORIES:Open to the Public,Outreach Program
END:VEVENT
BEGIN:VEVENT
DTSTART;TZID=America/New_York:20250613T140000
DTEND;TZID=America/New_York:20250613T150000
DTSTAMP:20260419T131540
CREATED:20250529T155859Z
LAST-MODIFIED:20250529T155859Z
UID:14426-1749823200-1749826800@artsconnectva.org
SUMMARY:Flute & Violin Duet with Ascension Melodies
DESCRIPTION:See Flyer
URL:https://artsconnectva.org/event/flute-violin-duet-with-ascension-melodies/
LOCATION:VA
CATEGORIES:Outreach Program
END:VEVENT
BEGIN:VEVENT
DTSTART;TZID=America/New_York:20250613T140000
DTEND;TZID=America/New_York:20250613T150000
DTSTAMP:20260419T131540
CREATED:20250530T145648Z
LAST-MODIFIED:20250530T145648Z
UID:14440-1749823200-1749826800@artsconnectva.org
SUMMARY:Father's Days Oldies with Mary Saunders
DESCRIPTION:Mary has been playing guitar since she was ten years old. She calls herself an old “folkie” who loves to lead sing along. Mary enjoys it best when people are smiling and singing with her. Mary is well known in the local open mic music community. Mary Saunders plays guitar and sings popular songs from the 40s to the 80s. She brings rhythm instruments to encourage the participants to sing and move with the music. Mary has casual performances filled with lots of stories and laughs.
URL:https://artsconnectva.org/event/fathers-days-oldies-with-mary-saunders/
LOCATION:VA
CATEGORIES:Outreach Program
END:VEVENT
BEGIN:VEVENT
DTSTART;TZID=America/New_York:20250613T140000
DTEND;TZID=America/New_York:20250613T150000
DTSTAMP:20260419T131540
CREATED:20250530T150850Z
LAST-MODIFIED:20250530T150850Z
UID:14442-1749823200-1749826800@artsconnectva.org
SUMMARY:Sing-Along Pop from the 60's to 80's with Bryan Martin
DESCRIPTION:Bryan is a Virginia Beach native who loves to sing and play guitar and banjo for 20 years. He is always excited to share his gifts and talents with others. Loves life and doesn’t care if you are laughing with him or at him as long as\, you are smiling. His program include a Country\, Bluegrass\, Gospel\, sing along\, pop from the 60s-today
URL:https://artsconnectva.org/event/sing-along-pop-from-the-60s-to-80s-with-bryan-martin/
LOCATION:VA
CATEGORIES:Outreach Program
END:VEVENT
BEGIN:VEVENT
DTSTART;TZID=America/New_York:20250613T143000
DTEND;TZID=America/New_York:20250613T153000
DTSTAMP:20260419T131540
CREATED:20250528T143536Z
LAST-MODIFIED:20250528T143536Z
UID:14304-1749825000-1749828600@artsconnectva.org
SUMMARY:Watermelon Slice with Maggie Kerrigan
DESCRIPTION:Maggie Kerrigan is an award-winning visual artist with an extensive background in both art and education. She understands the adult learner and knows how to adjust for a variety of situations\, including physical and mental limitations.  Maggie leads groups in guided painting activities that include plenty of discussion. The projects are designed for maximum success with people who have never painted before. She is patient and guides the participants step by step.
URL:https://artsconnectva.org/event/watermelon-slice-with-maggie-kerrigan/
LOCATION:VA
CATEGORIES:Outreach Program
END:VEVENT
BEGIN:VEVENT
DTSTART;TZID=America/New_York:20250613T150000
DTEND;TZID=America/New_York:20250613T160000
DTSTAMP:20260419T131540
CREATED:20250509T200213Z
LAST-MODIFIED:20250509T200213Z
UID:14182-1749826800-1749830400@artsconnectva.org
SUMMARY:AIR Dry Clay with Heidi Ordaz
DESCRIPTION:See Flyer
URL:https://artsconnectva.org/event/air-dry-clay-with-heidi-ordaz-2/
LOCATION:VA
CATEGORIES:Outreach Program
END:VEVENT
BEGIN:VEVENT
DTSTART;TZID=America/New_York:20250613T170000
DTEND;TZID=America/New_York:20250613T180000
DTSTAMP:20260419T131540
CREATED:20250509T173052Z
LAST-MODIFIED:20250509T173052Z
UID:14167-1749834000-1749837600@artsconnectva.org
SUMMARY:PRIDEfull Tape Painting with Adrienne Searle
DESCRIPTION:See Flyer \nLocation:  Norfolk Public Library-Barron R. Branch- 6700E Tanner Creek Drive\, Norfolk\, VA \nContact @ Library: Joseph Daniels\, (757) 441-5806
URL:https://artsconnectva.org/event/pridefull-tape-painting-with-adrienne-searle/
LOCATION:Barron F. Black Branch Library\, 6700 E Tanners Creek Dr\, Norfolk\, VA\, 23513\, United States
CATEGORIES:Open to the Public,Outreach Program
END:VEVENT
END:VCALENDAR