BEGIN:VCALENDAR
VERSION:2.0
PRODID:-//ArtsConnect Virginia - ECPv6.15.20//NONSGML v1.0//EN
CALSCALE:GREGORIAN
METHOD:PUBLISH
X-ORIGINAL-URL:https://artsconnectva.org
X-WR-CALDESC:Events for ArtsConnect Virginia
REFRESH-INTERVAL;VALUE=DURATION:PT1H
X-Robots-Tag:noindex
X-PUBLISHED-TTL:PT1H
BEGIN:VTIMEZONE
TZID:America/New_York
BEGIN:DAYLIGHT
TZOFFSETFROM:-0500
TZOFFSETTO:-0400
TZNAME:EDT
DTSTART:20240310T070000
END:DAYLIGHT
BEGIN:STANDARD
TZOFFSETFROM:-0400
TZOFFSETTO:-0500
TZNAME:EST
DTSTART:20241103T060000
END:STANDARD
BEGIN:DAYLIGHT
TZOFFSETFROM:-0500
TZOFFSETTO:-0400
TZNAME:EDT
DTSTART:20250309T070000
END:DAYLIGHT
BEGIN:STANDARD
TZOFFSETFROM:-0400
TZOFFSETTO:-0500
TZNAME:EST
DTSTART:20251102T060000
END:STANDARD
BEGIN:DAYLIGHT
TZOFFSETFROM:-0500
TZOFFSETTO:-0400
TZNAME:EDT
DTSTART:20260308T070000
END:DAYLIGHT
BEGIN:STANDARD
TZOFFSETFROM:-0400
TZOFFSETTO:-0500
TZNAME:EST
DTSTART:20261101T060000
END:STANDARD
END:VTIMEZONE
BEGIN:VEVENT
DTSTART;TZID=America/New_York:20250607T110000
DTEND;TZID=America/New_York:20250607T143000
DTSTAMP:20260418T204733
CREATED:20250529T152421Z
LAST-MODIFIED:20250529T152421Z
UID:14393-1749294000-1749306600@artsconnectva.org
SUMMARY:Color Our World Event with Susan Owen
DESCRIPTION:See Flyer
URL:https://artsconnectva.org/event/color-our-world-event-with-susan-owen/
LOCATION:Jordan-Newby Anchor Branch Library\, 1425 Norchester Ave\, Norfolk\, VA\, 23504\, United States
CATEGORIES:Open to the Public,Outreach Program
END:VEVENT
BEGIN:VEVENT
DTSTART;TZID=America/New_York:20250607T173000
DTEND;TZID=America/New_York:20250607T183000
DTSTAMP:20260418T204733
CREATED:20250528T142254Z
LAST-MODIFIED:20250528T142254Z
UID:14299-1749317400-1749321000@artsconnectva.org
SUMMARY:Bowl Glazing with Camille Donne
DESCRIPTION:Camille teaches art with both humor and patience. She has extensive experience working with neurodiverse individuals. She has a warm and welcoming personality and enables students to feel successful no matter their level of experience.  Camille Donne teaches watercolor and acrylic painting\, collage\, and most visual art techniques. Her specialty is teaching pottery.
URL:https://artsconnectva.org/event/bowl-glazing-with-camille-donne/
LOCATION:Newport News\, VA\, Newport News\, VA\, United States
CATEGORIES:Outreach Program
END:VEVENT
END:VCALENDAR