BEGIN:VCALENDAR
VERSION:2.0
PRODID:-//ArtsConnect Virginia - ECPv6.15.20//NONSGML v1.0//EN
CALSCALE:GREGORIAN
METHOD:PUBLISH
X-ORIGINAL-URL:https://artsconnectva.org
X-WR-CALDESC:Events for ArtsConnect Virginia
REFRESH-INTERVAL;VALUE=DURATION:PT1H
X-Robots-Tag:noindex
X-PUBLISHED-TTL:PT1H
BEGIN:VTIMEZONE
TZID:America/New_York
BEGIN:DAYLIGHT
TZOFFSETFROM:-0500
TZOFFSETTO:-0400
TZNAME:EDT
DTSTART:20240310T070000
END:DAYLIGHT
BEGIN:STANDARD
TZOFFSETFROM:-0400
TZOFFSETTO:-0500
TZNAME:EST
DTSTART:20241103T060000
END:STANDARD
BEGIN:DAYLIGHT
TZOFFSETFROM:-0500
TZOFFSETTO:-0400
TZNAME:EDT
DTSTART:20250309T070000
END:DAYLIGHT
BEGIN:STANDARD
TZOFFSETFROM:-0400
TZOFFSETTO:-0500
TZNAME:EST
DTSTART:20251102T060000
END:STANDARD
BEGIN:DAYLIGHT
TZOFFSETFROM:-0500
TZOFFSETTO:-0400
TZNAME:EDT
DTSTART:20260308T070000
END:DAYLIGHT
BEGIN:STANDARD
TZOFFSETFROM:-0400
TZOFFSETTO:-0500
TZNAME:EST
DTSTART:20261101T060000
END:STANDARD
END:VTIMEZONE
BEGIN:VEVENT
DTSTART;TZID=America/New_York:20250523T103000
DTEND;TZID=America/New_York:20250523T113000
DTSTAMP:20260419T114125
CREATED:20250507T203750Z
LAST-MODIFIED:20250507T203750Z
UID:14072-1747996200-1747999800@artsconnectva.org
SUMMARY:Music & Memories with Adrienne Searle
DESCRIPTION:In her encore career\, Adrienne is forging a path she loves by pairing her passion and talents for music and art with the needs and desires of the ever-aging population.  She has created two music programs\, Sing-along to hits of the 50’s & 60’s\, and the other music program is called Melody Memories.  Her visual arts programs include acrylic paints\, paint pens\, watercolors\, and more.
URL:https://artsconnectva.org/event/music-memories-with-adrienne-searle/
LOCATION:VA
CATEGORIES:Outreach Program
END:VEVENT
BEGIN:VEVENT
DTSTART;TZID=America/New_York:20250523T110000
DTEND;TZID=America/New_York:20250523T170000
DTSTAMP:20260419T114125
CREATED:20250509T150551Z
LAST-MODIFIED:20250509T150551Z
UID:14161-1747998000-1748019600@artsconnectva.org
SUMMARY:Line Dancing with Valerie Mosby
DESCRIPTION:See Flyer
URL:https://artsconnectva.org/event/line-dancing-with-valerie-mosby-3/
LOCATION:Portsmouth\, VA\, Portsmouth\, VA\, United States
CATEGORIES:Outreach Program
END:VEVENT
BEGIN:VEVENT
DTSTART;TZID=America/New_York:20250523T130000
DTEND;TZID=America/New_York:20250523T140000
DTSTAMP:20260419T114125
CREATED:20250423T160353Z
LAST-MODIFIED:20250423T160353Z
UID:13868-1748005200-1748008800@artsconnectva.org
SUMMARY:Spring Painting with Valerie Mosby
DESCRIPTION:See Flyer
URL:https://artsconnectva.org/event/spring-painting-with-valerie-mosby/
LOCATION:VA
CATEGORIES:Outreach Program
END:VEVENT
BEGIN:VEVENT
DTSTART;TZID=America/New_York:20250523T140000
DTEND;TZID=America/New_York:20250523T150000
DTSTAMP:20260419T114125
CREATED:20250423T200713Z
LAST-MODIFIED:20250523T161144Z
UID:13889-1748008800-1748012400@artsconnectva.org
SUMMARY:Rock and Roll with Mark Pettiford
DESCRIPTION:View Flyer
URL:https://artsconnectva.org/event/motown-memories-more-with-richard-mekdeci-2/
LOCATION:VA
CATEGORIES:Outreach Program
END:VEVENT
BEGIN:VEVENT
DTSTART;TZID=America/New_York:20250523T140000
DTEND;TZID=America/New_York:20250523T150000
DTSTAMP:20260419T114125
CREATED:20250428T141540Z
LAST-MODIFIED:20250507T204254Z
UID:13911-1748008800-1748012400@artsconnectva.org
SUMMARY:Unplugged Classics with Will Brooks
DESCRIPTION:See Flyer
URL:https://artsconnectva.org/event/unplugged-classics-with-brooks/
LOCATION:VA
CATEGORIES:Outreach Program
END:VEVENT
BEGIN:VEVENT
DTSTART;TZID=America/New_York:20250523T140000
DTEND;TZID=America/New_York:20250523T150000
DTSTAMP:20260419T114125
CREATED:20250507T204113Z
LAST-MODIFIED:20250507T204113Z
UID:14074-1748008800-1748012400@artsconnectva.org
SUMMARY:Happy Hour with Bryan Martin
DESCRIPTION:Bryan Martin is a Virginia Beach native who loves to sing and play guitar. He is always excited to share his gifts and talents with others. Loves life and doesn’t care if you are laughing with him or at him as long as\, you are smiling. \n 
URL:https://artsconnectva.org/event/happy-hour-with-bryan-martin-15/
LOCATION:VA
CATEGORIES:Outreach Program
END:VEVENT
BEGIN:VEVENT
DTSTART;TZID=America/New_York:20250523T140000
DTEND;TZID=America/New_York:20250523T150000
DTSTAMP:20260419T114125
CREATED:20250520T151452Z
LAST-MODIFIED:20250520T151452Z
UID:14194-1748008800-1748012400@artsconnectva.org
SUMMARY:Rock'n Bop with Adrienne Searle
DESCRIPTION:See Flyer \nOpen to Public\, Contact: Kathryn Shear\, (757) 263-3138  \nLocation:  Jone & Cabacoy Veteran Care Center: 2641 Nimmo Parkway\, Virginia Beach\, VA 23456
URL:https://artsconnectva.org/event/rockn-bop-with-adrienne-searle/
LOCATION:VA
CATEGORIES:Open to the Public,Outreach Program
END:VEVENT
BEGIN:VEVENT
DTSTART;TZID=America/New_York:20250523T150000
DTEND;TZID=America/New_York:20250523T160000
DTSTAMP:20260419T114125
CREATED:20250507T204509Z
LAST-MODIFIED:20250507T204509Z
UID:14077-1748012400-1748016000@artsconnectva.org
SUMMARY:Patriotic Celebration with Dan Smith
DESCRIPTION:Dan Smith is a native of Long Island\, New York. Formal music training at Manhattan School of Music in NYC. Retired from the U S Army band field\, Ft Monroe\, VA. Served as oboe instructor and head of the woodwind branch of the Armed Forces School of Music\, Little Creek\, VA.  Primarily popular music of the 1950s and “60s including Elvis and other iconic musicians of the time. Additional programs include Motown\, Oktoberfest\, and Mardi Gras. As a single with keyboard/Vocals or duo with saxophone or trumpet
URL:https://artsconnectva.org/event/patriotic-celebration-with-dan-smith/
LOCATION:Chesapeake\, VA\, Chesapeake\, VA\, United States
CATEGORIES:Outreach Program
END:VEVENT
END:VCALENDAR