BEGIN:VCALENDAR
VERSION:2.0
PRODID:-//ArtsConnect Virginia - ECPv6.15.20//NONSGML v1.0//EN
CALSCALE:GREGORIAN
METHOD:PUBLISH
X-WR-CALNAME:ArtsConnect Virginia
X-ORIGINAL-URL:https://artsconnectva.org
X-WR-CALDESC:Events for ArtsConnect Virginia
REFRESH-INTERVAL;VALUE=DURATION:PT1H
X-Robots-Tag:noindex
X-PUBLISHED-TTL:PT1H
BEGIN:VTIMEZONE
TZID:America/New_York
BEGIN:DAYLIGHT
TZOFFSETFROM:-0500
TZOFFSETTO:-0400
TZNAME:EDT
DTSTART:20240310T070000
END:DAYLIGHT
BEGIN:STANDARD
TZOFFSETFROM:-0400
TZOFFSETTO:-0500
TZNAME:EST
DTSTART:20241103T060000
END:STANDARD
BEGIN:DAYLIGHT
TZOFFSETFROM:-0500
TZOFFSETTO:-0400
TZNAME:EDT
DTSTART:20250309T070000
END:DAYLIGHT
BEGIN:STANDARD
TZOFFSETFROM:-0400
TZOFFSETTO:-0500
TZNAME:EST
DTSTART:20251102T060000
END:STANDARD
BEGIN:DAYLIGHT
TZOFFSETFROM:-0500
TZOFFSETTO:-0400
TZNAME:EDT
DTSTART:20260308T070000
END:DAYLIGHT
BEGIN:STANDARD
TZOFFSETFROM:-0400
TZOFFSETTO:-0500
TZNAME:EST
DTSTART:20261101T060000
END:STANDARD
END:VTIMEZONE
BEGIN:VEVENT
DTSTART;TZID=America/New_York:20250516T104500
DTEND;TZID=America/New_York:20250516T114500
DTSTAMP:20260419T113745
CREATED:20250507T175959Z
LAST-MODIFIED:20250507T175959Z
UID:14002-1747392300-1747395900@artsconnectva.org
SUMMARY:Move and Groove with Tanecia Newman
DESCRIPTION:See Flyer
URL:https://artsconnectva.org/event/move-and-groove-with-tanecia-newman-2/
LOCATION:VA
CATEGORIES:Outreach Program
END:VEVENT
BEGIN:VEVENT
DTSTART;TZID=America/New_York:20250516T130000
DTEND;TZID=America/New_York:20250516T140000
DTSTAMP:20260419T113745
CREATED:20250507T180912Z
LAST-MODIFIED:20250507T180912Z
UID:14005-1747400400-1747404000@artsconnectva.org
SUMMARY:Iris Folding Craft with Shanda Teague
DESCRIPTION:Shanda has worked in the Arts for almost 10- years.  She has been crafty for most of her life and loves learning new things and making things with her hands.  She is an amazing virtual artist. \nCall the Main Street Library to register:  Jacqueline Brown-Whitley\, (757) 591-4858 Limited number of participants available. 
URL:https://artsconnectva.org/event/iris-folding-craft-with-shanda-teague/
LOCATION:Main Street Library\, 110 Main Street\, Newport News\, VA\, 23601\, United States
CATEGORIES:Open to the Public,Outreach Program
END:VEVENT
BEGIN:VEVENT
DTSTART;TZID=America/New_York:20250516T130000
DTEND;TZID=America/New_York:20250516T140000
DTSTAMP:20260419T113745
CREATED:20250507T181311Z
LAST-MODIFIED:20250507T181311Z
UID:14007-1747400400-1747404000@artsconnectva.org
SUMMARY:Magic and Mentalism with Sean McKenzie
DESCRIPTION:See Flyer
URL:https://artsconnectva.org/event/magic-and-mentalism-with-sean-mckenzie/
LOCATION:VA
CATEGORIES:Outreach Program
END:VEVENT
BEGIN:VEVENT
DTSTART;TZID=America/New_York:20250516T140000
DTEND;TZID=America/New_York:20250516T150000
DTSTAMP:20260419T113745
CREATED:20250507T181549Z
LAST-MODIFIED:20250507T181549Z
UID:14010-1747404000-1747407600@artsconnectva.org
SUMMARY:Music & Memories and Adrienne Searle
DESCRIPTION:See Flyer
URL:https://artsconnectva.org/event/music-memories-and-adrienne-searle/
LOCATION:VA
CATEGORIES:Outreach Program
END:VEVENT
BEGIN:VEVENT
DTSTART;TZID=America/New_York:20250516T140000
DTEND;TZID=America/New_York:20250516T150000
DTSTAMP:20260419T113745
CREATED:20250507T181839Z
LAST-MODIFIED:20250507T181839Z
UID:14013-1747404000-1747407600@artsconnectva.org
SUMMARY:Flower Power with Maggie Kerrigan
DESCRIPTION:See Flyer
URL:https://artsconnectva.org/event/flower-power-with-maggie-kerrigan-3/
LOCATION:VA
CATEGORIES:Outreach Program
END:VEVENT
BEGIN:VEVENT
DTSTART;TZID=America/New_York:20250516T140000
DTEND;TZID=America/New_York:20250516T150000
DTSTAMP:20260419T113745
CREATED:20250507T182807Z
LAST-MODIFIED:20250507T182807Z
UID:14018-1747404000-1747407600@artsconnectva.org
SUMMARY:Singing the Classics with Ava Stevenson
DESCRIPTION:See Flyer
URL:https://artsconnectva.org/event/singing-the-classics-with-ava-stevenson/
LOCATION:VA
CATEGORIES:Outreach Program
END:VEVENT
BEGIN:VEVENT
DTSTART;TZID=America/New_York:20250516T140000
DTEND;TZID=America/New_York:20250516T150000
DTSTAMP:20260419T113745
CREATED:20250507T182944Z
LAST-MODIFIED:20250507T182944Z
UID:14021-1747404000-1747407600@artsconnectva.org
SUMMARY:Tape Painting with Heidi Ordaz
DESCRIPTION:See Flyer
URL:https://artsconnectva.org/event/tape-painting-with-heidi-ordaz/
LOCATION:VA
CATEGORIES:Outreach Program
END:VEVENT
BEGIN:VEVENT
DTSTART;TZID=America/New_York:20250516T150000
DTEND;TZID=America/New_York:20250516T160000
DTSTAMP:20260419T113745
CREATED:20250507T183450Z
LAST-MODIFIED:20250507T183450Z
UID:14024-1747407600-1747411200@artsconnectva.org
SUMMARY:Songs through the Decades with Karen Stowe
DESCRIPTION:Karen Stowe has been bringing her unique gift of soothing harp music to Tidewater are for nearly 20 years.  She is a Certified Music Practitioner and have unique monthly set list of harp songs to reflect a theme\, holiday of the month.  Karen welcomes you to sing\, clap or laugh along\, or simply sit in silence and listen.
URL:https://artsconnectva.org/event/songs-through-the-decades-with-karen-stowe-2/
LOCATION:VA
CATEGORIES:Outreach Program
END:VEVENT
END:VCALENDAR